Workbook
Name _GoBack: 'Invoice - Direct Charge Costs'!$D$14
Name _NEC10: '[1]Non-Enhanced MAA Codes'!$A$5
Name _NEC10: 'Non-Enhanced MAA Codes'!$A$5
Name ECodes: '[1]Enhanced MAA Codes'!$A$2:$A$3
Name ECodes: 'Enhanced MAA Codes'!$A$2:$A$3
Name NECodes: '[1]Non-Enhanced MAA Codes'!$A$2:$A$11
Name NECodes: 'Non-Enhanced MAA Codes'!$A$2:$A$11

Sheet Invoice - Invoice Checklist
C1: State of California—Health and Human Services Agency
C2: Department of Health Care Services
C6: CHECKLIST FOR PREPARING THE COUNTY-BASED MEDI‑CAL
C7: ADMINISTRATIVE ACTIVITIES (CMAA) DETAIL INVOICE
A9: Local Governmental Agency (LGA):______________________________________________________ | D9: ABC County
A10: Claiming Unit: _____________________________________ | C10: Veterans Services | F10: Invoice #:________________________________ | G10: XX - XXXX - 2223 - 3
A12: It is the responsibility of the authorized LGA Coordinator to review all invoices for completeness and accuracy prior to submitting them to the Department of Health Care Services (DHCS). Upon DHCS's review, non-compliant invoices per federal and state requirements will not be processed for payment and will require a correction. Each CMAA Detail Invoice must be submitted with a completed checklist verifying the following items have been reviewed by the LGA Coordinator before DHCS will process them for payment:
A13: Checklist Items
B14: 1. Approved Comprehensive Claiming Unit Grid and Claiming Unit Function Grid(s) on file.
B15: 2. Participants have completed the perpetual time survey or submitted a certificate for the amount of time direct charged to a CMAA activity.
B16: 3. Current invoice template provided by DHCS is used.
B17: 4. Corrected authorized LGA Coordinator name on the invoice.
B18: 5. Correctly formatted on LGA letterhead for the LGA under contract with DHCS.
B19: 6.Ensure that the LGA name, Contract Number, Period of Service, Program/Department, Claiming Unit, and Invoice Number on the Invoice Summary page are correct and are listed consistently throughout the entire invoice.
B20: 7. Claiming Unit Name matches the name on the Claiming Unit Function Grid (CUFG) and the Comprehensive Claiming Unit Grid (CCUG).
B21: 8. A corrected or revised invoice is correctly numbered. For CMAA only** (If the invoice is a Correction, add -1C, -2C etc. If the invoice is a Revision, add -1R, -2R, etc. If unsure, call your program analyst for instructions.) "Correction" is used for changes to invoices that have not yet been paid; "revision" is used if the original invoice has been paid.
B22: 9. Methodology used to determine the Medi-Cal discount percentage is consistent with the Claiming Unit Function Grid
B23: 10. An explanation is provided for any totals listed within the invoice that appear as "Error" or "####"
B24: 11. Variance Form -- If the total invoice has a variance of more than 20% (plus or minus) change in the reimbursement amount and/ or the ACC than the previous quarter or the same quarter in the previous year, the applicable variance forms have been completed.
B25: 12. Required supporting documentation attached for processing: Cost Pools (CP) 1,2,3,4,5, and 6 support must include staff names, classifications, salaries and benefits claimed. An organization chart with names and classifications of staff being claimed in CP 1,2, and 6.
... B31: 18. The number of time survey participants on the TS results tab matches the number of staff who reported CMAA activity on their quarterly time study.
A43: Email the original claim electronically to the LGA's assigned CMAA analyst.
A45: Mail the original claim to DHCS to:
A47: U.S. Mail: | F47: Overnight Mail:
A48: Attn: (Program Analyst) | F48: Attn: (Program Analyst)
A49: Department of Health Care Services | F49: Department of Health Care Services
A50: County-Based Medi-Cal Administrative Activities | F50: County-Based Medi-Cal Administrative Activities
A51: 1501 Capitol Avenue, Suite 71.2203, MS 2628 | F51: 1501 Capitol Avenue, Suite 71.2203, MS 2628
A52: Sacramento, CA 95899-7436 | F52: Sacramento, CA 95814
A56: Sign and date to confirm all Invoice Checklist items have been reviewed prior to submission
A58: __________________________ | B58: LGA COORD FIRST & LAST NAME | D58: _____________________________ | G58: _____________
A59: Print Name of Authorized LGA Coordinator | D59: Signature of Authorized LGA Coordinator | G59: Date
I60: ='[1]Invoice - Summary Page'!L32 -> Rev.10/11/22 DHCS/LGFD

Sheet Invoice - Summary Page
A1: (delete this text) *PRINT ON LGA LETTERHEAD* (delete this text)
A2: COUNTY-BASED MEDI-CAL ADMINISTRATIVE ACTIVITIES (CMAA) - INVOICE SUMMARY
A4: Local Governmental Agency: | D4: ABC County | H4: Program/Department: | J4: Veterans Services
A6: Contract Number: | D6: DHCS CMAA Evergreen PA-ABC | H6: Claiming Unit: | J6: Veterans Services
A8: Period of Service: | D8: 01/01/2023-03/31/2023 | H8: Invoice Number: | J8: XX - XXXX - 2223 - 3
A10: COST CATEGORIES | F10: =IF(ISNUMBER(SEARCH("R",J8)), "Original Inv. Amt.", " ") | J10: =IF(ISNUMBER(FIND("R",J8)), "Revised Inv. Amt.", " ")
B11: Total Amount to be Reimbursed at 50% | H11: =ROUND('Invoice - Claim Calculation'!E76,0) -> 14468 | J11: =IF(F11>=1,H11-F11," ")
B13: Total Amount to be Reimbursed at 75% for Skilled Professional Medical Personnel (SPMP) costs ONLY | H13: =ROUND('Invoice - Claim Calculation'!F76,0) -> 0 | J13: =IF(F13>=1, H13-F13, " ")
B15: Total amount of Fed. Govt. Reimbursement | H15: =SUM(H11,H13) -> 14468 | J15: =IF(F15>=1, J11+J13, " ") | K15: =IF(J15<=-1,"Due to the State"," ")
G16: =IF('Invoice - Claim Calculation'!B76="NON-COMPLIANT", "CPE RESTRICTED", " ")
A17: I HEREBY CERTIFY under penalty of perjury that: 1) I am the official responsible for the administration, examination, and settlement of accounts concerning Medi-Cal Administrative Activities for the above-named agency and am authorized to make this certification on behalf of the agency. 2) Each expenditure is in all respects true, correct, and in accordance with state and federal law, and regulation, including Section 1903(a) of the Social Security Act and 42 C.F.R. Section 433.51. 3) The expenditures certified are based on actual, total expenditures of public funds that have been made to eligible Medi-Cal beneficiaries pursuant to all applicable requirements of federal law and regulation. 4) The LGA maintains documentation supporting these expenditures. This documentation includes all fiscal records required for Medi-Cal field audits. 5) The expenditures certified are allowable Medi-Cal costs in accordance with all applicable requirements of federal law and regulation. 6) The expenditures certified have not previously been, nor will they be, certified at any other time to receive federal financial participation under Medi-Cal or any other program (unless being resubmitted under correction or revision). 7) The costs certified in this invoice have not been paid in an all-inclusive or capitation rate. I understand that the State of California must deny payment of any invoice submitted if it determines the certification is not adequately supported for purposes of claiming federal financial participation. I have notice that this information is to be used for filing of a claim with the federal government for federal financial participation and that a knowing misrepresentation constitutes a violation of the federal and state False Claims Acts.
A18: LGA COORD FIRST AND LAST NAME
A19: Printed Name of LGA Coordinator | I19: Signature of LGA Coordinator
A20: FISCAL ANALYST | I20: 45214
A21: Title | I21: Date Signed & Generated
A23: Remit Payment To: | D23: Agency Name Street City, CA, Zip
A27: For DHCS Program use only
A28: REVIEWED BY: | F28: FI$CAL CODE: | I28: -4260YA0F-5432000-603-95918-9990-0912
H29: FY
A30: ANALYST INITIALS | H30: CALSTARS CODE: | J30: -95918-9912-702-42-60 LGA
I31: FY
L32: Rev.10/11/22 DHCS/LGFD

Sheet Invoice - T.S. Results Summary
A1: Local Governmental Agency: | C1: ='Invoice - Summary Page'!D4 -> ABC County | H1: Program/Department: | J1: ='Invoice - Summary Page'!J4 -> Veterans Services
A2: Contract Number: | C2: ='Invoice - Summary Page'!D6 -> DHCS CMAA Evergreen PA-ABC | H2: Claiming Unit: | J2: ='Invoice - Summary Page'!J6 -> Veterans Services
A3: Period of Service: | C3: ='Invoice - Summary Page'!D8 -> 01/01/2023-03/31/2023 | H3: Invoice Number: | J3: ='Invoice - Summary Page'!J8 -> XX - XXXX - 2223 - 3
A5: Code | B5: Description | H5: SPMP Total Hours | I5: SPMP Activity % | J5: Non-SPMP Total Hours | K5: Non-SPMP Activity % | L5: Medi-Cal % | M5: Method Used
A6: 1 | B6: Other Programs/Activities | I6: =IF(H38=0,0,H6/H38) -> 0 | J6: 640 | K6: =IF(J38=0,0,J6/J38) -> 0.48156509
A7: 2 | B7: Direct Patient Care | I7: =IF(H38=0,0,H7/H38) -> 0 | J7: 0 | K7: =IF(J38=0,0,J7/J38) -> 0
A8: 3 | B8: Outreach to Non Medi-Cal Programs | I8: =IF(H38=0,0,H8/H38) -> 0 | J8: 0 | K8: =IF(J38=0,0,J8/J38) -> 0
A9: 4 | B9: Medi-Cal Outreach | I9: =IF(H38=0,0,H9/H38) -> 0 | J9: 129 | K9: =IF(J38=0,0,J9/J38) -> 0.097065463 | L9: 1
A10: 5 | B10: Referral, Coordination, and Monitoring of Non Medi-Cal Services | I10: =IF(H38=0,0,H10/H38) -> 0 | J10: 0 | K10: =IF(J38=0,0,J10/J38) -> 0
A11: 6 | B11: Referral, Coordination, and Monitoring of Medi-Cal Services | I11: =IF(H38=0,0,H11/H38) -> 0 | J11: 268.5 | K11: =IF(J38=0,0,J11/J38) -> 0.2020316 | L11: 0.25 | M11: CWA
A12: 7 | B12: Facilitating Non Med-Cal Application | I12: =IF(H38=0,0,H12/H38) -> 0 | J12: 16 | K12: =IF(J38=0,0,J12/J38) -> 0.012039127
A13: 8 | B13: Facilitating Med-Cal Application | I13: =IF(H38=0,0,H13/H38) -> 0 | J13: 23 | K13: =IF(J38=0,0,J13/J38) -> 0.017306245 | L13: 1
A14: 9 | B14: Arranging and/or Providing Non-Emergency, Non-Medical Transportation to a Non Medi-Cal Covered Service | I14: =IF(H38=0,0,H14/H38) -> 0 | J14: 0 | K14: =IF(J38=0,0,J14/J38) -> 0
A15: 10 | B15: Arranging and/or Providing Non-Emergency, Non-Medical Transportation to a Medi-Cal Covered Service | I15: =IF(H38=0,0,H15/H38) -> 0 | J15: 0 | K15: =IF(J38=0,0,J15/J38) -> 0 | L15: 0.25 | M15: CWA
A16: 11 | B16: Contract Administration for Non Medi-Cal Covered Services | I16: =IF(H38=0,0,H16/H38) -> 0 | J16: 0 | K16: =IF(J38=0,0,J16/J38) -> 0
A17: 12 | B17: Contract Administration (A) for Medi-Cal Services specific for Medi-Cal populations | I17: =IF(H38=0,0,H17/H38) -> 0 | J17: 0 | K17: =IF(J38=0,0,J17/J38) -> 0 | L17: 1
A18: 13 | B18: Contract Administration (B) for Medi-Cal Services specific for Medi-Cal and Non Medi-Cal populations | I18: =IF(H38=0,0,H18/H38) -> 0 | J18: 0 | K18: =IF(J38=0,0,J18/J38) -> 0 | L18: 0.25 | M18: CWA
A19: 14 | B19: Program Planning & Policy Development for Non Medi-Cal Services | I19: =IF(H38=0,0,H19/H38) -> 0 | J19: 0 | K19: =IF(J38=0,0,J19/J38) -> 0
A20: 15 | B20: Program Planning & Policy Development (A) (Non-enhanced) for Medi-Cal Services for Medi-Cal clients | I20: =IF(H38=0,0,H20/H38) -> 0 | J20: 0 | K20: =IF(J38=0,0,J20/J38) -> 0 | L20: 1
A21: 16 | B21: Program Planning & Policy Development Skilled Professional Medical Personnel (SPMP) (A) (Enhanced) for Medi-Cal Services for Medi-Cal clients | I21: =IF(H38=0,0,H21/H38) -> 0 | L21: 1
A22: 17 | B22: Program Planning & Policy Development (B) (Non-enhanced) for Medi-Cal Services for Medi-Cal and Non Medi-Cal clients | I22: =IF(H38=0,0,H22/H38) -> 0 | J22: 0 | K22: =IF(J38=0,0,J22/J38) -> 0 | L22: 0.25 | M22: CWA
A23: 18 | B23: Program Planning & Policy Development (SPMP) (B) (Enhanced) for Medi-Cal Services for Medi-Cal and Non Medi-Cal clients | I23: =IF(H38=0,0,H23/H38) -> 0 | L23: 0.25 | M23: CWA
A24: 19 | B24: MAA/TCM Coordination and Claims Administration | I24: =IF(H38=0,0,H24/H38) -> 0 | J24: 0 | K24: =IF(J38=0,0,J24/J38) -> 0 | L24: 1
A25: 20 | B25: MAA/TCM Implementation Training | I25: =IF(H38=0,0,H25/H38) -> 0 | J25: 0.5 | K25: =IF(J38=0,0,J25/J38) -> 0.00037622272 | L25: 1
A26: 21 | B26: General Administration | I26: =IF(H38=0,0,H26/H38) -> 0 | J26: 133.5 | K26: =IF(J38=0,0,J26/J38) -> 0.10045147
A27: 22 | B27: Paid Time Off (PTO) | I27: =IF(H38=0,0,H27/H38) -> 0 | J27: 118.5 | K27: =IF(J38=0,0,J27/J38) -> 0.089164786
A28: 23 | B28: Non-Targeted Case Management (TCM) | I28: =IF(H38=0,0,H28/H38) -> 0 | K28: =IF(J38=0,0,J28/J38) -> 0
A29: 24 | B29: Providing TCM Service Components | I29: =IF(H38=0,0,H29/H38) -> 0 | K29: =IF(J38=0,0,J29/J38) -> 0
A30: 25 | B30: TCM Encounter - Related Activities | I30: =IF(H38=0,0,H30/H38) -> 0 | K30: =IF(J38=0,0,J30/J38) -> 0
A31: 26 | B31: Travel Related to Providing TCM | I31: =IF(H38=0,0,H31/H38) -> 0 | K31: =IF(J38=0,0,J31/J38) -> 0
A32: 27 | B32: Supervision of Case Managers | I32: =IF(H38=0,0,H32/H38) -> 0 | K32: =IF(J38=0,0,J32/J38) -> 0
A33: 28 | B33: Encounter Entry into TCM On-Line System | I33: =IF(H38=0,0,H33/H38) -> 0 | K33: =IF(J38=0,0,J33/J38) -> 0
A34: 29 | B34: TCM Data Systems and Claiming Coordination | I34: =IF(H38=0,0,H34/H38) -> 0 | K34: =IF(J38=0,0,J34/J38) -> 0
A35: 30 | B35: TCM Quality Assurance/Performance Monitoring | I35: =IF(H38=0,0,H35/H38) -> 0 | K35: =IF(J38=0,0,J35/J38) -> 0
A36: 31 | B36: TCM Subcontract Administration | I36: =IF(H38=0,0,H36/H38) -> 0 | K36: =IF(J38=0,0,J36/J38) -> 0
A37: 32 | B37: TCM Program Planning & Policy Development | I37: =IF(H38=0,0,H37/H38) -> 0 | K37: =IF(J38=0,0,J37/J38) -> 0
A38: TOTALS | H38: =SUM(H6:H37) -> 0 | I38: =SUM(I6:I37) -> 0 | J38: =SUM(J6:J37) -> 1329 | K38: =SUM(K6:K37) -> 1
A39: Total Claimable Portion | H39: =SUM(H9,H11,H13,H15,H17:H18,H20:H27) -> 0 | I39: =SUM(I9,I11,I13,I15,I17:I18,I20:I27) -> 0 | J39: =SUM(J9,J11,J13,J15,J17:J18,J20:J27) -> 673 | K39: =SUM(K9,K11,K13,K15,K17:K18,K20:K27) -> 0.50639579
A40: Total Non-Claimable Portion | H40: =SUM(H6:H8,H10,H12,H14,H16,H19,H28:H37) -> 0 | I40: =SUM(I6:I8,I10,I12,I14,I16,I19,I28:I37) -> 0 | J40: =SUM(J6:J8,J10,J12,J14,J16,J19,J28:J37) -> 656 | K40: =SUM(K6:K8,K10,K12,K14,K16,K19,K28:K37) -> 0.49360421
C42: Time Survey Frequency Used to Determine the Activity Percentages: | G42: Number of Participants | H42: Statistical Validity
...

Sheet Invoice - Revenue Worksheet
A1: Local Governmental Agency: | B1: ='Invoice - Summary Page'!$D$4 -> ABC County | F1: Program: | H1: ='Invoice - Summary Page'!$J$4 -> Veterans Services
A2: Contract Number: | B2: ='Invoice - Summary Page'!$D$6 -> DHCS CMAA Evergreen PA-ABC | F2: Claiming Unit: | H2: ='Invoice - Summary Page'!$J$6 -> Veterans Services
A3: Period of Service: | B3: ='Invoice - Summary Page'!$D$8 -> 01/01/2023-03/31/2023 | F3: Invoice #: | H3: ='Invoice - Summary Page'!$J$8 -> XX - XXXX - 2223 - 3
A4: SOURCE and DESCRIPTION | C4: Non Offset Funds | D4: CP#1 | E4: CP#2 | F4: CP#3 (a & b) | G4: CP#4 | H4: CP#5 | I4: CP#6 | J4: TOTAL
D5: SPMP | E5: Non-SPMP | F5: Non-Claimable | G5: Direct-Enhanced | H5: Direct-Non-Enhanced | I5: Allocated | J5: (CPs 1 - 6)
A6: Medi-Cal Fees + Match
A7: Title XIX (% of Exp) MAA Revenue | J7: =SUM(F7:I7) -> 0
A8: Title XIX (% of Exp) TCM Revenue | J8: =SUM(F8:I8) -> 0
A9: Medi-Cal Reimbursement (% of Exp) Directly Observed Therapy | J9: =SUM(F9:I9) -> 0
A10: Total Medi-Cal Fees + Match | C10: =SUM(C7:C9) -> 0 | F10: =SUM(F7:F9) -> 0 | G10: =SUM(G7:G9) -> 0 | H10: =SUM(H7:H9) -> 0 | I10: =SUM(I7:I9) -> 0 | J10: =SUM(F10:I10) -> 0
A11: Federal Grants + Match
A12: Federal Aid (% of Exp) Immunization | J12: =SUM(D12:I12) -> 0
A13: FMAP Federal (% of Exp) | J13: =SUM(D13:I13) -> 0
A14: SOURCE and DESCRIPTION | J14: =SUM(D14:I14) -> 0
A15: Total Federal Grants + Match | C15: =SUM(C12:C14) -> 0 | D15: =SUM(D12:D14) -> 0 | E15: =SUM(E12:E14) -> 0 | F15: =SUM(F12:F14) -> 0 | G15: =SUM(G12:G14) -> 0 | H15: =SUM(H12:H14) -> 0 | I15: =SUM(I12:I14) -> 0 | J15: =SUM(D15:I15) -> 0
A16: State General Fund
A17: State - Other (% of Exp) - Immunization | J17: =SUM(D17:I17) -> 0
A18: SOURCE and DESCRIPTION | J18: =SUM(D18:I18) -> 0
A19: SOURCE and DESCRIPTION | J19: =SUM(D19:I19) -> 0
A20: Total State General Fund | C20: =SUM(C17:C19) -> 0 | D20: =SUM(D17:D19) -> 0 | E20: =SUM(E17:E19) -> 0 | F20: =SUM(F17:F19) -> 0 | G20: =SUM(G17:G19) -> 0 | H20: =SUM(H17:H19) -> 0 | I20: =SUM(I17:I19) -> 0 | J20: =SUM(D20:I20) -> 0
A21: Medicare
A22: SOURCE and DESCRIPTION | J22: =SUM(F22:I22) -> 0
A23: SOURCE and DESCRIPTION | J23: =SUM(F23:I23) -> 0
A24: SOURCE and DESCRIPTION | J24: =SUM(F24:I24) -> 0
A25: Total Medicare | C25: =SUM(C22:C24) -> 0 | F25: =SUM(F22:F24) -> 0 | G25: =SUM(G22:G24) -> 0 | H25: =SUM(H22:H24) -> 0 | I25: =SUM(I22:I24) -> 0 | J25: =SUM(F25:I25) -> 0
A26: Insurance
A27: SOURCE and DESCRIPTION | J27: =SUM(F27:I27) -> 0
A28: SOURCE and DESCRIPTION | J28: =SUM(F28:I28) -> 0
A29: SOURCE and DESCRIPTION | J29: =SUM(F29:I29) -> 0
A30: Total Insurance | C30: =SUM(C27:C29) -> 0 | F30: =SUM(F27:F29) -> 0 | G30: =SUM(G27:G29) -> 0 | H30: =SUM(H27:H29) -> 0 | I30: =SUM(I27:I29) -> 0 | J30: =SUM(F30:I30) -> 0
A31: Fees
A32: Charges for Services (% of Exp) | J32: =SUM(F32:I32) -> 0
A33: SOURCE and DESCRIPTION | J33: =SUM(F33:I33) -> 0
A34: SOURCE and DESCRIPTION | J34: =SUM(F34:I34) -> 0
A35: Total Fees | C35: =SUM(C32:C34) -> 0 | F35: =SUM(F32:F34) -> 0 | G35: =SUM(G32:G34) -> 0 | H35: =SUM(H32:H34) -> 0 | I35: =SUM(I32:I34) -> 0 | J35: =SUM(F35:I35) -> 0
A36: Other Revenue
A37: State Sales Tax Realignment | J37: =SUM(D37:I37) -> 0
A38: State VLF Realignment (% of Expense) | J38: =SUM(D38:I38) -> 0
A39: See Attached Revenue Worksheet | C39: 133386.38 | E39: 9181 | J39: =SUM(D39:I39) -> 9181
A40: Total Other Revenue | C40: =SUM(C37:C39) -> 133386.38 | D40: =SUM(D37:D39) -> 0 | E40: =SUM(E37:E39) -> 9181 | F40: =SUM(F37:F39) -> 0 | G40: =SUM(G37:G39) -> 0 | H40: =SUM(H37:H39) -> 0 | I40: =SUM(I37:I39) -> 0 | J40: =SUM(D40:I40) -> 9181
...

Sheet Invoice - Cost Worksheet
A1: Local Governmental Agency: | B1: ='Invoice - Summary Page'!D4 -> ABC County | F1: Program: | G1: ='Invoice - Summary Page'!J4 -> Veterans Services
A2: Contract Number: | B2: ='Invoice - Summary Page'!D6 -> DHCS CMAA Evergreen PA-ABC | F2: Claiming Unit: | G2: ='Invoice - Summary Page'!J6 -> Veterans Services
A3: Period of Service: | B3: ='Invoice - Summary Page'!D8 -> 01/01/2023-03/31/2023 | F3: Invoice #: | G3: ='Invoice - Summary Page'!J8 -> XX - XXXX - 2223 - 3
A4: SELECTED ITEMS OF COST | C4: Cost Pool #1 | D4: Cost Pool #2 | E4: Cost Pool #3a | F4: Cost Pool #5 | G4: Cost Pool #6
C5: SPMP | D5: Non-SPMP | E5: Non-Claimable | F5: Non-SPMP Dir. Charge | G5: Allocated/Support
C6: Costs | D6: Costs | E6: Costs | F6: Other Costs | G6: Costs
A7: SALARY COSTS | H7: TOTALS
A8: Wages/Salary: | D8: 77345 | H8: =SUM(C8:G8) -> 77345
A9: Benefits: | D9: 34795.3 | H9: =SUM(C9:G9) -> 34795.3
A10: Personal Services Contracts: | H10: =SUM(C10:G10) -> 0
A11: TOTAL Compensation for Personal Services: | C11: =SUM(C8:C10) -> 0 | D11: =SUM(D8:D10) -> 112140.3 | E11: =SUM(E8:E10) -> 0 | G11: =SUM(G8:G10) -> 0 | H11: =SUM(H8:H10) -> 112140.3
A12: NON-SALARY COSTS | H12: TOTALS
A13: See Other Costs Spreadsheet | E13: 6736.18 | G13: 38158.59 | H13: =SUM(C13:G13) -> 44894.77
A14: Audit costs and related services | H14: =SUM(C14:G14) -> 0
A15: Communication costs | H15: =SUM(C15:G15) -> 0
A16: Depreciation and use allowances | H16: =SUM(C16:G16) -> 0
A17: Employee morale, health, and welfare costs | H17: =SUM(C17:G17) -> 0
A18: Equipment and other capital expenditures | H18: =SUM(C18:G18) -> 0
A19: Insurance and indemnification | H19: =SUM(C19:G19) -> 0
A20: Maintenance, operations, and repairs | H20: =SUM(C20:G20) -> 0
A21: Materials and supplies costs | H21: =SUM(C21:G21) -> 0
A22: Meetings and conferences | H22: =SUM(C22:G22) -> 0
A23: Memberships, subscriptions, and professional activity costs | H23: =SUM(C23:G23) -> 0
A24: Plant and homeland security costs | H24: =SUM(C24:G24) -> 0
A25: Professional service costs | H25: =SUM(C25:G25) -> 0
... A31: Travel Costs | H31: =SUM(C31:G31) -> 0
A32: Direct Charge Other Cost:
A33: Direct Charge Other Cost:
A34: Direct Charge Other Cost:
A35: Direct Charge Other Cost:
A36: Direct Charge Other Cost:
A37: Indirect Costs | H37: =SUM(C37:G37) -> 0
A38: TOTAL Non-Salary Costs: | C38: =SUM(C13:C37) -> 0 | D38: =SUM(D13:D37) -> 0 | E38: =SUM(E13:E37) -> 6736.18 | F38: =SUM(F13:F37) -> 0 | G38: =SUM(G13:G37) -> 38158.59 | H38: =SUM(C38:G38) -> 44894.77
A39: I certify that the costs identified above represent accurate identifiable costs for the program/claiming entity and that the costs have been properly identified and allocated. I declare under penalty of perjury that the foregoing is true and correct information and that I have notice that this information is to be used for filing a claim with the Federal Government for federal funds, and the knowing misrepresentation constitutes violation of the Federal False Claims Act.
D40: 45214 | G40: LGA COORD FIRST AND LAST NAME
A41: Signature of Claiming Unit Reviewer or LGA Coordinator | D41: Date | G41: Printed Name of Signer
H42: ='Invoice - Summary Page'!L32 -> Rev.10/11/22 DHCS/LGFD

Sheet Invoice - Direct Charge Costs
B1: Local Governmental Agency: | D1: ='Invoice - Summary Page'!$D$4 -> ABC County | G1: Program: | I1: ='Invoice - Summary Page'!$J$4 -> Veterans Services
B2: Contract Number: | D2: ='Invoice - Summary Page'!$D$6 -> DHCS CMAA Evergreen PA-ABC | G2: Claiming Unit: | I2: ='Invoice - Summary Page'!$J$6 -> Veterans Services
B3: Period of Service: | D3: ='Invoice - Summary Page'!$D$8 -> 01/01/2023-03/31/2023 | G3: Invoice #: | I3: ='Invoice - Summary Page'!$J$8 -> XX - XXXX - 2223 - 3
A4: ENHANCED (SPMP) MAA STAFF COSTS
A5: Staff Member | B5: Classification | C5: Code | D5: Description | E5: Medi-Cal % | F5: Activity % Results | G5: Salary Costs | H5: MAA Claimable Portion | I5: Non Claimable Portion | J5: Benefits Costs | K5: MAA Claimable Portion | L5: Non Claimable Portion | M5: Non-Salary Costs | N5: MAA Claimable Portion | O5: Non Claimable Portion
A6: Ms. Nurse | D6: =LOOKUP(C6,ECodes,'Enhanced MAA Codes'!B2:B3) -> #N/A | E6: =LOOKUP('Invoice - Direct Charge Costs'!C6,NECodes,'Non-Enhanced MAA Codes'!D2:D11) -> #N/A | H6: =IF(C6=0,0,(G6*F6)*E6) -> 0 | I6: =G6-H6 -> 0 | K6: =IF(C6=0,0,(J6*F6)*E6) -> 0 | L6: =J6-K6 -> 0 | M6: 0 | N6: =IF(C6=0,0,(M6*F6)*E6) -> 0 | O6: =M6-N6 -> 0
A7: Mr. Doctor | D7: =LOOKUP(C7,ECodes,'Enhanced MAA Codes'!B2:B3) -> #N/A | E7: =LOOKUP('Invoice - Direct Charge Costs'!C7,NECodes,'Non-Enhanced MAA Codes'!D2:D11) -> #N/A | H7: =IF(C7=0,0,(G7*F7)*E7) -> 0 | I7: =G7-H7 -> 0 | K7: =IF(C7=0,0,(J7*F7)*E7) -> 0 | L7: =J7-K7 -> 0 | M7: 0 | N7: =IF(C7=0,0,(M7*F7)*E7) -> 0 | O7: =M7-N7 -> 0
D8: =LOOKUP(C8,ECodes,'Enhanced MAA Codes'!B2:B3) -> #N/A | E8: =LOOKUP('Invoice - Direct Charge Costs'!C8,NECodes,'Non-Enhanced MAA Codes'!D2:D11) -> #N/A | H8: =IF(C8=0,0,(G8*F8)*E8) -> 0 | I8: =G8-H8 -> 0 | K8: =IF(C8=0,0,(J8*F8)*E8) -> 0 | L8: =J8-K8 -> 0 | M8: 0 | N8: =IF(C8=0,0,(M8*F8)*E8) -> 0 | O8: =M8-N8 -> 0
D9: =LOOKUP(C9,ECodes,'Enhanced MAA Codes'!B2:B3) -> #N/A | E9: =LOOKUP('Invoice - Direct Charge Costs'!C9,NECodes,'Non-Enhanced MAA Codes'!D2:D11) -> #N/A | H9: =IF(C9=0,0,(G9*F9)*E9) -> 0 | I9: =G9-H9 -> 0 | K9: =IF(C9=0,0,(J9*F9)*E9) -> 0 | L9: =J9-K9 -> 0 | M9: 0 | N9: =IF(C9=0,0,(M9*F9)*E9) -> 0 | O9: =M9-N9 -> 0
D10: =LOOKUP(C10,ECodes,'Enhanced MAA Codes'!B2:B3) -> #N/A | E10: =LOOKUP('Invoice - Direct Charge Costs'!C10,NECodes,'Non-Enhanced MAA Codes'!D2:D11) -> #N/A | H10: =IF(C10=0,0,(G10*F10)*E10) -> 0 | I10: =G10-H10 -> 0 | K10: =IF(C10=0,0,(J10*F10)*E10) -> 0 | L10: =J10-K10 -> 0 | M10: 0 | N10: =IF(C10=0,0,(M10*F10)*E10) -> 0 | O10: =M10-N10 -> 0
A11: TOTALS | G11: =SUM(G6:G10) -> 0 | H11: =SUM(H6:H10) -> 0 | I11: =SUM(I6:I10) -> 0 | J11: =SUM(J6:J10) -> 0 | K11: =SUM(K6:K10) -> 0 | L11: =SUM(L6:L10) -> 0 | M11: =SUM(M6:M10) -> 0 | N11: =SUM(N6:N10) -> 0 | O11: =SUM(O6:O10) -> 0
A12: NON-ENHANCED MAA STAFF COSTS
A13: Staff Member | B13: Classification | C13: Code | D13: Description | E13: Medi-Cal % | F13: Activity % Results | G13: Salary Costs | H13: MAA Claimable Portion | I13: Non Claimable Portion | J13: Benefits Costs | K13: MAA Claimable Portion | L13: Non Claimable Portion | M13: Non-Salary Costs | N13: MAA Claimable Portion | O13: Non Claimable Portion
D14: =LOOKUP('Invoice - Direct Charge Costs'!C14,NECodes,'Non-Enhanced MAA Codes'!B2:B11) -> #N/A | E14: =LOOKUP('Invoice - Direct Charge Costs'!C14,NECodes,'Non-Enhanced MAA Codes'!D2:D11) -> #N/A | H14: =IF(C14=0,0,(G14*F14)*E14) -> 0 | I14: =G14-H14 -> 0 | K14: =IF(C14=0,0,(J14*F14)*E14) -> 0 | L14: =J14-K14 -> 0 | M14: 0 | N14: =IF(C14=0,0,(M14*F14)*E14) -> 0 | O14: =M14-N14 -> 0
D15: =LOOKUP('Invoice - Direct Charge Costs'!C15,NECodes,'Non-Enhanced MAA Codes'!B2:B11) -> #N/A | E15: =LOOKUP('Invoice - Direct Charge Costs'!C15,NECodes,'Non-Enhanced MAA Codes'!D2:D11) -> #N/A | H15: =IF(C15=0,0,(G15*F15)*E15) -> 0 | I15: =G15-H15 -> 0 | K15: =IF(C15=0,0,(J15*F15)*E15) -> 0 | L15: =J15-K15 -> 0 | N15: =IF(C15=0,0,(M15*F15)*E15) -> 0 | O15: =M15-N15 -> 0
D16: =LOOKUP('Invoice - Direct Charge Costs'!C16,NECodes,'Non-Enhanced MAA Codes'!B2:B11) -> #N/A | E16: =LOOKUP('Invoice - Direct Charge Costs'!C16,NECodes,'Non-Enhanced MAA Codes'!D2:D11) -> #N/A | H16: =IF(C16=0,0,(G16*F16)*E16) -> 0 | I16: =G16-H16 -> 0 | K16: =IF(C16=0,0,(J16*F16)*E16) -> 0 | L16: =J16-K16 -> 0 | N16: =IF(C16=0,0,(M16*F16)*E16) -> 0 | O16: =M16-N16 -> 0
D17: =LOOKUP('Invoice - Direct Charge Costs'!C17,NECodes,'Non-Enhanced MAA Codes'!B2:B11) -> #N/A | E17: =LOOKUP('Invoice - Direct Charge Costs'!C17,NECodes,'Non-Enhanced MAA Codes'!D2:D11) -> #N/A | H17: =IF(C17=0,0,(G17*F17)*E17) -> 0 | I17: =G17-H17 -> 0 | K17: =IF(C17=0,0,(J17*F17)*E17) -> 0 | L17: =J17-K17 -> 0 | N17: =IF(C17=0,0,(M17*F17)*E17) -> 0 | O17: =M17-N17 -> 0
D18: =LOOKUP('Invoice - Direct Charge Costs'!C18,NECodes,'Non-Enhanced MAA Codes'!B2:B11) -> #N/A | E18: =LOOKUP('Invoice - Direct Charge Costs'!C18,NECodes,'Non-Enhanced MAA Codes'!D2:D11) -> #N/A | H18: =IF(C18=0,0,(G18*F18)*E18) -> 0 | I18: =G18-H18 -> 0 | K18: =IF(C18=0,0,(J18*F18)*E18) -> 0 | L18: =J18-K18 -> 0 | N18: =IF(C18=0,0,(M18*F18)*E18) -> 0 | O18: =M18-N18 -> 0
D19: =LOOKUP('Invoice - Direct Charge Costs'!C19,NECodes,'Non-Enhanced MAA Codes'!B2:B11) -> #N/A | E19: =LOOKUP('Invoice - Direct Charge Costs'!C19,NECodes,'Non-Enhanced MAA Codes'!D2:D11) -> #N/A | H19: =IF(C19=0,0,(G19*F19)*E19) -> 0 | I19: =G19-H19 -> 0 | K19: =IF(C19=0,0,(J19*F19)*E19) -> 0 | L19: =J19-K19 -> 0 | N19: =IF(C19=0,0,(M19*F19)*E19) -> 0 | O19: =M19-N19 -> 0
D20: =LOOKUP('Invoice - Direct Charge Costs'!C20,NECodes,'Non-Enhanced MAA Codes'!B2:B11) -> #N/A | E20: =LOOKUP('Invoice - Direct Charge Costs'!C20,NECodes,'Non-Enhanced MAA Codes'!D2:D11) -> #N/A | H20: =IF(C20=0,0,(G20*F20)*E20) -> 0 | I20: =G20-H20 -> 0 | K20: =IF(C20=0,0,(J20*F20)*E20) -> 0 | L20: =J20-K20 -> 0 | N20: =IF(C20=0,0,(M20*F20)*E20) -> 0 | O20: =M20-N20 -> 0
D21: =LOOKUP('Invoice - Direct Charge Costs'!C21,NECodes,'Non-Enhanced MAA Codes'!B2:B11) -> #N/A | E21: =LOOKUP('Invoice - Direct Charge Costs'!C21,NECodes,'Non-Enhanced MAA Codes'!D2:D11) -> #N/A | H21: =IF(C21=0,0,(G21*F21)*E21) -> 0 | I21: =G21-H21 -> 0 | K21: =IF(C21=0,0,(J21*F21)*E21) -> 0 | L21: =J21-K21 -> 0 | N21: =IF(C21=0,0,(M21*F21)*E21) -> 0 | O21: =M21-N21 -> 0
D22: =LOOKUP('Invoice - Direct Charge Costs'!C22,NECodes,'Non-Enhanced MAA Codes'!B2:B11) -> #N/A | E22: =LOOKUP('Invoice - Direct Charge Costs'!C22,NECodes,'Non-Enhanced MAA Codes'!D2:D11) -> #N/A | H22: =IF(C22=0,0,(G22*F22)*E22) -> 0 | I22: =G22-H22 -> 0 | K22: =IF(C22=0,0,(J22*F22)*E22) -> 0 | L22: =J22-K22 -> 0 | N22: =IF(C22=0,0,(M22*F22)*E22) -> 0 | O22: =M22-N22 -> 0
D23: =LOOKUP('Invoice - Direct Charge Costs'!C23,NECodes,'Non-Enhanced MAA Codes'!B2:B11) -> #N/A | E23: =LOOKUP('Invoice - Direct Charge Costs'!C23,NECodes,'Non-Enhanced MAA Codes'!D2:D11) -> #N/A | H23: =IF(C23=0,0,(G23*F23)*E23) -> 0 | I23: =G23-H23 -> 0 | K23: =IF(C23=0,0,(J23*F23)*E23) -> 0 | L23: =J23-K23 -> 0 | N23: =IF(C23=0,0,(M23*F23)*E23) -> 0 | O23: =M23-N23 -> 0
A24: TOTALS | G24: =SUM(G14:G23) -> 0 | H24: =SUM(H14:H23) -> 0 | I24: =SUM(I14:I23) -> 0 | J24: =SUM(J14:J23) -> 0 | K24: =SUM(K14:K23) -> 0 | L24: =SUM(L14:L23) -> 0 | M24: =SUM(M14:M23) -> 0 | N24: =SUM(N14:N23) -> 0 | O24: =SUM(O14:O23) -> 0
A25: NON-ENHANCED MAA PERSONAL SERVICES CBO/CONTRACTOR COSTS
A26: CBO/Contractor | B26: Expense Detail | C26: Code | D26: Description | E26: Medi-Cal % | G26: Pers. Svcs. Contract Costs | H26: MAA Claimable Portion | I26: Non Claimable Portion
A27: Time Study Software | B27: Time Study Software | C27: 19 | D27: =LOOKUP('Invoice - Direct Charge Costs'!C27,NECodes,'Non-Enhanced MAA Codes'!B2:B11) -> MAA/TCM Coordination and Claims Administration | E27: =LOOKUP('Invoice - Direct Charge Costs'!C27,NECodes,'Non-Enhanced MAA Codes'!D2:D11) -> 1 | G27: 125 | H27: =IF(C27=0,0,(G27*E27)) -> 125 | I27: =G27-H27 -> 0
D28: =LOOKUP('Invoice - Direct Charge Costs'!C28,NECodes,'Non-Enhanced MAA Codes'!B2:B11) -> #N/A | E28: =LOOKUP('Invoice - Direct Charge Costs'!C28,NECodes,'Non-Enhanced MAA Codes'!D2:D11) -> #N/A | H28: =IF(C28=0,0,(G28*E28)) -> 0 | I28: =G28-H28 -> 0
D29: =LOOKUP('Invoice - Direct Charge Costs'!C29,NECodes,'Non-Enhanced MAA Codes'!B2:B11) -> #N/A | E29: =LOOKUP('Invoice - Direct Charge Costs'!C29,NECodes,'Non-Enhanced MAA Codes'!D2:D11) -> #N/A | H29: =IF(C29=0,0,(G29*E29)) -> 0 | I29: =G29-H29 -> 0
D30: =LOOKUP('Invoice - Direct Charge Costs'!C30,NECodes,'Non-Enhanced MAA Codes'!B2:B11) -> #N/A | E30: =LOOKUP('Invoice - Direct Charge Costs'!C30,NECodes,'Non-Enhanced MAA Codes'!D2:D11) -> #N/A | H30: =IF(C30=0,0,(G30*E30)) -> 0 | I30: =G30-H30 -> 0
D31: =LOOKUP('Invoice - Direct Charge Costs'!C31,NECodes,'Non-Enhanced MAA Codes'!B2:B11) -> #N/A | E31: =LOOKUP('Invoice - Direct Charge Costs'!C31,NECodes,'Non-Enhanced MAA Codes'!D2:D11) -> #N/A | H31: =IF(C31=0,0,(G31*E31)) -> 0 | I31: =G31-H31 -> 0
A32: TOTALS | G32: =SUM(G27:G31) -> 125 | H32: =SUM(H27:H31) -> 125 | I32: =SUM(I27:I31) -> 0
A33: NON-ENHANCED MAA TRANSPORTATION COSTS
A34: Contractor | B34: Expense Detail | C34: Code | D34: Description | E34: Medi-Cal % | G34: MAA Transportation Costs | H34: MAA Claimable Portion | I34: Non Claimable Portion
D35: =LOOKUP('Invoice - Direct Charge Costs'!C35,NECodes,'Non-Enhanced MAA Codes'!B2:B11) -> #N/A | E35: =LOOKUP('Invoice - Direct Charge Costs'!C35,NECodes,'Non-Enhanced MAA Codes'!D2:D11) -> #N/A | H35: =IF(C35=0,0,(G35*E35)) -> 0 | I35: =G35-H35 -> 0
D36: =LOOKUP('Invoice - Direct Charge Costs'!C36,NECodes,'Non-Enhanced MAA Codes'!B2:B11) -> #N/A | E36: =LOOKUP('Invoice - Direct Charge Costs'!C36,NECodes,'Non-Enhanced MAA Codes'!D2:D11) -> #N/A | H36: =IF(C36=0,0,(G36*E36)) -> 0 | I36: =G36-H36 -> 0
D37: =LOOKUP('Invoice - Direct Charge Costs'!C37,NECodes,'Non-Enhanced MAA Codes'!B2:B11) -> #N/A | E37: =LOOKUP('Invoice - Direct Charge Costs'!C37,NECodes,'Non-Enhanced MAA Codes'!D2:D11) -> #N/A | H37: =IF(C37=0,0,(G37*E37)) -> 0 | I37: =G37-H37 -> 0
A38: TOTALS | G38: =SUM(G35:G37) -> 0 | H38: =SUM(H35:H37) -> 0 | I38: =SUM(I35:I37) -> 0
A39: NON-ENHANCED MAA DIRECT CHARGE OTHER COSTS
D40: Description | E40: Medi-Cal % | G40: MAA Other Costs | H40: MAA Claimable Portion
...

Sheet Invoice - Claim Calculation
A1: COUNTY-BASED MEDI-CAL ADMINISTRATIVE ACTIVITIES (CMAA) - INVOICE DETAIL Claim Calculation Worksheet (page 1)
A2: Local Governmental Agency: | B2: ='Invoice - Summary Page'!$D$4 -> ABC County | E2: Program: | F2: ='Invoice - Summary Page'!$J$4 -> Veterans Services
A3: Contract Number: | B3: ='Invoice - Summary Page'!$D$6 -> DHCS CMAA Evergreen PA-ABC | E3: Claiming Unit: | F3: ='Invoice - Summary Page'!$J$6 -> Veterans Services
A4: Period of Service: | B4: ='Invoice - Summary Page'!$D$8 -> 01/01/2023-03/31/2023 | E4: Invoice #: | F4: ='Invoice - Summary Page'!$J$8 -> XX - XXXX - 2223 - 3
A6: COSTS: | B6: Cost Pool #1 | C6: Cost Pool #2 | D6: Cost Pool #3a | E6: Cost Pool #3b | F6: Cost Pool #4 | G6: Cost Pool #5 | H6: Cost Pool #6
B7: SPMP | C7: Non-SPMP | D7: Non-Claimable | E7: Non-Claimable | F7: SPMP | G7: Non-SPMP | H7: Allocated/Support
B8: Costs | C8: Costs | D8: Costs | E8: Dir. Charge Costs | F8: Dir. Charge Costs | G8: Dir. Charge Costs | H8: Costs
A9: Salary: | B9: ='Invoice - Cost Worksheet'!C8 -> 0 | C9: ='Invoice - Cost Worksheet'!D8 -> 77345 | D9: ='Invoice - Cost Worksheet'!E8 -> 0 | E9: ='Invoice - Direct Charge Costs'!I11+'Invoice - Direct Charge Costs'!I24 -> 0 | F9: ='Invoice - Direct Charge Costs'!H11 -> 0 | G9: ='Invoice - Direct Charge Costs'!H24 -> 0 | H9: ='Invoice - Cost Worksheet'!G8 -> 0
A10: Benefits: | B10: ='Invoice - Cost Worksheet'!C9 -> 0 | C10: ='Invoice - Cost Worksheet'!D9 -> 34795.3 | D10: ='Invoice - Cost Worksheet'!E9 -> 0 | E10: ='Invoice - Direct Charge Costs'!L11+'Invoice - Direct Charge Costs'!L24 -> 0 | F10: ='Invoice - Direct Charge Costs'!K11 -> 0 | G10: ='Invoice - Direct Charge Costs'!K24 -> 0 | H10: ='Invoice - Cost Worksheet'!G9 -> 0
A11: Salary + Benefits SUBTOTAL: | B11: =B9+B10 -> 0 | C11: =C9+C10 -> 112140.3 | D11: =D9+D10 -> 0 | E11: =E9+E10 -> 0 | F11: =F9+F10 -> 0 | G11: =G9+G10 -> 0 | H11: =H9+H10 -> 0
A12: Personal Service Contracts | C12: ='Invoice - Cost Worksheet'!D10 -> 0 | D12: ='Invoice - Cost Worksheet'!E10 -> 0 | E12: ='Invoice - Direct Charge Costs'!I32 -> 0 | G12: ='Invoice - Direct Charge Costs'!H32 -> 125
A13: All Personnel Costs SUBTOTAL: | B13: =B11 -> 0 | C13: =SUM(C11:C12) -> 112140.3 | D13: =SUM(D11:D12) -> 0 | E13: =SUM(E11:E12) -> 0 | F13: =F11 -> 0 | G13: =SUM(G11:G12) -> 125
A14: Personnel Costs Distribution Percentage: | B14: =IF(B13=0,0,(B13/(SUM(B13:G13)))) -> 0 | C14: =IF(C13=0,0,(C13/(SUM(B13:G13)))) -> 0.99888657 | D14: =IF(D13=0,0,(D13/(SUM(B13:G13)))) -> 0 | E14: =IF(E13=0,0,(E13/(SUM(B13:G13)))) -> 0 | F14: =IF(F13=0,0,(F13/(SUM(B13:G13)))) -> 0 | G14: =IF(G13=0,0,(G13/(SUM(B13:G13)))) -> 0.001113434
A15: MAA Transportation Costs: | E15: ='Invoice - Direct Charge Costs'!I38 -> 0 | G15: ='Invoice - Direct Charge Costs'!H38 -> 0
A16: Non-Salary Costs: | B16: ='Invoice - Cost Worksheet'!C38 -> 0 | C16: ='Invoice - Cost Worksheet'!D38 -> 0 | D16: ='Invoice - Cost Worksheet'!E38 -> 6736.18 | E16: ='Invoice - Direct Charge Costs'!O11+'Invoice - Direct Charge Costs'!O24 -> 0 | F16: ='Invoice - Direct Charge Costs'!N11 -> 0 | G16: ='Invoice - Direct Charge Costs'!N24 -> 0 | H16: ='Invoice - Cost Worksheet'!G38 -> 38158.59
A17: Other Costs: | G17: ='Invoice - Direct Charge Costs'!H41 -> 0
A18: CP #6 Allocated/Support Costs to be Distributed TOTAL: | H18: =H11+H16 -> 38158.59
A19: Distribution of CP #6 Allocated/Support Costs: | B19: =ROUND((SUM(H18*B14)),0) -> 0 | C19: =ROUND((SUM(H18*C14)),0) -> 38116 | D19: =ROUND((SUM(H18*D14)),0) -> 0 | E19: =ROUND((SUM(H18*E14)),0) -> 0 | F19: =ROUND((SUM(H18*F14)),0) -> 0 | G19: =ROUND((SUM(H18*G14)),0) -> 42
A20: Non-Salary Costs SUBTOTAL: | B20: =B16+B19 -> 0 | C20: =C16+C19 -> 38116 | D20: =D16+D19 -> 6736.18 | E20: =(E15+E16+E19) -> 0 | F20: =F16+F19 -> 0 | G20: =(G15+G16+G17+G19) -> 42
A21: CP #3b All Personnel + Non-Salary Costs TOTAL: | D21: =E13+E20 -> 0
A22: TOTAL COST: | B22: =ROUND((B13+B20),0) -> 0 | C22: =ROUND((C13+C20),0) -> 150256 | D22: =ROUND((D13+D20+D21),0) -> 6736 | F22: =ROUND(F13+F20,0) -> 0 | G22: =ROUND(G13+G20,0) -> 167
A23: PERCENTAGE OF TOTAL COST: | B23: =IF(B22=0,0,(B22/(SUM(B22:G22)))) -> 0 | C23: =IF(C22=0,0,(C22/(SUM(B22:G22)))) -> 0.95607633 | D23: =IF(D22=0,0,(D22/(SUM(B22:G22)))) -> 0.042861052 | F23: =IF(F22=0,0,(F22/(SUM(B22:G22)))) -> 0 | G23: =IF(G22=0,0,(G22/(SUM(B22:G22)))) -> 0.0010626181
A25: FUNDING/REVENUE: | B25: Cost Pool #1 | C25: Cost Pool #2 | D25: Cost Pool #3 | E25: Cost Pool #4 | F25: Cost Pool #5 | G25: Cost Pool #6
B26: SPMP | C26: Non-SPMP | D26: Non-Claimable | E26: SPMP Dir. Chg. | F26: Non-SPMP Dir. Chg. | G26: Allocated/Support
B27: Funding/Revenue | C27: Funding/Revenue | D27: Funding/Revenue | E27: Funding/Revenue | F27: Funding/Revenue | G27: Funding/Revenue
A28: Funding/Revenue: | B28: ='Invoice - Revenue Worksheet'!D41 -> 0 | C28: ='Invoice - Revenue Worksheet'!E41 -> 9181 | D28: ='Invoice - Revenue Worksheet'!F41 -> 0 | E28: ='Invoice - Revenue Worksheet'!G41 -> 0 | F28: ='Invoice - Revenue Worksheet'!H41 -> 0 | G28: ='Invoice - Revenue Worksheet'!I41 -> 0
A29: Distribution of CP #6 Funding/Revenue: | B29: =(G28*B23) -> 0 | C29: =(G28*C23) -> 0 | D29: =(G28*D23) -> 0 | E29: =(G28*F23) -> 0 | F29: =(G28*G23) -> 0
A30: Funding/Revenue TOTAL: | B30: =SUM(B28:B29) -> 0 | C30: =SUM(C28:C29) -> 9181 | D30: =SUM(D28:D29) -> 0 | E30: =SUM(E28:E29) -> 0 | F30: =SUM(F28:F29) -> 0
A31: Non-Claimable Activity Percentage: | B31: =IF(E66=0,0,E66) -> 0 | C31: =IF(G66=0,0,G66) -> 0.60909935
A32: Non-Claimable Activity Cost: | B32: =IF(B22=0,0,IF(C69=0,0,((B22*B31)))) -> 0 | C32: =IF(C22=0,0,IF(D69=0,0,((C22*C31)))) -> 91520.832 | D32: =D22 -> 6736
A33: CP #3 Remaining Non-Claimable Funding/Revenue: | D33: =IF(D30-D32>0,D30-D32,0) -> 0
A34: Non-Claimable Activity Distribution Percentage: | B34: =IF(B32+C32=0,0,(B32/(B32+C32))) -> 0 | C34: =IF(B32+C32=0,0,(C32/(B32+C32))) -> 1
A35: Distribution of CP #3 Reman. Non-Claim. Funding/Revenue: | B35: =(D33*B34) -> 0 | C35: =(D33*C34) -> 0
A36: Adjusted Remaining Funding/Revenue: | B36: =IF(B23=0,B30,IF(B35<B32,B30,IF(B35>B32,B30+B35-B32,IF(B35=B32,B30,0)))) -> 0 | C36: =IF(C23=0,C30,IF(C35<C32,C30,IF(C35>C32,C30+C35-C32,IF(C35=C32,C30,0)))) -> 9181
A37: Remaining Funding/Revenue Distributed to Personnel Svcs: | B37: =IF(B22=0,0,(B36*(B13/B22))) -> 0 | C37: =IF(C22=0,0,(C36*C13/C22)) -> 6852.0398
A38: Remaining Fund/Rev Distributed to Non-Salary Costs: | B38: =IF(B22=0,0,(B36*(B20/B22))) -> 0 | C38: =IF(C22=0,0,(C36*C20/C22)) -> 2328.9785
A39: Adjusted Remaining Personnel Services Costs | B39: =IF(B13-B37=0,0,(B13-B37)) -> 0 | C39: =IF(C13-C37=0,0,(C13-C37)) -> 105288.26
A40: Adjusted Remaining Non-Salary Costs | B40: =IF(B20-B38=0,0,(B20-B38)) -> 0 | C40: =IF(C20-C38=0,0,(C20-C38)) -> 35787.021
A41: TOTAL ADJUSTED COST | B41: =B39+B40 -> 0 | C41: =C39+C40 -> 141075.28 | E41: =IF(F22-E30=0,0,(F22-E30)) -> 0 | F41: =IF(G22-F30=0,0,(G22-F30)) -> 167
A43: I certify that the information above represents accurate and identifiable data for the program/claiming entity. I declare under penalty of perjury that the foregoing is true and correct information and that I have notice that this information is to be used for filing a claim with the Federal Government for federal funds, and the knowing misrepresentation constitutes violation of the Federal False Claims Act.
...

Sheet Invoice - Variance Worksheets
A1: (delete this text) *PRINT ON LGA LETTERHEAD* (delete this text)
B2: INVOICE PERCENTAGE VARIANCE
B3: Date: | E3: 45214
B5: To: | E5: The Department of Health Care Services
E6: County-Based Medi-Cal Administrative Activities Unit (CMAA)
B8: From: | E8: ='Invoice - Summary Page'!D4 -> ABC County
E9: ='Invoice - Summary Page'!J6 -> Veterans Services
B11: Subject: | E11: CMAA Program Invoice Percentage Variance Documentation for | L11: ='Invoice - Summary Page'!D8 -> 01/01/2023-03/31/2023
B14: The following information represents the CMAA Program invoice variance data for the LGA/Claiming Unit and Period of Service notated above.
A16: Prior Year Corresponding Quarter Variance Data | J16: Prior Quarter Variance Data
A17: PY Corresponding Quarter Invoice Amount: | G17: 10200 | J17: Prior Quarter Invoice Amount: | M17: 13100
A18: Current Quarter Invoice Amount: | G18: ='Invoice - Claim Calculation'!D76 -> 14467.743 | J18: Current Quarter Invoice Amount: | M18: ='Invoice - Claim Calculation'!D76 -> 14467.743
A19: Variance Percentage: | G19: =((G18-G17)/G17)*1 -> 0.41840615 | J19: Variance Percentage: | M19: =(M18-M17)/M17 -> 0.10440784
A20: A variance percentage explanation is: | G20: =IF(G19>=20%,"REQUIRED",IF(G19<=-20%,"REQUIRED","NOT REQUIRED")) -> REQUIRED | J20: A variance percentage explanation is: | M20: =IF(M19>=20%,"REQUIRED",IF(M19<=-20%,"REQUIRED","NOT REQUIRED")) -> NOT REQUIRED
A21: *If an explanation of the variance percentage is "REQUIRED", please fill out the appropriate variance narrative information below
B23: Prior Year Corresponding Quarter Variance Narrative (check all that apply):
B24: x | D24: Change in the number of Time Survey Participants
D25: Time Survey results were materially different
D26: Increase/Decrease to other costs
D27: Change in Medi-Cal Percentage
D28: Difference in the number of Pay Periods
D29: Other:
B30: Detailed Explanation:
B31: There were 2 time study participants in the prior year corresponding quarter and 3 in the current quarter. This also resulted in higher payroll costs claimed in Cost Pool 2.
B33: Prior Quarter Variance Narrative (check all that apply):
D34: Change in the number of Time Survey Participants
D35: Time Survey results were materially different
D36: Increase/Decrease to other costs
D37: Change in Medi-Cal Percentage
D38: Difference in the number of Pay Periods
D39: Other:
B40: Detailed Explanation:
B43: If you have any questions or require further information, please feel free to contact me.
I44: 10/15/2023 | L44: 000.000.0000
B45: Signature of LGA Coordinator | I45: Date | L45: Phone number
B46: LGA COORD FIRST AND LAST NAME | I46: FISCAL ANALYST
B47: Printed Name of LGA Coordinator | I47: Classification/Title
B48: LGA: | F48: ='Invoice - Summary Page'!D4 -> ABC County | J48: Program: | K48: ='Invoice - Summary Page'!J4 -> Veterans Services
B49: Contract #: | F49: ='Invoice - Summary Page'!D6 -> DHCS CMAA Evergreen PA-ABC | J49: Claiming Unit: | K49: ='Invoice - Summary Page'!J6 -> Veterans Services
B50: Period of Service: | F50: ='Invoice - Summary Page'!D8 -> 01/01/2023-03/31/2023 | J50: Invoice Number: | K50: ='Invoice - Summary Page'!J8 -> XX - XXXX - 2223 - 3
...

Sheet DHCS Info
A1: ps | B1: th@tnew$
A2: 12 | B2: 2 | C2: Medi-Cal
A3: 16 | B3: 2 | C3: Grants
A4: 20 | B4: 2 | C4: General
A5: 24 | B5: 2 | C5: Medicare
A6: 28 | B6: 2 | C6: Insurance
A7: 32 | B7: 2 | C7: Fees
A8: 36 | B8: 2 | C8: Revenue
A13: original
A14: 12 | B14: 4 | C14: Medi-Cal
A15: 18 | B15: 4 | C15: Grants
A16: 24 | B16: 4 | C16: General
A17: 30 | B17: 4 | C17: Medicare
A18: 36 | B18: 4 | C18: Insurance
A19: 42 | B19: 4 | C19: Fees
A20: 48 | B20: 4 | C20: Revenue

Sheet Non-Enhanced MAA Codes
A1: Code | B1: Description | C1: FFP Rate | D1: Medi-Cal %
A2: 4 | B2: Medi-Cal Outreach | C2: TM | D2: ='Invoice - T.S. Results Summary'!L9 -> 1
A3: 6 | B3: Referral, Coordination, and Monitoring of Medi-Cal Services | C3: PM | D3: ='Invoice - T.S. Results Summary'!L11 -> 0.25
A4: 8 | B4: Facilitating Med-Cal Application | C4: TM | D4: ='Invoice - T.S. Results Summary'!L13 -> 1
A5: 10 | B5: Arranging and/or Providing Non-Emergency, Non-Medical Transporation to a Medi-Cal Covered Service | C5: PM | D5: ='Invoice - T.S. Results Summary'!L15 -> 0.25
A6: 12 | B6: Contract Administration (A) for Medi-Cal Services specific for Medi-Cal populations | C6: TM | D6: ='Invoice - T.S. Results Summary'!L17 -> 1
A7: 13 | B7: Contract Administration (B) for Medi-Cal Services specific for Medi-Cal and Non Medi-Cal populations | C7: PM | D7: ='Invoice - T.S. Results Summary'!L18 -> 0.25
A8: 15 | B8: Program Planning & Policy Development (A) (Non-enhanced) for Medi-Cal Services for Medi-Cal clients | C8: TM | D8: ='Invoice - T.S. Results Summary'!L20 -> 1
A9: 17 | B9: Program Planning & Policy Development (B) (Non-enhanced) for Medi-Cal Services for Medi-Cal and Non Medi-Cal clients | C9: PM | D9: ='Invoice - T.S. Results Summary'!L22 -> 0.25
A10: 19 | B10: MAA/TCM Coordination and Claims Administration | C10: TM | D10: ='Invoice - T.S. Results Summary'!L24 -> 1
A11: 20 | B11: MAA/TCM Implementation Training | C11: TM | D11: ='Invoice - T.S. Results Summary'!L25 -> 1

Sheet Enhanced MAA Codes
A1: Code | B1: Description | C1: FFP Rate | D1: Medi-Cal %
A2: 16 | B2: Program Planning & Policy Development Skilled Professional Medical Personnel (SPMP) (A) (Enhanced) for Medi-Cal Services for Medi-Cal clients | C2: TM (Enhanced) | D2: ='Invoice - T.S. Results Summary'!L21 -> 1
A3: 18 | B3: Program Planning & Policy Development (SPMP) (B) (Enhanced) for Medi-Cal Services for Medi-Cal and Non Medi-Cal clients | C3: PM (Enhanced) | D3: ='Invoice - T.S. Results Summary'!L23 -> 0.25
