Workbook
Name HomeVisitorsFilteredList: 'County Names to hide'!$C$2
Name HV_FilteredList: 'County Names to hide'!$C$2:$C$1000

Sheet Cover_Sheet
A1: Instructions for Completing the Spreadsheet Each quarter, one person from the county or community-based organization should complete row 3 of this cover sheet. Fill in every column. Update the Report Quarter each time you report to keep the aggregate outcome and fidelity data accurate. Do not add more rows to this sheet. If you encounter any issues with formatting or dropdown selections, reach out to the CDSS FFPS team for assistance: FFPSApreventionservices@dss.ca.gov. To keep a copy of your aggregate data for each quarter, save a copy of the "Outcomes Aggregate", "Fidelity-MICA Scores" or "Fidelity-MITI Scores" and "Fidelity Training" sheets. These sheets will overwrite whenever you add new data.
A2: County Name | B2: Name of EBP Model | C2: Name of Agency providing Motivational Interviewing to FFPSA candidates | D2: Number of Sites where this agency provides Motivational Interviewing to FFPSA candidates | E2: Report Quarter | F2: Fiscal Year | G2: How many qualified MI trainers did your agency have this quarter? | H2: Report Completed By | I2: Email Address
A3: Alameda | B3: MI | E3: July-September | F3: 2026

Sheet County Names to hide
A1: Counties | B1: Today's Date | C1: Start of Quarter | D1: End of Quarter
A2: Alameda | B2: =TODAY() -> 46010 | C2: =DATE(Cover_Sheet!$F3, CHOOSE(MATCH(Cover_Sheet!$E3, {"January-March","April-June","July-September","October-December"}, 0), 1, 4, 7, 10), 1) -> 46204 | D2: =EOMONTH(DATE(Cover_Sheet!$F3, CHOOSE(MATCH(Cover_Sheet!$E3, {"January-March","April-June","July-September","October-December"}, 0), 3, 6, 9, 12), 1), 0) -> 46295 | E2: =EDATE('County Names to hide'!$C$2,-6) -> 46023
A3: Alpine
A4: Amador
A5: Butte
A6: Calaveras
A7: Colusa
A8: Contra Costa
A9: Del Norte
A10: El Dorado
A11: Fresno
A12: Glenn
A13: Humboldt
A14: Imperial
... A59: Yuba

Sheet Fidelity- MICA
A1: Instructions for Completing the Spreadsheet Please enter all current staff names here. Use the dropdown menus where provided to ensure consistent responses and hover over the note in I4 to view specific guidance on that field. Follow the flow of the spreadsheet, ensuring that cells dependent on a prior answer are completed appropriately. If a cell does not apply based on the answer to the previous cell, leave it blank and move to the next applicable field. Conditional formatting has been applied to some cells. If you encounter any issues with formatting or dropdown selections, reach out to the CDSS FFPS team for assistance: FFPSApreventionservices@dss.ca.gov
A4: Current Staff First Name | B4: Current Staff Last Name | C4: Is this staff member a supervisor? | D4: Was Approved MI Foundational Training completed? | E4: Was Approved MI Advanced Training completed? | F4: Supervisors Only: Has this supervisor completed approved MI Supervisor Training? | G4: What was the date of their most recent fidelity coding? | H4: What fidelity score was received? | I4: Did they receive ongoing (booster) training this quarter? | J4: Did they receive coding/coaching this quarter?

Sheet Fidelity- MITI
A1: Instructions for Completing the Spreadsheet Please enter all current staff names here. Use the dropdown menus where provided to ensure consistent responses. Follow the flow of the spreadsheet, ensuring that cells dependent on a prior answer are completed appropriately. If a cell does not apply based on the answer to the previous cell, leave it blank and move to the next applicable field. Conditional formatting has been applied to some cells. If you encounter any issues with formatting or dropdown selections, reach out to the CDSS FFPS team for assistance: FFPSApreventionservices@dss.ca.gov
A4: Current Staff First Name | B4: Current Staff Last Name | C4: Is this staff member a supervisor? | D4: Was MI Foundational Training completed? | E4: Was MI Advanced Training completed? | F4: Supervisors Only: Has this supervisor completed approved MI Supervisor Training? | G4: What was the date of their most recent fidelity coding? | H4: What fidelity score was received? | I4: Did they receive ongoing training this quarter? | J4: Did they receive coding/coaching this quarter?

Sheet Outcomes_subset
A1: Instructions for Completing the Spreadsheet (For Family First Title IV-E children/families only) Use the dropdown menus where provided to ensure consistent responses. Follow the flow of the spreadsheet, ensuring that cells dependent on a prior answer are completed appropriately. If a cell does not apply based on the answer to the previous cell, leave it blank and move to the next applicable field. Conditional formatting has been applied to some cells. If you encounter any issues with formatting or dropdown selections, reach out to the CDSS FFPS team for assistance: FFPSApreventionservices@dss.ca.gov.
A2: Agency Name: | E2: Site Name:
A3: Child Identifier | M3: Program Start and End Dates
A4: DCFS/Probation Unique Identifier | B4: Program ID (If receiving MI from an outside agency) | C4: Date of Birth | D4: Sex | E4: Hispanic or Latino Ethnicity | F4: Race: White | G4: Race: Black or African American | H4: Race: Asian | I4: Race: Native Hawaiian or Other Pacific Islander | J4: Race: American Indian or Alaska Native | K4: Race: Declined | L4: Child Race: Unknown | M4: Program Start Date | N4: Program End Date | O4: Was this individual open during the report quarter? | P4: Date Child Specific Prevention Plan Start (Year One) | Q4: Date Child Specific Prevention Plan Ended (Year One) | R4: Date Child Specific Prevention Plan Start (Year Two) | S4: Date Child Specific Prevention Plan Ended (Year Two) | T4: Was there an open case (child welfare, probation, or community pathway) for this child during the quarter? | U4: How many in person contacts occurred with a parent or caregiver during the quarter? | V4: Did each of these in-person contacts with a parent or caregiver have MI use documented? | W4: If no, how many of the in-person contacts with a parent or caregiver had MI use documented? | X4: Did this youth receive MI for substance abuse this quarter? | Y4: How many caregivers received MI for substance abuse this quarter?
L5: =IF(COUNTIF(F5:J5, "Yes")>0, "No", "Yes") -> Yes | O5: =IF(ISBLANK(M5), "", IF(ISBLANK(N5), "Yes", IF(N5 < 'County Names to hide'!$C$2, "No", "Yes")))
L6: =IF(COUNTIF(F6:J6, "Yes")>0, "No", "Yes") -> Yes | O6: =IF(ISBLANK(M6), "", IF(ISBLANK(N6), "Yes", IF(N6 < 'County Names to hide'!$C$2, "No", "Yes")))
L7: =IF(COUNTIF(F7:J7, "Yes")>0, "No", "Yes") -> Yes | O7: =IF(ISBLANK(M7), "", IF(ISBLANK(N7), "Yes", IF(N7 < 'County Names to hide'!$C$2, "No", "Yes")))
L8: =IF(COUNTIF(F8:J8, "Yes")>0, "No", "Yes") -> Yes | O8: =IF(ISBLANK(M8), "", IF(ISBLANK(N8), "Yes", IF(N8 < 'County Names to hide'!$C$2, "No", "Yes")))
L9: =IF(COUNTIF(F9:J9, "Yes")>0, "No", "Yes") -> Yes | O9: =IF(ISBLANK(M9), "", IF(ISBLANK(N9), "Yes", IF(N9 < 'County Names to hide'!$C$2, "No", "Yes")))
L10: =IF(COUNTIF(F10:J10, "Yes")>0, "No", "Yes") -> Yes | O10: =IF(ISBLANK(M10), "", IF(ISBLANK(N10), "Yes", IF(N10 < 'County Names to hide'!$C$2, "No", "Yes")))
L11: =IF(COUNTIF(F11:J11, "Yes")>0, "No", "Yes") -> Yes | O11: =IF(ISBLANK(M11), "", IF(ISBLANK(N11), "Yes", IF(N11 < 'County Names to hide'!$C$2, "No", "Yes")))
L12: =IF(COUNTIF(F12:J12, "Yes")>0, "No", "Yes") -> Yes | O12: =IF(ISBLANK(M12), "", IF(ISBLANK(N12), "Yes", IF(N12 < 'County Names to hide'!$C$2, "No", "Yes")))
L13: =IF(COUNTIF(F13:J13, "Yes")>0, "No", "Yes") -> Yes | O13: =IF(ISBLANK(M13), "", IF(ISBLANK(N13), "Yes", IF(N13 < 'County Names to hide'!$C$2, "No", "Yes")))
L14: =IF(COUNTIF(F14:J14, "Yes")>0, "No", "Yes") -> Yes | O14: =IF(ISBLANK(M14), "", IF(ISBLANK(N14), "Yes", IF(N14 < 'County Names to hide'!$C$2, "No", "Yes")))
L15: =IF(COUNTIF(F15:J15, "Yes")>0, "No", "Yes") -> Yes | O15: =IF(ISBLANK(M15), "", IF(ISBLANK(N15), "Yes", IF(N15 < 'County Names to hide'!$C$2, "No", "Yes")))
L16: =IF(COUNTIF(F16:J16, "Yes")>0, "No", "Yes") -> Yes | O16: =IF(ISBLANK(M16), "", IF(ISBLANK(N16), "Yes", IF(N16 < 'County Names to hide'!$C$2, "No", "Yes")))
... L498: =IF(COUNTIF(F498:J498, "Yes")>0, "No", "Yes") -> Yes | O498: =IF(ISBLANK(M498), "", IF(ISBLANK(N498), "Yes", IF(N498 < 'County Names to hide'!$C$2, "No", "Yes")))

Sheet Outcomes Aggregate
A1: This sheet will populate automatically based on the data entered in the "Outcomes" spreadsheet with the exception of the "Long-Term Outcomes". Be sure to choose the correct quarter on the Cover Sheet tab. Please review the notes in the "n" columns which describe who the n refers to. If you encounter any issues with formatting or dropdown selections, reach out to the CDSS FFPS team for assistance: FFPSApreventionservices@dss.ca.gov. To keep a copy of your aggregate data for each quarter, save a copy of this sheet, "Fidelity-MICA Scores" or "Fidelity-MITI Scores" and "Fidelity Aggregate" sheets. These sheets will overwrite whenever you add new data. Reminder: The CDSS/CARES biannual templates are completed every six months and emailed to the CDSS FFPS team in March and October. To prepare the biannual template: 1. Save a copy of this tab at the end of each quarter. 2. When completing the biannual template, use the two quarters that make up the reporting period. 3. Add together the “total n” columns for each metric across the two quarters. 4. Enter these combined totals into the biannual template.
A2: Outcome Measures
A3: Measure | B3: Indicator | C3: Total | E3: Hispanic | H3: White | K3: Black or African American | N3: Asian | Q3: Native Hawaiian or Other Pacific Islander | T3: American Indian or Alaska Native
C4: n | D4: Number of Open Cases this Quarter | E4: n | F4: Number of Open Cases this Quarter | G4: Percent | H4: n | I4: Number of Open Cases this Quarter | J4: Percent | K4: n | L4: Number of Open Cases this Quarter | M4: Percent | N4: n | O4: Number of Open Cases this Quarter | P4: Percent | Q4: n | R4: Number of Open Cases this Quarter | S4: Percent | T4: n | U4: Number of Open Cases this Quarter | V4: Percent
A5: Increased Parent/Caregiver engagement | B5: # of families with an open child welfare, probation, or community pathway case that had one or more in-person contacts. | C5: =COUNTIFS( Table1[Was there an open case (child welfare, probation, or community pathway) for this child during the quarter? ], "Yes", Table1[How many in person contacts occurred with a parent or caregiver during the quarter? ], ">=1", Table1[Was this individual open during the report quarter?], "Yes" ) -> 0 | D5: =COUNTIFS( Table1[Was there an open case (child welfare, probation, or community pathway) for this child during the quarter? ], "Yes", Table1[Was this individual open during the report quarter?], "Yes" ) -> 0 | E5: =COUNTIFS(Table1[Was there an open case (child welfare, probation, or community pathway) for this child during the quarter? ],"Yes",Table1[How many in person contacts occurred with a parent or caregiver during the quarter? ],">=1",Table1[Was this individual open during the report quarter?],"Yes",Table1[[ Hispanic or Latino Ethnicity]],"Yes") -> 0 | F5: =COUNTIFS( Table1[Was there an open case (child welfare, probation, or community pathway) for this child during the quarter? ], "Yes", Table1[Was this individual open during the report quarter?], "Yes", Table1[[ Hispanic or Latino Ethnicity]], "Yes" ) -> 0 | G5: =IFERROR(ROUND((E5/F5)*100,0),"NA") -> NA | H5: =COUNTIFS(Table1[Was there an open case (child welfare, probation, or community pathway) for this child during the quarter? ],"Yes",Table1[How many in person contacts occurred with a parent or caregiver during the quarter? ],">=1",Table1[Was this individual open during the report quarter?],"Yes",Table1[Race: White],"Yes") -> 0 | I5: =COUNTIFS( Table1[Was there an open case (child welfare, probation, or community pathway) for this child during the quarter? ], "Yes", Table1[Was this individual open during the report quarter?], "Yes", Table1[Race: White], "Yes" ) -> 0 | J5: =IFERROR(ROUND((H5/I5)*100,0),"NA") -> NA | K5: =COUNTIFS(Table1[Was there an open case (child welfare, probation, or community pathway) for this child during the quarter? ],"Yes",Table1[How many in person contacts occurred with a parent or caregiver during the quarter? ],">=1",Table1[Was this individual open during the report quarter?],"Yes",Table1[Race: Black or African American],"Yes") -> 0 | L5: =COUNTIFS( Table1[Was there an open case (child welfare, probation, or community pathway) for this child during the quarter? ], "Yes", Table1[Was this individual open during the report quarter?], "Yes", Table1[Race: Black or African American], "Yes" ) -> 0 | M5: =IFERROR(ROUND((K5/L5)*100,0),"NA") -> NA | N5: =COUNTIFS(Table1[Was there an open case (child welfare, probation, or community pathway) for this child during the quarter? ],"Yes",Table1[How many in person contacts occurred with a parent or caregiver during the quarter? ],">=1",Table1[Was this individual open during the report quarter?],"Yes",Table1[Race: Asian],"Yes") -> 0 | O5: =COUNTIFS( Table1[Was there an open case (child welfare, probation, or community pathway) for this child during the quarter? ], "Yes", Table1[Was this individual open during the report quarter?], "Yes", Table1[Race: Asian], "Yes" ) -> 0 | P5: =IFERROR(ROUND((N5/O5)*100,0),"NA") -> NA | Q5: =COUNTIFS(Table1[Was there an open case (child welfare, probation, or community pathway) for this child during the quarter? ],"Yes",Table1[How many in person contacts occurred with a parent or caregiver during the quarter? ],">=1",Table1[Was this individual open during the report quarter?],"Yes",Table1[Race: Native Hawaiian or Other Pacific Islander],"Yes") -> 0 | R5: =COUNTIFS( Table1[Was there an open case (child welfare, probation, or community pathway) for this child during the quarter? ], "Yes", Table1[Was this individual open during the report quarter?], "Yes", Table1[Race: Native Hawaiian or Other Pacific Islander], "Yes" ) -> 0 | S5: =IFERROR(ROUND((Q5/R5)*100,0),"NA") -> NA | T5: =COUNTIFS(Table1[Was there an open case (child welfare, probation, or community pathway) for this child during the quarter? ],"Yes",Table1[How many in person contacts occurred with a parent or caregiver during the quarter? ],">=1",Table1[Was this individual open during the report quarter?],"Yes",Table1[Race: American Indian or Alaska Native],"Yes") -> 0 | U5: =COUNTIFS( Table1[Was there an open case (child welfare, probation, or community pathway) for this child during the quarter? ], "Yes", Table1[Was this individual open during the report quarter?], "Yes", Table1[Race: American Indian or Alaska Native], "Yes" ) -> 0 | V5: =IFERROR(ROUND((T5/U5)*100,0),"NA") -> NA
B6: # of families with an open child welfare, probation, or community pathway case where staff documented MI was used during each of the monthly contacts. | C6: =COUNTIFS(Table1[Was there an open case (child welfare, probation, or community pathway) for this child during the quarter? ], "Yes", Table1[Was this individual open during the report quarter?], "Yes", Table1[How many in person contacts occurred with a parent or caregiver during the quarter? ], ">=1", Table1[Did each of these in-person contacts with a parent or caregiver have MI use documented? ],"Yes") -> 0 | D6: =COUNTIFS( Table1[Was there an open case (child welfare, probation, or community pathway) for this child during the quarter? ], "Yes", Table1[Was this individual open during the report quarter?], "Yes" ) -> 0 | E6: =COUNTIFS(Table1[Was there an open case (child welfare, probation, or community pathway) for this child during the quarter? ],"Yes",Table1[Was this individual open during the report quarter?],"Yes",Table1[How many in person contacts occurred with a parent or caregiver during the quarter? ],">=1",Table1[Did each of these in-person contacts with a parent or caregiver have MI use documented? ],"Yes",Table1[[ Hispanic or Latino Ethnicity]],"Yes") -> 0 | F6: =COUNTIFS( Table1[Was there an open case (child welfare, probation, or community pathway) for this child during the quarter? ], "Yes", Table1[Was this individual open during the report quarter?], "Yes", Table1[[ Hispanic or Latino Ethnicity]], "Yes" ) -> 0 | G6: =IFERROR(ROUND((E6/F6)*100,0),"NA") -> NA | H6: =COUNTIFS(Table1[Was there an open case (child welfare, probation, or community pathway) for this child during the quarter? ],"Yes",Table1[Was this individual open during the report quarter?],"Yes",Table1[How many in person contacts occurred with a parent or caregiver during the quarter? ],">=1",Table1[Did each of these in-person contacts with a parent or caregiver have MI use documented? ],"Yes",Table1[Race: White],"Yes") -> 0 | I6: =COUNTIFS( Table1[Was there an open case (child welfare, probation, or community pathway) for this child during the quarter? ], "Yes", Table1[Was this individual open during the report quarter?], "Yes", Table1[Race: White], "Yes" ) -> 0 | J6: =IFERROR(ROUND((H6/I6)*100,0),"NA") -> NA | K6: =COUNTIFS(Table1[Was there an open case (child welfare, probation, or community pathway) for this child during the quarter? ],"Yes",Table1[Was this individual open during the report quarter?],"Yes",Table1[How many in person contacts occurred with a parent or caregiver during the quarter? ],">=1",Table1[Did each of these in-person contacts with a parent or caregiver have MI use documented? ],"Yes",Table1[Race: Black or African American],"Yes") -> 0 | L6: =COUNTIFS( Table1[Was there an open case (child welfare, probation, or community pathway) for this child during the quarter? ], "Yes", Table1[Was this individual open during the report quarter?], "Yes", Table1[Race: Black or African American], "Yes" ) -> 0 | M6: =IFERROR(ROUND((K6/L6)*100,0),"NA") -> NA | N6: =COUNTIFS(Table1[Was there an open case (child welfare, probation, or community pathway) for this child during the quarter? ],"Yes",Table1[Was this individual open during the report quarter?],"Yes",Table1[How many in person contacts occurred with a parent or caregiver during the quarter? ],">=1",Table1[Did each of these in-person contacts with a parent or caregiver have MI use documented? ],"Yes",Table1[Race: Asian],"Yes") -> 0 | O6: =COUNTIFS( Table1[Was there an open case (child welfare, probation, or community pathway) for this child during the quarter? ], "Yes", Table1[Was this individual open during the report quarter?], "Yes", Table1[Race: Asian], "Yes" ) -> 0 | P6: =IFERROR(ROUND((N6/O6)*100,0),"NA") -> NA | Q6: =COUNTIFS(Table1[Was there an open case (child welfare, probation, or community pathway) for this child during the quarter? ],"Yes",Table1[Was this individual open during the report quarter?],"Yes",Table1[How many in person contacts occurred with a parent or caregiver during the quarter? ],">=1",Table1[Did each of these in-person contacts with a parent or caregiver have MI use documented? ],"Yes",Table1[Race: Native Hawaiian or Other Pacific Islander],"Yes") -> 0 | R6: =COUNTIFS( Table1[Was there an open case (child welfare, probation, or community pathway) for this child during the quarter? ], "Yes", Table1[Was this individual open during the report quarter?], "Yes", Table1[Race: Native Hawaiian or Other Pacific Islander], "Yes" ) -> 0 | S6: =IFERROR(ROUND((Q6/R6)*100,0),"NA") -> NA | T6: =COUNTIFS(Table1[Was there an open case (child welfare, probation, or community pathway) for this child during the quarter? ],"Yes",Table1[Was this individual open during the report quarter?],"Yes",Table1[How many in person contacts occurred with a parent or caregiver during the quarter? ],">=1",Table1[Did each of these in-person contacts with a parent or caregiver have MI use documented? ],"Yes",Table1[Race: American Indian or Alaska Native],"Yes") -> 0 | U6: =COUNTIFS( Table1[Was there an open case (child welfare, probation, or community pathway) for this child during the quarter? ], "Yes", Table1[Was this individual open during the report quarter?], "Yes", Table1[Race: American Indian or Alaska Native], "Yes" ) -> 0 | V6: =IFERROR(ROUND((T6/U6)*100,0),"NA") -> NA
A7: Increased Substance Use Treatment Engagement | B7: # of adolescents receiving MI for substance abuse. * | C7: =COUNTIFS(Table1[Was this individual open during the report quarter?], "Yes", Table1[Did this youth receive MI for substance abuse this quarter?], "Yes") -> 0 | D7: =COUNTIF(Table1[Was this individual open during the report quarter?], "Yes") -> 0 | E7: =COUNTIFS(Table1[Was this individual open during the report quarter?],"Yes",Table1[Did this youth receive MI for substance abuse this quarter?],"Yes",Table1[[ Hispanic or Latino Ethnicity]],"Yes") -> 0 | F7: =COUNTIFS(Table1[Was this individual open during the report quarter?],"Yes",Table1[[ Hispanic or Latino Ethnicity]],"Yes") -> 0 | G7: =IFERROR(ROUND((E7/F7)*100,0),"NA") -> NA | H7: =COUNTIFS(Table1[Was this individual open during the report quarter?],"Yes",Table1[Did this youth receive MI for substance abuse this quarter?],"Yes",Table1[Race: White],"Yes") -> 0 | I7: =COUNTIFS(Table1[Was this individual open during the report quarter?],"Yes",Table1[Race: White],"Yes") -> 0 | J7: =IFERROR(ROUND((H7/I7)*100,0),"NA") -> NA | K7: =COUNTIFS(Table1[Was this individual open during the report quarter?],"Yes",Table1[Did this youth receive MI for substance abuse this quarter?],"Yes",Table1[Race: Black or African American],"Yes") -> 0 | L7: =COUNTIFS(Table1[Was this individual open during the report quarter?],"Yes",Table1[Race: Black or African American],"Yes") -> 0 | M7: =IFERROR(ROUND((K7/L7)*100,0),"NA") -> NA | N7: =COUNTIFS(Table1[Was this individual open during the report quarter?],"Yes",Table1[Did this youth receive MI for substance abuse this quarter?],"Yes",Table1[Race: Asian],"Yes") -> 0 | O7: =COUNTIFS(Table1[Was this individual open during the report quarter?],"Yes",Table1[Race: Asian],"Yes") -> 0 | P7: =IFERROR(ROUND((N7/O7)*100,0),"NA") -> NA | Q7: =COUNTIFS(Table1[Was this individual open during the report quarter?],"Yes",Table1[Did this youth receive MI for substance abuse this quarter?],"Yes",Table1[Race: Native Hawaiian or Other Pacific Islander],"Yes") -> 0 | R7: =COUNTIFS(Table1[Was this individual open during the report quarter?],"Yes",Table1[Race: Native Hawaiian or Other Pacific Islander],"Yes") -> 0 | S7: =IFERROR(ROUND((Q7/R7)*100,0),"NA") -> NA | T7: =COUNTIFS(Table1[Was this individual open during the report quarter?],"Yes",Table1[Did this youth receive MI for substance abuse this quarter?],"Yes",Table1[Race: American Indian or Alaska Native],"Yes") -> 0 | U7: =COUNTIFS(Table1[Was this individual open during the report quarter?],"Yes",Table1[Race: American Indian or Alaska Native],"Yes") -> 0 | V7: =IFERROR(ROUND((T7/U7)*100,0),"NA") -> NA
B8: # of adults receiving MI for substance abuse.* | C8: =COUNTIFS(Table1[Was this individual open during the report quarter?], "Yes", Table1[How many caregivers received MI for substance abuse this quarter?], "Yes") -> 0 | D8: =COUNTIF(Table1[Was this individual open during the report quarter?], "Yes") -> 0 | E8: =COUNTIFS(Table1[Was this individual open during the report quarter?],"Yes",Table1[How many caregivers received MI for substance abuse this quarter?],"Yes",Table1[[ Hispanic or Latino Ethnicity]],"Yes") -> 0 | F8: =COUNTIFS(Table1[Was this individual open during the report quarter?],"Yes",Table1[[ Hispanic or Latino Ethnicity]],"Yes") -> 0 | G8: =IFERROR(ROUND((E8/F8)*100,0),"NA") -> NA | H8: =COUNTIFS(Table1[Was this individual open during the report quarter?],"Yes",Table1[How many caregivers received MI for substance abuse this quarter?],"Yes",Table1[Race: White],"Yes") -> 0 | I8: =COUNTIFS(Table1[Was this individual open during the report quarter?],"Yes",Table1[Race: White],"Yes") -> 0 | J8: =IFERROR(ROUND((H8/I8)*100,0),"NA") -> NA | K8: =COUNTIFS(Table1[Was this individual open during the report quarter?],"Yes",Table1[How many caregivers received MI for substance abuse this quarter?],"Yes",Table1[Race: Black or African American],"Yes") -> 0 | L8: =COUNTIFS(Table1[Was this individual open during the report quarter?],"Yes",Table1[Race: Black or African American],"Yes") -> 0 | M8: =IFERROR(ROUND((K8/L8)*100,0),"NA") -> NA | N8: =COUNTIFS(Table1[Was this individual open during the report quarter?],"Yes",Table1[How many caregivers received MI for substance abuse this quarter?],"Yes",Table1[Race: Asian],"Yes") -> 0 | O8: =COUNTIFS(Table1[Was this individual open during the report quarter?],"Yes",Table1[Race: Asian],"Yes") -> 0 | P8: =IFERROR(ROUND((N8/O8)*100,0),"NA") -> NA | Q8: =COUNTIFS(Table1[Was this individual open during the report quarter?],"Yes",Table1[How many caregivers received MI for substance abuse this quarter?],"Yes",Table1[Race: Native Hawaiian or Other Pacific Islander],"Yes") -> 0 | R8: =COUNTIFS(Table1[Was this individual open during the report quarter?],"Yes",Table1[Race: Native Hawaiian or Other Pacific Islander],"Yes") -> 0 | S8: =IFERROR(ROUND((Q8/R8)*100,0),"NA") -> NA | T8: =COUNTIFS(Table1[Was this individual open during the report quarter?],"Yes",Table1[How many caregivers received MI for substance abuse this quarter?],"Yes",Table1[Race: American Indian or Alaska Native],"Yes") -> 0 | U8: =COUNTIFS(Table1[Was this individual open during the report quarter?],"Yes",Table1[Race: American Indian or Alaska Native],"Yes") -> 0 | V8: =IFERROR(ROUND((T8/U8)*100,0),"NA") -> NA
A9: DCFS Only: State Long-Term Outcomes (Note: These outcomes will not populate automatically. They must be generated from the child welfare data system, and entered directly into this sheet). | B9: ="Number of adolescents who received MI, whose Child Specific Prevention Plan (CSPP) ended between " & TEXT(EDATE('County Names to hide'!$C$2, -12), "mm/dd/yyyy") & " and " & TEXT(EDATE('County Names to hide'!$D$2, -12), "mm/dd/yyyy") & ", and who entered foster care within 12 months." -> Number of adolescents who received MI, whose Child Specific Prevention Plan (CSPP) ended between 07/01/2025 and 09/30/2025, and who entered foster care within 12 months.
B10: ="# of adolescents who received MI, whose Child Specific Prevention Plan (CSPP) ended between " & TEXT(EDATE('County Names to hide'!$C$2, -24), "mm/dd/yyyy") & " and " & TEXT(EDATE('County Names to hide'!$D$2, -24), "mm/dd/yyyy") & ", and who entered foster care within 24 months." -> # of adolescents who received MI, whose Child Specific Prevention Plan (CSPP) ended between 07/01/2024 and 09/30/2024, and who entered foster care within 24 months.
B11: ="# of adults who received MI, whose Child Specific Prevention Plan (CSPP) ended between " & TEXT(EDATE('County Names to hide'!$C$2, -12), "mm/dd/yyyy") & " and " & TEXT(EDATE('County Names to hide'!$D$2, -12), "mm/dd/yyyy") & ", and whose child entered foster care within 12 months." -> # of adults who received MI, whose Child Specific Prevention Plan (CSPP) ended between 07/01/2025 and 09/30/2025, and whose child entered foster care within 12 months.
B12: ="# of adults who received MI, whose Child Specific Prevention Plan (CSPP) ended between " & TEXT(EDATE('County Names to hide'!$C$2, -24), "mm/dd/yyyy") & " and " & TEXT(EDATE('County Names to hide'!$D$2, -24), "mm/dd/yyyy") & ", and whose child entered foster care within 24 months." -> # of adults who received MI, whose Child Specific Prevention Plan (CSPP) ended between 07/01/2024 and 09/30/2024, and whose child entered foster care within 24 months.
B14: * Note that there is no target for this outcome and high or low numbers or percentages are not good or bad. In order to interpret this metric please compare these numbers to the number of adolescents or adults who were open this quarter who have diagnosed substance abuse problems.

Sheet Fidelity Training
A1: This sheet will populate automatically based on the data entered in the "Fidelity" tabs and on the Cover Sheet. Be sure to choose the correct quarter on the Cover Sheet tab. If you encounter any issues with formatting or dropdown selections, reach out to the CDSS FFPS team for assistance: FFPSApreventionservices@dss.ca.gov. To keep a copy of your aggregate data for each quarter, save a copy of this sheet, the Fidelity-MICA Scores or Fidelity-MITI Scores tab, and the Outcomes Aggregate tab. These sheets will overwrite whenever you add new data. Reminder: The CDSS/CARES biannual templates are completed every six months and emailed to the CDSS FFPS team in March and October. To prepare the biannual template: 1. Save a copy of this tab at the end of each quarter. 2. When completing the biannual template, use the two quarters that make up the reporting period. 3. Add together the “n” columns for each metric across the two quarters. 4. Enter these combined totals into the biannual template.
A2: Fidelity Measures
A3: Measure | B3: Indicator | C3: Total Staff | D3: n | E3: Percent | F3: Indicator | G3: Total Supervisors | H3: n | I3: Percent
A4: Provider received & Maintained required training | B4: # of staff who have completed approved MI Foundational Training. | C4: =COUNTIF(Table3[Current Staff First Name], "<>") + COUNTIF(Table4[Current Staff First Name], "<>") -> 0 | D4: =COUNTIF(Table3[Was Approved MI Foundational Training completed? ], "Yes") + COUNTIF(Table4[Was MI Foundational Training completed? ], "Yes") -> 0 | E4: =IFERROR(ROUND((D4/C4)*100,0),"NA") -> NA | F4: # of supervisors who have completed approved MI Foundational Training. | G4: =COUNTIFS(Table3[Current Staff First Name], "<>", Table3[Is this staff member a supervisor?],"Yes") + COUNTIFS(Table4[Current Staff First Name], "<>", Table4[Is this staff member a supervisor?],"Yes") -> 0 | H4: =COUNTIFS(Table3[Is this staff member a supervisor?],"Yes",Table3[Was Approved MI Foundational Training completed? ], "Yes") + COUNTIFS(Table4[Is this staff member a supervisor?],"Yes",Table4[Was MI Foundational Training completed? ], "Yes") -> 0 | I4: =IFERROR(ROUND((H4/G4)*100,0),"NA") -> NA
B5: # of staff who have completed approved MI Advanced Training. | C5: =COUNTIF(Table3[Current Staff First Name], "<>") + COUNTIF(Table4[Current Staff First Name], "<>") -> 0 | D5: =COUNTIF(Table3[Was Approved MI Advanced Training completed? ], "Yes") + COUNTIF(Table4[Was MI Advanced Training completed? ], "Yes") -> 0 | E5: =IFERROR(ROUND((D5/C5)*100,0),"NA") -> NA | F5: # of supervisors who have completed approved MI Supervisor Training. | G5: =COUNTIFS(Table3[Current Staff First Name], "<>", Table3[Is this staff member a supervisor?],"Yes") + COUNTIFS(Table4[Current Staff First Name], "<>", Table4[Is this staff member a supervisor?],"Yes") -> 0 | H5: =COUNTIFS(Table3[Is this staff member a supervisor?],"Yes",Table3[Supervisors Only: Has this supervisor completed approved MI Supervisor Training?], "Yes") + COUNTIFS(Table4[Is this staff member a supervisor?],"Yes",Table4[Supervisors Only: Has this supervisor completed approved MI Supervisor Training?], "Yes") -> 0 | I5: =IFERROR(ROUND((H5/G5)*100,0),"NA") -> NA
A8: Meets Trainer Qualification Requirements | B8: Total # of qualified MI trainers | C8: =Cover_Sheet!G3 -> 0

Sheet Fidelity-MICA Scores
A1: This sheet will populate automatically based on the data entered in the "Fidelity" tabs and on the Cover Sheet. Be sure to choose the correct quarter on the Cover Sheet tab. If you encounter any issues with formatting or dropdown selections, reach out to the CDSS FFPS team for assistance: FFPSApreventionservices@dss.ca.gov. To keep a copy of your aggregate data for each quarter, save a copy of this sheet, the Fidelity-Aggregate, and the Outcomes Aggregate tab. These sheets will overwrite whenever you add new data. Reminder: The CDSS/CARES biannual templates are completed every six months and emailed to the CDSS FFPS team in March and October. To prepare the biannual template: 1. Save a copy of this tab at the end of each quarter. 2. When completing the biannual template, use the two quarters that make up the reporting period. 3. Add together the “Coding and Coaching N” columns for each metric across the two quarters. 4. Enter these combined totals into the biannual template. Note: This tab does not aggregate scores received in the last month. You can use the Fidelity-MICA tab and sort by "What was the date of their most recent fidelity coding?" to see scores received in the last month.
A2: Fidelity-MICA
A3: Score Measures | B3: N | C3: On-going Training Measures | D3: Training N | E3: Percent | F3: Coaching Measures | G3: Coding and Coaching N | H3: Percent
A4: # of staff delivering MI who achieved a ‘Proficient’ coding score more than a year before the start of the quarter | B4: =COUNTIFS(Table3[What fidelity score was received? ],"Proficient",Table3[What was the date of their most recent fidelity coding?],"<="&EDATE('County Names to hide'!$C$2,-12)) -> 0 | F4: # of staff who received a ‘Proficient’ score more than a year before the start of the quarter and participated in ongoing coding and coaching this quarter | G4: =COUNTIFS(Table3[What fidelity score was received? ],"Proficient",Table3[Did they receive coding/coaching this quarter?],"Yes",Table3[What was the date of their most recent fidelity coding?],"<="&EDATE('County Names to hide'!$C$2,-12)) -> 0 | H4: =IFERROR(ROUND((G4/B4)*100,0),"NA") -> NA
A5: # of staff delivering MI who achieved a ‘Competent’ coding score more than a year before the start of the quarter | B5: =COUNTIFS(Table3[What fidelity score was received? ],"Competent",Table3[What was the date of their most recent fidelity coding?],"<="&EDATE('County Names to hide'!$C$2,-12)) -> 0 | F5: # of staff who received a ‘Competent’ score more than a year before the start of the quarter and participated in ongoing coding and coaching this quarter | G5: =COUNTIFS(Table3[What fidelity score was received? ],"Competent",Table3[Did they receive coding/coaching this quarter?],"Yes",Table3[What was the date of their most recent fidelity coding?],"<="&EDATE('County Names to hide'!$C$2,-12)) -> 0 | H5: =IFERROR(ROUND((G5/B5)*100,0),"NA") -> NA
A6: # of staff delivering MI who achieved a ‘Client-Centered’ coding score more than six months before the start of the quarter | B6: =COUNTIFS(Table3[What fidelity score was received? ],"Client-Centered",Table3[What was the date of their most recent fidelity coding?],"<="&EDATE('County Names to hide'!$C$2,-6)) -> 0 | C6: # of staff who received a ‘Client-Centered’ score more than six months before the start of the quarter and participated in ongoing training this quarter. | D6: =COUNTIFS(Table3[What fidelity score was received? ],"Client-Centered",Table3[Did they receive ongoing (booster) training this quarter? ],"Yes",Table3[What was the date of their most recent fidelity coding?],"<="&EDATE('County Names to hide'!$C$2,-6)) -> 0 | E6: =IFERROR(ROUND((D6/B6)*100,0),"NA") -> NA | F6: # of staff who received a ‘Client-Centered’ score more than six months before the start of the quarter and participated in ongoing coding and coaching this quarter | G6: =COUNTIFS(Table3[What fidelity score was received? ],"Client-Centered",Table3[Did they receive coding/coaching this quarter?],"Yes",Table3[What was the date of their most recent fidelity coding?],"<="&EDATE('County Names to hide'!$C$2,-6)) -> 0 | H6: =IFERROR(ROUND((G6/B6)*100,0),"NA") -> NA
A7: # of staff delivering MI who achieved a ‘Generally Inconsistent’ coding score more than six months before the start of the quarter | B7: =COUNTIFS(Table3[What fidelity score was received? ],"Generally Inconsistent",Table3[What was the date of their most recent fidelity coding?],"<="&EDATE('County Names to hide'!$C$2,-6)) -> 0 | C7: # of staff who received a ‘Generally Inconsistent’ score more than six months before the start of the quarter and participated in ongoing training this quarter. | D7: =COUNTIFS(Table3[What fidelity score was received? ],"Generally Inconsistent",Table3[Did they receive ongoing (booster) training this quarter? ],"Yes",Table3[What was the date of their most recent fidelity coding?],"<="&EDATE('County Names to hide'!$C$2,-6)) -> 0 | E7: =IFERROR(ROUND((D7/B7)*100,0),"NA") -> NA | F7: # of staff who received a ‘Generally Inconsistent’ score more than six months before the start of the quarter and participated in ongoing coding and coaching this quarter | G7: =COUNTIFS(Table3[What fidelity score was received? ],"Generally Inconsistent",Table3[Did they receive coding/coaching this quarter?],"Yes",Table3[What was the date of their most recent fidelity coding?],"<="&EDATE('County Names to hide'!$C$2,-6)) -> 0 | H7: =IFERROR(ROUND((G7/B7)*100,0),"NA") -> NA
A8: # of staff delivering MI who achieved a ‘Fundamentally Inconsistent’ coding score more than six months before the start of the quarter | B8: =COUNTIFS(Table3[What fidelity score was received? ],"Fundamentally Inconsistent",Table3[What was the date of their most recent fidelity coding?],"<="&EDATE('County Names to hide'!$C$2,-6)) -> 0 | C8: # of staff who received a ‘Fundamentally Inconsistent’ score more than six months before the start of the quarter and participated in ongoing training this quarter. | D8: =COUNTIFS(Table3[What fidelity score was received? ],"Fundamentally Inconsistent",Table3[Did they receive ongoing (booster) training this quarter? ],"Yes",Table3[What was the date of their most recent fidelity coding?],"<="&EDATE('County Names to hide'!$C$2,-6)) -> 0 | E8: =IFERROR(ROUND((D8/B8)*100,0),"NA") -> NA | F8: # of staff who received a ‘Fundamentally Inconsistent’ score more than six months before the start of the quarter and participated in ongoing coding and coaching this quarter | G8: =COUNTIFS(Table3[What fidelity score was received? ],"Fundamentally Inconsistent",Table3[Did they receive coding/coaching this quarter?],"Yes",Table3[What was the date of their most recent fidelity coding?],"<="&EDATE('County Names to hide'!$C$2,-6)) -> 0 | H8: =IFERROR(ROUND((G8/B8)*100,0),"NA") -> NA

Sheet Fidelity-MITI Scores 
A1: This sheet will populate automatically based on the data entered in the "Fidelity" tabs and on the Cover Sheet. Be sure to choose the correct quarter on the Cover Sheet tab. If you encounter any issues with formatting or dropdown selections, reach out to the CDSS FFPS team for assistance: FFPSApreventionservices@dss.ca.gov. To keep a copy of your aggregate data for each quarter, save a copy of this sheet, the Fidelity-Aggregate, and the Outcomes Aggregate tab. These sheets will overwrite whenever you add new data. Reminder: The CDSS/CARES biannual templates are completed every six months and emailed to the CDSS FFPS team in March and October. To prepare the biannual template: 1. Save a copy of this tab at the end of each quarter. 2. When completing the biannual template, use the two quarters that make up the reporting period. 3. Add together the “Coding and Coaching N” columns for each metric across the two quarters. 4. Enter these combined totals into the biannual template. Note: This tab does not aggregate scores received in the last month. You can use the Fidelity-MITI tab and sort by "What was the date of their most recent fidelity coding?" to see scores received in the last month.
A3: Score Measures | B3: N | C3: Coaching Measure Name | D3: Coding and Coaching N | E3: Percent
A4: # of staff delivering MI who achieved a ‘Good’ or higher coding score more than a year before the start of the quarter | B4: =COUNTIFS( Table4[What fidelity score was received? ],"Good or higher", Table4[What was the date of their most recent fidelity coding?],"<="&EDATE('County Names to hide'!$C$2,-12) ) -> 0 | C4: # of staff who received a ‘Good’ or higher score more than a year before the start of the quarter and participated in ongoing coding and coaching this quarter | D4: =COUNTIFS( Table4[What fidelity score was received? ],"Good or higher", Table4[Did they receive coding/coaching this quarter?],"Yes", Table4[What was the date of their most recent fidelity coding?],"<="&EDATE('County Names to hide'!$C$2,-12) ) -> 0 | E4: =IFERROR(ROUND((D4/B4)*100,0),"NA") -> NA
A5: # of staff delivering MI who achieved a ‘Fair’ or lower coding score more than six months before the start of the quarter | B5: =COUNTIFS( Table4[What fidelity score was received? ],"Fair or lower", Table4[What was the date of their most recent fidelity coding?],"<="&EDATE('County Names to hide'!$C$2,-6) ) -> 0 | C5: # of staff who received a ‘Fair’ or lower score more than six months before the start of the quarter and participated in ongoing coding and coaching this quarter | D5: =COUNTIFS( Table4[What fidelity score was received? ],"Fair or lower", Table4[Did they receive coding/coaching this quarter?],"Yes", Table4[What was the date of their most recent fidelity coding?],"<="&EDATE('County Names to hide'!$C$2,-6) ) -> 0 | E5: =IFERROR(ROUND((D5/B5)*100,0),"NA") -> NA
