Workbook
Name HomeVisitorsFilteredList: 'County Names to hide'!$C$2
Name HV_FilteredList: 'County Names to hide'!$C$2:$C$100

Sheet Cover_Sheet
A1: Instructions for Completing the Spreadsheet Each quarter, one person from the county or community-based organization should complete row 3 of this cover sheet. Fill in every column. Update the Report Quarter each time you report to keep the aggregate outcome and fidelity data accurate. Do not add more rows to this sheet. If you encounter any issues with formatting or dropdown selections, reach out to the CDSS FFPS team for assistance: FFPSApreventionservices@dss.ca.gov. To keep a copy of your aggregate data for each quarter, save a copy of the "Outcomes Aggregate" and "Fidelity Aggregate" sheets. These sheets will overwrite whenever you add new data.
A2: County Name | B2: Name of EBP Model | C2: Number of Agencies | D2: Number of Sites | E2: Report Quarter | F2: Fiscal Year | G2: Report Completed By | H2: Email Address
A3: Calaveras | B3: BSFT | E3: July-September | F3: 2026

Sheet Fidelity-Therapist Info
A1: Instructions for Completing the Spreadsheet Please enter all staff names and employment dates here. Use the dropdown menus where provided to ensure consistent responses and hover over cells to view notes for specific guidance on each field. Follow the flow of the spreadsheet, ensuring that cells dependent on a prior answer are completed appropriately. If a cell does not apply based on the answer to the previous cell, leave it blank and move to the next applicable field. Conditional formatting has been applied to some cells. If you encounter any issues with formatting or dropdown selections, reach out to the CDSS FFPS team for assistance: FFPSApreventionservices@dss.ca.gov
A2: Agency Name: | F2: Site Name:
A3: Therapist First Name | B3: Therapist Last Name | C3: Therapist Employment Start Date | D3: Therapist Employment End Date | E3: Was this therapist employed by your agency during the report quarter? | F3: Does this therapist have a master's degree or higher in mental health, social work, or marriage and family therapy? | G3: Does this therapist have a bachelor's degree and five years of clinical experience? | H3: Has this therapist completed training workshop 1? | I3: Has this therapist completed training workshop 2? | J3: Has this therapist completed training workshop 3? | K3: How many months has this therapist been participating in BSFT's Adherence/Fidelity program? | L3: Did the therapist score at least a 3.8 on the BSFT adherence certification checklist at the end of their first year? | M3: Did the therapist score at least a 3.8 on the BSFT adherence certification checklist at the end of their second year? | N3: Did the therapist score at least a 3.8 on the BSFT adherence certification checklist at the end of their third year?
E4: =IF(AND(ISBLANK(A4), ISBLANK(B4)), "", IF(AND(NOT(ISBLANK(A4)), NOT(ISBLANK(B4)), ISBLANK(D4)), "Yes", IF(D4 < 'County Names to hide'!$C$2, "No", "Yes") ) )
E5: =IF(AND(ISBLANK(A5), ISBLANK(B5)), "", IF(AND(NOT(ISBLANK(A5)), NOT(ISBLANK(B5)), ISBLANK(D5)), "Yes", IF(D5 < 'County Names to hide'!$C$2, "No", "Yes") ) )
E6: =IF(AND(ISBLANK(A6), ISBLANK(B6)), "", IF(AND(NOT(ISBLANK(A6)), NOT(ISBLANK(B6)), ISBLANK(D6)), "Yes", IF(D6 < 'County Names to hide'!$C$2, "No", "Yes") ) )
E7: =IF(AND(ISBLANK(A7), ISBLANK(B7)), "", IF(AND(NOT(ISBLANK(A7)), NOT(ISBLANK(B7)), ISBLANK(D7)), "Yes", IF(D7 < 'County Names to hide'!$C$2, "No", "Yes") ) )
E8: =IF(AND(ISBLANK(A8), ISBLANK(B8)), "", IF(AND(NOT(ISBLANK(A8)), NOT(ISBLANK(B8)), ISBLANK(D8)), "Yes", IF(D8 < 'County Names to hide'!$C$2, "No", "Yes") ) )
E9: =IF(AND(ISBLANK(A9), ISBLANK(B9)), "", IF(AND(NOT(ISBLANK(A9)), NOT(ISBLANK(B9)), ISBLANK(D9)), "Yes", IF(D9 < 'County Names to hide'!$C$2, "No", "Yes") ) )
E10: =IF(AND(ISBLANK(A10), ISBLANK(B10)), "", IF(AND(NOT(ISBLANK(A10)), NOT(ISBLANK(B10)), ISBLANK(D10)), "Yes", IF(D10 < 'County Names to hide'!$C$2, "No", "Yes") ) )
E11: =IF(AND(ISBLANK(A11), ISBLANK(B11)), "", IF(AND(NOT(ISBLANK(A11)), NOT(ISBLANK(B11)), ISBLANK(D11)), "Yes", IF(D11 < 'County Names to hide'!$C$2, "No", "Yes") ) )
E12: =IF(AND(ISBLANK(A12), ISBLANK(B12)), "", IF(AND(NOT(ISBLANK(A12)), NOT(ISBLANK(B12)), ISBLANK(D12)), "Yes", IF(D12 < 'County Names to hide'!$C$2, "No", "Yes") ) )
E13: =IF(AND(ISBLANK(A13), ISBLANK(B13)), "", IF(AND(NOT(ISBLANK(A13)), NOT(ISBLANK(B13)), ISBLANK(D13)), "Yes", IF(D13 < 'County Names to hide'!$C$2, "No", "Yes") ) )
E14: =IF(AND(ISBLANK(A14), ISBLANK(B14)), "", IF(AND(NOT(ISBLANK(A14)), NOT(ISBLANK(B14)), ISBLANK(D14)), "Yes", IF(D14 < 'County Names to hide'!$C$2, "No", "Yes") ) )
E15: =IF(AND(ISBLANK(A15), ISBLANK(B15)), "", IF(AND(NOT(ISBLANK(A15)), NOT(ISBLANK(B15)), ISBLANK(D15)), "Yes", IF(D15 < 'County Names to hide'!$C$2, "No", "Yes") ) )
... E100: =IF(AND(ISBLANK(A100), ISBLANK(B100)), "", IF(AND(NOT(ISBLANK(A100)), NOT(ISBLANK(B100)), ISBLANK(D100)), "Yes", IF(D100 < 'County Names to hide'!$C$2, "No", "Yes") ) )

Sheet Fidelity-Supervisor Info
A1: Instructions for Completing the Spreadsheet Enter information about supervisor education and staffing levels here. The table should pre-populate with all supervisors employed during the quarter selected on the cover sheet.Use the dropdown menus where provided to ensure consistent responses and hover over cells to view notes for specific guidance on each field. Follow the flow of the spreadsheet, ensuring that cells dependent on a prior answer are completed appropriately. If a cell does not apply based on the answer to the previous cell, leave it blank and move to the next applicable field. Conditional formatting has been applied to some cells. If you encounter any issues with formatting or dropdown selections, reach out to the CDSS FFPS team for assistance: FFPSApreventionservices@dss.ca.gov.
A2: Agency Name: | G2: Site Name:
A3: Supervisor First Name | B3: Supervisor Last Name | C3: Supervisor Employment Start Date | D3: Supervisor Employment End Date | E3: Was this supervisor employed by your agency during the report quarter? | F3: Does this supervisor have a master's degree or higher in mental health, social work, or marriage and family therapy? | G3: Has this supervisor completed supervisor training? | H3: Date this supervisor completed the supervisor training | I3: Does the supervisor have a minimum of one year of fidelity adherence?
E4: =IF(AND(ISBLANK(A4), ISBLANK(B4)), "", IF(AND(NOT(ISBLANK(A4)), NOT(ISBLANK(B4)), ISBLANK(D4)), "Yes", IF(D4 < 'County Names to hide'!$C$2, "No", "Yes") ) )
E5: =IF(AND(ISBLANK(A5), ISBLANK(B5)), "", IF(AND(NOT(ISBLANK(A5)), NOT(ISBLANK(B5)), ISBLANK(D5)), "Yes", IF(D5 < 'County Names to hide'!$C$2, "No", "Yes") ) )
E6: =IF(AND(ISBLANK(A6), ISBLANK(B6)), "", IF(AND(NOT(ISBLANK(A6)), NOT(ISBLANK(B6)), ISBLANK(D6)), "Yes", IF(D6 < 'County Names to hide'!$C$2, "No", "Yes") ) )
E7: =IF(AND(ISBLANK(A7), ISBLANK(B7)), "", IF(AND(NOT(ISBLANK(A7)), NOT(ISBLANK(B7)), ISBLANK(D7)), "Yes", IF(D7 < 'County Names to hide'!$C$2, "No", "Yes") ) )
E8: =IF(AND(ISBLANK(A8), ISBLANK(B8)), "", IF(AND(NOT(ISBLANK(A8)), NOT(ISBLANK(B8)), ISBLANK(D8)), "Yes", IF(D8 < 'County Names to hide'!$C$2, "No", "Yes") ) )
E9: =IF(AND(ISBLANK(A9), ISBLANK(B9)), "", IF(AND(NOT(ISBLANK(A9)), NOT(ISBLANK(B9)), ISBLANK(D9)), "Yes", IF(D9 < 'County Names to hide'!$C$2, "No", "Yes") ) )
E10: =IF(AND(ISBLANK(A10), ISBLANK(B10)), "", IF(AND(NOT(ISBLANK(A10)), NOT(ISBLANK(B10)), ISBLANK(D10)), "Yes", IF(D10 < 'County Names to hide'!$C$2, "No", "Yes") ) )
E11: =IF(AND(ISBLANK(A11), ISBLANK(B11)), "", IF(AND(NOT(ISBLANK(A11)), NOT(ISBLANK(B11)), ISBLANK(D11)), "Yes", IF(D11 < 'County Names to hide'!$C$2, "No", "Yes") ) )
E12: =IF(AND(ISBLANK(A12), ISBLANK(B12)), "", IF(AND(NOT(ISBLANK(A12)), NOT(ISBLANK(B12)), ISBLANK(D12)), "Yes", IF(D12 < 'County Names to hide'!$C$2, "No", "Yes") ) )
E13: =IF(AND(ISBLANK(A13), ISBLANK(B13)), "", IF(AND(NOT(ISBLANK(A13)), NOT(ISBLANK(B13)), ISBLANK(D13)), "Yes", IF(D13 < 'County Names to hide'!$C$2, "No", "Yes") ) )
E14: =IF(AND(ISBLANK(A14), ISBLANK(B14)), "", IF(AND(NOT(ISBLANK(A14)), NOT(ISBLANK(B14)), ISBLANK(D14)), "Yes", IF(D14 < 'County Names to hide'!$C$2, "No", "Yes") ) )
E15: =IF(AND(ISBLANK(A15), ISBLANK(B15)), "", IF(AND(NOT(ISBLANK(A15)), NOT(ISBLANK(B15)), ISBLANK(D15)), "Yes", IF(D15 < 'County Names to hide'!$C$2, "No", "Yes") ) )
... E100: =IF(AND(ISBLANK(A100), ISBLANK(B100)), "", IF(AND(NOT(ISBLANK(A100)), NOT(ISBLANK(B100)), ISBLANK(D100)), "Yes", IF(D100 < 'County Names to hide'!$C$2, "No", "Yes") ) )

Sheet Outcomes
A1: Instructions for Completing the Spreadsheet (For Family First Title IV-E children/families only) Use the dropdown menus where provided to ensure consistent responses and hover over cells to view notes for specific guidance on each field. Follow the flow of the spreadsheet, ensuring that cells dependent on a prior answer are completed appropriately. If a cell does not apply based on the answer to the previous cell, leave it blank and move to the next applicable field. Conditional formatting has been applied to some cells. If you encounter any issues with formatting or dropdown selections, reach out to the CDSS FFPS team for assistance: FFPSApreventionservices@dss.ca.gov.
A2: Agency Name: | E2: Site Name:
A3: Child Identifier | M3: Program Start and End Dates
A4: DCFS/Probation Unique Identifier | B4: BSFT Model Child ID | C4: Child Date of Birth | D4: Child Sex | E4: Child Hispanic or Latino Ethnicity | F4: Child Race: White | G4: Child Race: Black or African American | H4: Child Race: Asian | I4: Child Race: Native Hawaiian or Other Pacific Islander | J4: Child Race: American Indian or Alaska Native | K4: Child Race: Declined | L4: Child Race: Unknown | M4: Program Start Date | N4: Program End Date | O4: Was this child open during the report quarter? | P4: Date Child Specific Prevention Plan Start (Year One) | Q4: Date Child Specific Prevention Plan Ended (Year One) | R4: Date Child Specific Prevention Plan Start (Year Two) | S4: Date Child Specific Prevention Plan Ended (Year Two) | T4: Total Number of Visits (as defined by the BSFT model) by the End of the Report Quarter | U4: Months Open at End of Quarter | V4: Did this case close this quarter? | W4: Did this youth exhibit clinical improvement in the social functioning subset? | X4: Did this youth demonstrate clinical improvement on the family functioning subset? | Y4: Did this youth show clinical improvement in the behavioral and emotional needs domain? | Z4: Did this youth have a reduction in association with antisocial peers? | AA4: Did this youth show clinical improvement in the conduct and socialized aggression subset? | AB4: Did the parents demonstrate reduced alcohol use on the addiction severity index? | AC4: Did the parents move out of the non-clinical range on the parenting practices questionnaire? | AD4: Did the family have a significant reduction on the general family assessment device subscale?
L5: =IF(COUNTIF(F6:K6, "Yes")>0, "No", "Yes") -> Yes | O5: =IF(ISBLANK(M5), "", IF(ISBLANK(N5), "Yes", IF(N5 < 'County Names to hide'!$C$2, "No", "Yes"))) | U5: =IF(Outcomes!M5="","", IF(AND(Outcomes!N5<>"",Outcomes!N5<'County Names to hide'!$C$2),0, ROUND((MIN(IF(Outcomes!N5="", 'County Names to hide'!$D$2, Outcomes!N5),'County Names to hide'!$D$2)-Outcomes!M5)/30,1))) | V5: =IF(OR(Outcomes!M5="",Outcomes!M5>'County Names to hide'!$D$2),"", IF(Outcomes!N5="","No", IF(AND(Outcomes!N5>'County Names to hide'!$C$2, Outcomes!N5<'County Names to hide'!$D$2), "Yes","No")))
L6: =IF(COUNTIF(F7:K7, "Yes")>0, "No", "Yes") -> Yes | O6: =IF(ISBLANK(M6), "", IF(ISBLANK(N6), "Yes", IF(N6 < 'County Names to hide'!$C$2, "No", "Yes"))) | U6: =IF(Outcomes!M6="","", IF(AND(Outcomes!N6<>"",Outcomes!N6<'County Names to hide'!$C$2),0, ROUND((MIN(IF(Outcomes!N6="", 'County Names to hide'!$D$2, Outcomes!N6),'County Names to hide'!$D$2)-Outcomes!M6)/30,1))) | V6: =IF(OR(Outcomes!M6="",Outcomes!M6>'County Names to hide'!$D$2),"", IF(Outcomes!N6="","No", IF(AND(Outcomes!N6>'County Names to hide'!$C$2, Outcomes!N6<'County Names to hide'!$D$2), "Yes","No")))
L7: =IF(COUNTIF(F8:K8, "Yes")>0, "No", "Yes") -> Yes | O7: =IF(ISBLANK(M7), "", IF(ISBLANK(N7), "Yes", IF(N7 < 'County Names to hide'!$C$2, "No", "Yes"))) | U7: =IF(Outcomes!M7="","", IF(AND(Outcomes!N7<>"",Outcomes!N7<'County Names to hide'!$C$2),0, ROUND((MIN(IF(Outcomes!N7="", 'County Names to hide'!$D$2, Outcomes!N7),'County Names to hide'!$D$2)-Outcomes!M7)/30,1))) | V7: =IF(OR(Outcomes!M7="",Outcomes!M7>'County Names to hide'!$D$2),"", IF(Outcomes!N7="","No", IF(AND(Outcomes!N7>'County Names to hide'!$C$2, Outcomes!N7<'County Names to hide'!$D$2), "Yes","No")))
L8: =IF(COUNTIF(F9:K9, "Yes")>0, "No", "Yes") -> Yes | O8: =IF(ISBLANK(M8), "", IF(ISBLANK(N8), "Yes", IF(N8 < 'County Names to hide'!$C$2, "No", "Yes"))) | U8: =IF(Outcomes!M8="","", IF(AND(Outcomes!N8<>"",Outcomes!N8<'County Names to hide'!$C$2),0, ROUND((MIN(IF(Outcomes!N8="", 'County Names to hide'!$D$2, Outcomes!N8),'County Names to hide'!$D$2)-Outcomes!M8)/30,1))) | V8: =IF(OR(Outcomes!M8="",Outcomes!M8>'County Names to hide'!$D$2),"", IF(Outcomes!N8="","No", IF(AND(Outcomes!N8>'County Names to hide'!$C$2, Outcomes!N8<'County Names to hide'!$D$2), "Yes","No")))
L9: =IF(COUNTIF(F10:K10, "Yes")>0, "No", "Yes") -> Yes | O9: =IF(ISBLANK(M9), "", IF(ISBLANK(N9), "Yes", IF(N9 < 'County Names to hide'!$C$2, "No", "Yes"))) | U9: =IF(Outcomes!M9="","", IF(AND(Outcomes!N9<>"",Outcomes!N9<'County Names to hide'!$C$2),0, ROUND((MIN(IF(Outcomes!N9="", 'County Names to hide'!$D$2, Outcomes!N9),'County Names to hide'!$D$2)-Outcomes!M9)/30,1))) | V9: =IF(OR(Outcomes!M9="",Outcomes!M9>'County Names to hide'!$D$2),"", IF(Outcomes!N9="","No", IF(AND(Outcomes!N9>'County Names to hide'!$C$2, Outcomes!N9<'County Names to hide'!$D$2), "Yes","No")))
L10: =IF(COUNTIF(F11:K11, "Yes")>0, "No", "Yes") -> Yes | O10: =IF(ISBLANK(M10), "", IF(ISBLANK(N10), "Yes", IF(N10 < 'County Names to hide'!$C$2, "No", "Yes"))) | U10: =IF(Outcomes!M10="","", IF(AND(Outcomes!N10<>"",Outcomes!N10<'County Names to hide'!$C$2),0, ROUND((MIN(IF(Outcomes!N10="", 'County Names to hide'!$D$2, Outcomes!N10),'County Names to hide'!$D$2)-Outcomes!M10)/30,1))) | V10: =IF(OR(Outcomes!M10="",Outcomes!M10>'County Names to hide'!$D$2),"", IF(Outcomes!N10="","No", IF(AND(Outcomes!N10>'County Names to hide'!$C$2, Outcomes!N10<'County Names to hide'!$D$2), "Yes","No")))
L11: =IF(COUNTIF(F12:K12, "Yes")>0, "No", "Yes") -> Yes | O11: =IF(ISBLANK(M11), "", IF(ISBLANK(N11), "Yes", IF(N11 < 'County Names to hide'!$C$2, "No", "Yes"))) | U11: =IF(Outcomes!M11="","", IF(AND(Outcomes!N11<>"",Outcomes!N11<'County Names to hide'!$C$2),0, ROUND((MIN(IF(Outcomes!N11="", 'County Names to hide'!$D$2, Outcomes!N11),'County Names to hide'!$D$2)-Outcomes!M11)/30,1))) | V11: =IF(OR(Outcomes!M11="",Outcomes!M11>'County Names to hide'!$D$2),"", IF(Outcomes!N11="","No", IF(AND(Outcomes!N11>'County Names to hide'!$C$2, Outcomes!N11<'County Names to hide'!$D$2), "Yes","No")))
L12: =IF(COUNTIF(F13:K13, "Yes")>0, "No", "Yes") -> Yes | O12: =IF(ISBLANK(M12), "", IF(ISBLANK(N12), "Yes", IF(N12 < 'County Names to hide'!$C$2, "No", "Yes"))) | U12: =IF(Outcomes!M12="","", IF(AND(Outcomes!N12<>"",Outcomes!N12<'County Names to hide'!$C$2),0, ROUND((MIN(IF(Outcomes!N12="", 'County Names to hide'!$D$2, Outcomes!N12),'County Names to hide'!$D$2)-Outcomes!M12)/30,1))) | V12: =IF(OR(Outcomes!M12="",Outcomes!M12>'County Names to hide'!$D$2),"", IF(Outcomes!N12="","No", IF(AND(Outcomes!N12>'County Names to hide'!$C$2, Outcomes!N12<'County Names to hide'!$D$2), "Yes","No")))
L13: =IF(COUNTIF(F14:K14, "Yes")>0, "No", "Yes") -> Yes | O13: =IF(ISBLANK(M13), "", IF(ISBLANK(N13), "Yes", IF(N13 < 'County Names to hide'!$C$2, "No", "Yes"))) | U13: =IF(Outcomes!M13="","", IF(AND(Outcomes!N13<>"",Outcomes!N13<'County Names to hide'!$C$2),0, ROUND((MIN(IF(Outcomes!N13="", 'County Names to hide'!$D$2, Outcomes!N13),'County Names to hide'!$D$2)-Outcomes!M13)/30,1))) | V13: =IF(OR(Outcomes!M13="",Outcomes!M13>'County Names to hide'!$D$2),"", IF(Outcomes!N13="","No", IF(AND(Outcomes!N13>'County Names to hide'!$C$2, Outcomes!N13<'County Names to hide'!$D$2), "Yes","No")))
L14: =IF(COUNTIF(F15:K15, "Yes")>0, "No", "Yes") -> Yes | O14: =IF(ISBLANK(M14), "", IF(ISBLANK(N14), "Yes", IF(N14 < 'County Names to hide'!$C$2, "No", "Yes"))) | U14: =IF(Outcomes!M14="","", IF(AND(Outcomes!N14<>"",Outcomes!N14<'County Names to hide'!$C$2),0, ROUND((MIN(IF(Outcomes!N14="", 'County Names to hide'!$D$2, Outcomes!N14),'County Names to hide'!$D$2)-Outcomes!M14)/30,1))) | V14: =IF(OR(Outcomes!M14="",Outcomes!M14>'County Names to hide'!$D$2),"", IF(Outcomes!N14="","No", IF(AND(Outcomes!N14>'County Names to hide'!$C$2, Outcomes!N14<'County Names to hide'!$D$2), "Yes","No")))
L15: =IF(COUNTIF(F16:K16, "Yes")>0, "No", "Yes") -> Yes | O15: =IF(ISBLANK(M15), "", IF(ISBLANK(N15), "Yes", IF(N15 < 'County Names to hide'!$C$2, "No", "Yes"))) | U15: =IF(Outcomes!M15="","", IF(AND(Outcomes!N15<>"",Outcomes!N15<'County Names to hide'!$C$2),0, ROUND((MIN(IF(Outcomes!N15="", 'County Names to hide'!$D$2, Outcomes!N15),'County Names to hide'!$D$2)-Outcomes!M15)/30,1))) | V15: =IF(OR(Outcomes!M15="",Outcomes!M15>'County Names to hide'!$D$2),"", IF(Outcomes!N15="","No", IF(AND(Outcomes!N15>'County Names to hide'!$C$2, Outcomes!N15<'County Names to hide'!$D$2), "Yes","No")))
L16: =IF(COUNTIF(F17:K17, "Yes")>0, "No", "Yes") -> Yes | O16: =IF(ISBLANK(M16), "", IF(ISBLANK(N16), "Yes", IF(N16 < 'County Names to hide'!$C$2, "No", "Yes"))) | U16: =IF(Outcomes!M16="","", IF(AND(Outcomes!N16<>"",Outcomes!N16<'County Names to hide'!$C$2),0, ROUND((MIN(IF(Outcomes!N16="", 'County Names to hide'!$D$2, Outcomes!N16),'County Names to hide'!$D$2)-Outcomes!M16)/30,1))) | V16: =IF(OR(Outcomes!M16="",Outcomes!M16>'County Names to hide'!$D$2),"", IF(Outcomes!N16="","No", IF(AND(Outcomes!N16>'County Names to hide'!$C$2, Outcomes!N16<'County Names to hide'!$D$2), "Yes","No")))
... L500: =IF(COUNTIF(F501:K501, "Yes")>0, "No", "Yes") -> Yes | O500: =IF(ISBLANK(M500), "", IF(ISBLANK(N500), "Yes", IF(N500 < 'County Names to hide'!$C$2, "No", "Yes"))) | U500: =IF(Outcomes!M500="","", IF(AND(Outcomes!N500<>"",Outcomes!N500<'County Names to hide'!$C$2),0, ROUND((MIN(IF(Outcomes!N500="", 'County Names to hide'!$D$2, Outcomes!N500),'County Names to hide'!$D$2)-Outcomes!M500)/30,1))) | V500: =IF(OR(Outcomes!M500="",Outcomes!M500>'County Names to hide'!$D$2),"", IF(Outcomes!N500="","No", IF(AND(Outcomes!N500>'County Names to hide'!$C$2, Outcomes!N500<'County Names to hide'!$D$2), "Yes","No")))

Sheet Fidelity_Aggregate
A1: This sheet will populate automatically based on the data entered in the "Fidelity" tabs. Be sure to choose the correct quarter on the Cover Sheet tab. If you encounter any issues with formatting or dropdown selections, reach out to the CDSS FFPS team for assistance: FFPSApreventionservices@dss.ca.gov. To keep a copy of your aggregate data for each quarter, save a copy of this sheet and the "Outcomes Aggregate" sheet. These sheets will overwrite whenever you add new data.
A2: Fidelity Measures
A3: Measure | B3: Indicator | C3: Target | D3: N | E3: Percent
A4: Provider Received and Maintained Required Training | B4: Percent of therapists who have completed Training Workshop #1 | C4: 1 | D4: =COUNTIF(Table1[Was this therapist employed by your agency during the report quarter?], "Yes") -> 0 | E4: =IFERROR(COUNTIFS(Table1[Was this therapist employed by your agency during the report quarter?],"Yes", Table1[Has this therapist completed training workshop 1?], "Yes")/COUNTIF(Table1[Was this therapist employed by your agency during the report quarter?],"Yes"),"NA") -> NA
B5: Percent of therapists who have completed Training Workshop #2 | C5: 1 | D5: =COUNTIF(Table1[Was this therapist employed by your agency during the report quarter?], "Yes") -> 0 | E5: =IFERROR(COUNTIFS(Table1[Was this therapist employed by your agency during the report quarter?],"Yes", Table1[Has this therapist completed training workshop 2?], "Yes")/COUNTIF(Table1[Was this therapist employed by your agency during the report quarter?],"Yes"),"NA") -> NA
B6: Percent of therapists who have completed Training Workshop #3 | C6: 1 | D6: =COUNTIF(Table1[Was this therapist employed by your agency during the report quarter?], "Yes") -> 0 | E6: =IFERROR(COUNTIFS(Table1[Was this therapist employed by your agency during the report quarter?],"Yes", Table1[Has this therapist completed training workshop 3?], "Yes")/COUNTIF(Table1[Was this therapist employed by your agency during the report quarter?],"Yes"),"NA") -> NA
B7: Percent of supervisors who have completed supervisor training and have had a minimum of 1 year of fidelity adherence | C7: 1 | D7: =COUNTIFS( Table2[Was this supervisor employed by your agency during the report quarter?], "Yes", Table2[Has this supervisor completed supervisor training?], "Yes", Table2[Date this supervisor completed the supervisor training], "<=" & EDATE('County Names to hide'!$D$2, -12) ) -> 0 | E7: =IFERROR( COUNTIFS( Table2[Was this supervisor employed by your agency during the report quarter?], "Yes", Table2[Has this supervisor completed supervisor training?], "Yes", Table2[Date this supervisor completed the supervisor training], "<=" & EDATE('County Names to hide'!$D$2, -12), Table2[Does the supervisor have a minimum of one year of fidelity adherence?], "Yes" ) / COUNTIFS( Table2[Was this supervisor employed by your agency during the report quarter?], "Yes", Table2[Has this supervisor completed supervisor training?], "Yes", Table2[Date this supervisor completed the supervisor training], "<=" & EDATE('County Names to hide'!$D$2, -12) ), "NA" ) -> NA
A8: Meets Staffing Qualification Requirements | B8: Percent of therapists who have at least a master’s degree in mental health, social work, marriage and family therapy, or a related field, or a bachelor’s degree plus 5 years of clinical experience | C8: 1 | D8: =COUNTIF(Table1[Was this therapist employed by your agency during the report quarter?], "Yes") -> 0 | E8: =IFERROR(COUNTIFS(Table1[Was this therapist employed by your agency during the report quarter?],"Yes", Table1[Does this therapist have a master''s degree or higher in mental health, social work, or marriage and family therapy?], "Yes")/COUNTIF(Table1[Was this therapist employed by your agency during the report quarter?],"Yes"),"NA") -> NA
B9: Percent of supervisors who have at least a master’s degree in mental health, social work, marriage and family therapy, or a related field | C9: 1 | D9: =COUNTIF(Table2[Was this supervisor employed by your agency during the report quarter?], "Yes") -> 0 | E9: =IFERROR(COUNTIFS(Table2[Was this supervisor employed by your agency during the report quarter?],"Yes", Table2[Does this supervisor have a master''s degree or higher in mental health, social work, or marriage and family therapy?], "Yes")/COUNTIF(Table2[Was this supervisor employed by your agency during the report quarter?],"Yes"),"NA") -> NA
A10: Ongoing Completion of the BSFT Adherence Certification Checklist | B10: Percent of therapists who score at least a 3.8 on the BSFT Adherence Certification Checklist at the end of their first year | C10: 1 | D10: =COUNTIFS( Table1[Was this therapist employed by your agency during the report quarter?], "Yes", Table1[How many months has this therapist been participating in BSFT''s Adherence/Fidelity program?], "<>Has not started yet", Table1[How many months has this therapist been participating in BSFT''s Adherence/Fidelity program?], "<>Less than 12 months" ) -> 0 | E10: =IFERROR( COUNTIFS( Table1[Was this therapist employed by your agency during the report quarter?], "Yes", Table1[How many months has this therapist been participating in BSFT''s Adherence/Fidelity program?], "<>Has not started yet", Table1[How many months has this therapist been participating in BSFT''s Adherence/Fidelity program?], "<>Less than 12 months", Table1[Did the therapist score at least a 3.8 on the BSFT adherence certification checklist at the end of their first year?], "Yes" ) / COUNTIFS( Table1[Was this therapist employed by your agency during the report quarter?], "Yes", Table1[How many months has this therapist been participating in BSFT''s Adherence/Fidelity program?], "<>Has not started yet", Table1[How many months has this therapist been participating in BSFT''s Adherence/Fidelity program?], "<>Less than 12 months" ), "NA" ) -> NA
B11: Percent of therapists who score at least a 3.8 on the BSFT Adherence Certification Checklist at the end of their second year | C11: 1 | D11: =COUNTIFS( Table1[Was this therapist employed by your agency during the report quarter?], "Yes", Table1[How many months has this therapist been participating in BSFT''s Adherence/Fidelity program?], "<>Has not started yet", Table1[How many months has this therapist been participating in BSFT''s Adherence/Fidelity program?], "<>Less than 12 months", Table1[How many months has this therapist been participating in BSFT''s Adherence/Fidelity program?], "<>More than 12 months but less than 24 months" ) -> 0 | E11: =IFERROR( COUNTIFS( Table1[Was this therapist employed by your agency during the report quarter?], "Yes", Table1[How many months has this therapist been participating in BSFT''s Adherence/Fidelity program?], "<>Has not started yet", Table1[How many months has this therapist been participating in BSFT''s Adherence/Fidelity program?], "<>Less than 12 months", Table1[How many months has this therapist been participating in BSFT''s Adherence/Fidelity program?], "<>More than 12 months but less than 24 months", Table1[Did the therapist score at least a 3.8 on the BSFT adherence certification checklist at the end of their second year?], "Yes" ) / COUNTIFS( Table1[Was this therapist employed by your agency during the report quarter?], "Yes", Table1[How many months has this therapist been participating in BSFT''s Adherence/Fidelity program?], "<>Has not started yet", Table1[How many months has this therapist been participating in BSFT''s Adherence/Fidelity program?], "<>Less than 12 months", Table1[How many months has this therapist been participating in BSFT''s Adherence/Fidelity program?], "<>More than 12 months but less than 24 months" ), "NA" ) -> NA
B12: Percent of therapists who score at least a 3.8 on the BSFT Adherence Certification Checklist at the end of their third year | C12: 1 | D12: =COUNTIFS( Table1[Was this therapist employed by your agency during the report quarter?], "Yes", Table1[How many months has this therapist been participating in BSFT''s Adherence/Fidelity program?], "Has completed the program") -> 0 | E12: =IFERROR( COUNTIFS( Table1[Was this therapist employed by your agency during the report quarter?], "Yes", Table1[How many months has this therapist been participating in BSFT''s Adherence/Fidelity program?], "Has completed the program", Table1[Did the therapist score at least a 3.8 on the BSFT adherence certification checklist at the end of their third year?], "Yes" ) / COUNTIFS( Table1[Was this therapist employed by your agency during the report quarter?], "Yes", Table1[How many months has this therapist been participating in BSFT''s Adherence/Fidelity program?], "Has completed the program"), "NA" ) -> NA

Sheet Outcomes_Aggregate
A1: This sheet will populate automatically based on the data entered in the "Outcomes" spreadsheet. Be sure to choose the correct quarter on the Cover Sheet tab. If you encounter any issues with formatting or dropdown selections, reach out to the CDSS FFPS team for assistance: FFPSApreventionservices@dss.ca.gov. To keep a copy of your aggregate data for each quarter, save a copy of this sheet and the "Fidelity Aggregate" sheet. These sheets will overwrite whenever you add new data.
B2: Outcome Measures
A3: Measure | B3: Indicator | D3: Total | F3: Hispanic | H3: White | J3: Black or African American | L3: Asian | N3: Native Hawaiian or Other Pacific Islander | P3: American Indian or Alaska Native
C4: Target | D4: N | E4: % | F4: N | G4: % | H4: N | I4: % | J4: N | K4: % | L4: N | M4: % | N4: N | O4: % | P4: N | Q4: %
A5: Improved child behavioral functioning | B5: % of youth with clinical improvement in the Social Functioning Subset | C5: 0.7 | D5: =COUNTIF(Table4[Did this case close this quarter?], "Yes") -> 0 | E5: =IFERROR( COUNTIFS( Table4[Did this case close this quarter?],"Yes", Table4[Did this case close this quarter?], "Yes", Table4[Did this youth exhibit clinical improvement in the social functioning subset?],"Yes") / COUNTIF( Table4[Did this case close this quarter?],"Yes"), "NA") -> NA | F5: =COUNTIFS(Table4[Child Hispanic or Latino Ethnicity], "Yes", Table4[Did this case close this quarter?], "Yes") -> 0 | G5: =IFERROR( COUNTIFS(Table4[Child Hispanic or Latino Ethnicity],"Yes", Table4[Did this case close this quarter?],"Yes", Table4[Did this youth exhibit clinical improvement in the social functioning subset?],"Yes") / COUNTIFS(Table4[Child Hispanic or Latino Ethnicity],"Yes", Table4[Did this case close this quarter?],"Yes"), "NA") -> NA | H5: =COUNTIFS(Table4[Child Race: White], "Yes", Table4[Did this case close this quarter?], "Yes") -> 0 | I5: =IFERROR( COUNTIFS(Table4[Child Race: White],"Yes", Table4[Did this case close this quarter?],"Yes", Table4[Did this youth exhibit clinical improvement in the social functioning subset?],"Yes") / COUNTIFS(Table4[Child Race: White],"Yes", Table4[Did this case close this quarter?],"Yes"), "NA") -> NA | J5: =COUNTIFS(Table4[Child Race: Black or African American], "Yes", Table4[Did this case close this quarter?], "Yes") -> 0 | K5: =IFERROR( COUNTIFS(Table4[Child Race: Black or African American],"Yes", Table4[Did this case close this quarter?],"Yes", Table4[Did this youth exhibit clinical improvement in the social functioning subset?],"Yes") / COUNTIFS(Table4[Child Race: Black or African American],"Yes", Table4[Did this case close this quarter?],"Yes"), "NA") -> NA | L5: =COUNTIFS(Table4[Child Race: Asian], "Yes", Table4[Did this case close this quarter?], "Yes") -> 0 | M5: =IFERROR( COUNTIFS(Table4[Child Race: Asian],"Yes", Table4[Did this case close this quarter?],"Yes", Table4[Did this youth exhibit clinical improvement in the social functioning subset?],"Yes") / COUNTIFS(Table4[Child Race: Asian],"Yes", Table4[Did this case close this quarter?],"Yes"), "NA") -> NA | N5: =COUNTIFS(Table4[Child Race: Native Hawaiian or Other Pacific Islander], "Yes", Table4[Did this case close this quarter?], "Yes") -> 0 | O5: =IFERROR( COUNTIFS(Table4[Child Race: Native Hawaiian or Other Pacific Islander],"Yes", Table4[Did this case close this quarter?],"Yes", Table4[Did this youth exhibit clinical improvement in the social functioning subset?],"Yes") / COUNTIFS(Table4[Child Race: Native Hawaiian or Other Pacific Islander],"Yes", Table4[Did this case close this quarter?],"Yes"), "NA") -> NA | P5: =COUNTIFS(Table4[Child Race: American Indian or Alaska Native], "Yes", Table4[Did this case close this quarter?], "Yes") -> 0 | Q5: =IFERROR( COUNTIFS(Table4[Child Race: American Indian or Alaska Native],"Yes", Table4[Did this case close this quarter?],"Yes", Table4[Did this youth exhibit clinical improvement in the social functioning subset?],"Yes") / COUNTIFS(Table4[Child Race: American Indian or Alaska Native],"Yes", Table4[Did this case close this quarter?],"Yes"), "NA") -> NA
B6: % of youth with clinical improvement in the Family Functioning Subset | C6: 0.65 | D6: =COUNTIF(Table4[Did this case close this quarter?], "Yes") -> 0 | E6: =IFERROR( COUNTIFS( Table4[Did this case close this quarter?],"Yes", Table4[Did this case close this quarter?], "Yes", Table4[Did this youth demonstrate clinical improvement on the family functioning subset?],"Yes") / COUNTIF( Table4[Did this case close this quarter?],"Yes"), "NA") -> NA | F6: =COUNTIFS(Table4[Child Hispanic or Latino Ethnicity], "Yes", Table4[Did this case close this quarter?], "Yes") -> 0 | G6: =IFERROR( COUNTIFS(Table4[Child Hispanic or Latino Ethnicity],"Yes", Table4[Did this case close this quarter?],"Yes", Table4[Did this youth demonstrate clinical improvement on the family functioning subset?],"Yes") / COUNTIFS(Table4[Child Hispanic or Latino Ethnicity],"Yes", Table4[Did this case close this quarter?],"Yes"), "NA") -> NA | H6: =COUNTIFS(Table4[Child Race: White], "Yes", Table4[Did this case close this quarter?], "Yes") -> 0 | I6: =IFERROR( COUNTIFS(Table4[Child Race: White],"Yes", Table4[Did this case close this quarter?],"Yes", Table4[Did this youth demonstrate clinical improvement on the family functioning subset?],"Yes") / COUNTIFS(Table4[Child Race: White],"Yes", Table4[Did this case close this quarter?],"Yes"), "NA") -> NA | J6: =COUNTIFS(Table4[Child Race: Black or African American], "Yes", Table4[Did this case close this quarter?], "Yes") -> 0 | K6: =IFERROR( COUNTIFS(Table4[Child Race: Black or African American],"Yes", Table4[Did this case close this quarter?],"Yes", Table4[Did this youth demonstrate clinical improvement on the family functioning subset?],"Yes") / COUNTIFS(Table4[Child Race: Black or African American],"Yes", Table4[Did this case close this quarter?],"Yes"), "NA") -> NA | L6: =COUNTIFS(Table4[Child Race: Asian], "Yes", Table4[Did this case close this quarter?], "Yes") -> 0 | M6: =IFERROR( COUNTIFS(Table4[Child Race: Asian],"Yes", Table4[Did this case close this quarter?],"Yes", Table4[Did this youth demonstrate clinical improvement on the family functioning subset?],"Yes") / COUNTIFS(Table4[Child Race: Asian],"Yes", Table4[Did this case close this quarter?],"Yes"), "NA") -> NA | N6: =COUNTIFS(Table4[Child Race: Native Hawaiian or Other Pacific Islander], "Yes", Table4[Did this case close this quarter?], "Yes") -> 0 | O6: =IFERROR( COUNTIFS(Table4[Child Race: Native Hawaiian or Other Pacific Islander],"Yes", Table4[Did this case close this quarter?],"Yes", Table4[Did this youth demonstrate clinical improvement on the family functioning subset?],"Yes") / COUNTIFS(Table4[Child Race: Native Hawaiian or Other Pacific Islander],"Yes", Table4[Did this case close this quarter?],"Yes"), "NA") -> NA | P6: =COUNTIFS(Table4[Child Race: American Indian or Alaska Native], "Yes", Table4[Did this case close this quarter?], "Yes") -> 0 | Q6: =IFERROR( COUNTIFS(Table4[Child Race: American Indian or Alaska Native],"Yes", Table4[Did this case close this quarter?],"Yes", Table4[Did this youth demonstrate clinical improvement on the family functioning subset?],"Yes") / COUNTIFS(Table4[Child Race: American Indian or Alaska Native],"Yes", Table4[Did this case close this quarter?],"Yes"), "NA") -> NA
B7: % of youth with clinical improvement in the Behavioral/Emotional Needs Domain | C7: 0.7 | D7: =COUNTIF(Table4[Did this case close this quarter?], "Yes") -> 0 | E7: =IFERROR( COUNTIFS( Table4[Did this case close this quarter?],"Yes", Table4[Did this youth show clinical improvement in the behavioral and emotional needs domain?],"Yes") / COUNTIF( Table4[Did this case close this quarter?],"Yes"), "NA") -> NA | F7: =COUNTIFS(Table4[Child Hispanic or Latino Ethnicity], "Yes", Table4[Did this case close this quarter?], "Yes") -> 0 | G7: =IFERROR( COUNTIFS(Table4[Child Hispanic or Latino Ethnicity],"Yes", Table4[Did this case close this quarter?],"Yes", Table4[Did this youth show clinical improvement in the behavioral and emotional needs domain?],"Yes") / COUNTIFS(Table4[Child Hispanic or Latino Ethnicity],"Yes", Table4[Did this case close this quarter?],"Yes"), "NA") -> NA | H7: =COUNTIFS(Table4[Child Race: White], "Yes", Table4[Did this case close this quarter?], "Yes") -> 0 | I7: =IFERROR( COUNTIFS(Table4[Child Race: White],"Yes", Table4[Did this case close this quarter?],"Yes", Table4[Did this youth show clinical improvement in the behavioral and emotional needs domain?],"Yes") / COUNTIFS(Table4[Child Race: White],"Yes", Table4[Did this case close this quarter?],"Yes"), "NA") -> NA | J7: =COUNTIFS(Table4[Child Race: Black or African American], "Yes", Table4[Did this case close this quarter?], "Yes") -> 0 | K7: =IFERROR( COUNTIFS(Table4[Child Race: Black or African American],"Yes", Table4[Did this case close this quarter?],"Yes", Table4[Did this youth show clinical improvement in the behavioral and emotional needs domain?],"Yes") / COUNTIFS(Table4[Child Race: Black or African American],"Yes", Table4[Did this case close this quarter?],"Yes"), "NA") -> NA | L7: =COUNTIFS(Table4[Child Race: Asian], "Yes", Table4[Did this case close this quarter?], "Yes") -> 0 | M7: =IFERROR( COUNTIFS(Table4[Child Race: Asian],"Yes", Table4[Did this case close this quarter?],"Yes", Table4[Did this youth show clinical improvement in the behavioral and emotional needs domain?],"Yes") / COUNTIFS(Table4[Child Race: Asian],"Yes", Table4[Did this case close this quarter?],"Yes"), "NA") -> NA | N7: =COUNTIFS(Table4[Child Race: Native Hawaiian or Other Pacific Islander], "Yes", Table4[Did this case close this quarter?], "Yes") -> 0 | O7: =IFERROR( COUNTIFS(Table4[Child Race: Native Hawaiian or Other Pacific Islander],"Yes", Table4[Did this case close this quarter?],"Yes", Table4[Did this youth show clinical improvement in the behavioral and emotional needs domain?],"Yes") / COUNTIFS(Table4[Child Race: Native Hawaiian or Other Pacific Islander],"Yes", Table4[Did this case close this quarter?],"Yes"), "NA") -> NA | P7: =COUNTIFS(Table4[Child Race: American Indian or Alaska Native], "Yes", Table4[Did this case close this quarter?], "Yes") -> 0 | Q7: =IFERROR( COUNTIFS(Table4[Child Race: American Indian or Alaska Native],"Yes", Table4[Did this case close this quarter?],"Yes", Table4[Did this youth show clinical improvement in the behavioral and emotional needs domain?],"Yes") / COUNTIFS(Table4[Child Race: American Indian or Alaska Native],"Yes", Table4[Did this case close this quarter?],"Yes"), "NA") -> NA
A8: Decrease in youth delinquent behavior | B8: % of youth with reduction in association with antisocial peers | C8: 0.6 | D8: =COUNTIF(Table4[Did this case close this quarter?], "Yes") -> 0 | E8: =IFERROR( COUNTIFS( Table4[Did this case close this quarter?],"Yes", Table4[Did this youth have a reduction in association with antisocial peers?],"Yes") / COUNTIF( Table4[Did this case close this quarter?],"Yes"), "NA") -> NA | F8: =COUNTIFS(Table4[Child Hispanic or Latino Ethnicity], "Yes", Table4[Did this case close this quarter?], "Yes") -> 0 | G8: =IFERROR( COUNTIFS(Table4[Child Hispanic or Latino Ethnicity],"Yes", Table4[Did this case close this quarter?],"Yes", Table4[Did this youth have a reduction in association with antisocial peers?],"Yes") / COUNTIFS(Table4[Child Hispanic or Latino Ethnicity],"Yes", Table4[Did this case close this quarter?],"Yes"), "NA") -> NA | H8: =COUNTIFS(Table4[Child Race: White], "Yes", Table4[Did this case close this quarter?], "Yes") -> 0 | I8: =IFERROR( COUNTIFS(Table4[Child Race: White],"Yes", Table4[Did this case close this quarter?],"Yes", Table4[Did this youth have a reduction in association with antisocial peers?],"Yes") / COUNTIFS(Table4[Child Race: White],"Yes", Table4[Did this case close this quarter?],"Yes"), "NA") -> NA | J8: =COUNTIFS(Table4[Child Race: Black or African American], "Yes", Table4[Did this case close this quarter?], "Yes") -> 0 | K8: =IFERROR( COUNTIFS(Table4[Child Race: Black or African American],"Yes", Table4[Did this case close this quarter?],"Yes", Table4[Did this youth have a reduction in association with antisocial peers?],"Yes") / COUNTIFS(Table4[Child Race: Black or African American],"Yes", Table4[Did this case close this quarter?],"Yes"), "NA") -> NA | L8: =COUNTIFS(Table4[Child Race: Asian], "Yes", Table4[Did this case close this quarter?], "Yes") -> 0 | M8: =IFERROR( COUNTIFS(Table4[Child Race: Asian],"Yes", Table4[Did this case close this quarter?],"Yes", Table4[Did this youth have a reduction in association with antisocial peers?],"Yes") / COUNTIFS(Table4[Child Race: Asian],"Yes", Table4[Did this case close this quarter?],"Yes"), "NA") -> NA | N8: =COUNTIFS(Table4[Child Race: Native Hawaiian or Other Pacific Islander], "Yes", Table4[Did this case close this quarter?], "Yes") -> 0 | O8: =IFERROR( COUNTIFS(Table4[Child Race: Native Hawaiian or Other Pacific Islander],"Yes", Table4[Did this case close this quarter?],"Yes", Table4[Did this youth have a reduction in association with antisocial peers?],"Yes") / COUNTIFS(Table4[Child Race: Native Hawaiian or Other Pacific Islander],"Yes", Table4[Did this case close this quarter?],"Yes"), "NA") -> NA | P8: =COUNTIFS(Table4[Child Race: American Indian or Alaska Native], "Yes", Table4[Did this case close this quarter?], "Yes") -> 0 | Q8: =IFERROR( COUNTIFS(Table4[Child Race: American Indian or Alaska Native],"Yes", Table4[Did this case close this quarter?],"Yes", Table4[Did this youth have a reduction in association with antisocial peers?],"Yes") / COUNTIFS(Table4[Child Race: American Indian or Alaska Native],"Yes", Table4[Did this case close this quarter?],"Yes"), "NA") -> NA
B9: % of youth with clinical improvement in the Conduct and Socialized Agreed Subset | C9: 0.6 | D9: =COUNTIF(Table4[Did this case close this quarter?], "Yes") -> 0 | E9: =IFERROR( COUNTIFS( Table4[Did this case close this quarter?],"Yes", Table4[Did this youth show clinical improvement in the conduct and socialized aggression subset?],"Yes") / COUNTIF( Table4[Did this case close this quarter?],"Yes"), "NA") -> NA | F9: =COUNTIFS(Table4[Child Hispanic or Latino Ethnicity], "Yes", Table4[Did this case close this quarter?], "Yes") -> 0 | G9: =IFERROR( COUNTIFS(Table4[Child Hispanic or Latino Ethnicity],"Yes", Table4[Did this case close this quarter?],"Yes", Table4[Did this youth show clinical improvement in the conduct and socialized aggression subset?],"Yes") / COUNTIFS(Table4[Child Hispanic or Latino Ethnicity],"Yes", Table4[Did this case close this quarter?],"Yes"), "NA") -> NA | H9: =COUNTIFS(Table4[Child Race: White], "Yes", Table4[Did this case close this quarter?], "Yes") -> 0 | I9: =IFERROR( COUNTIFS(Table4[Child Race: White],"Yes", Table4[Did this case close this quarter?],"Yes", Table4[Did this youth show clinical improvement in the conduct and socialized aggression subset?],"Yes") / COUNTIFS(Table4[Child Race: White],"Yes", Table4[Did this case close this quarter?],"Yes"), "NA") -> NA | J9: =COUNTIFS(Table4[Child Race: Black or African American], "Yes", Table4[Did this case close this quarter?], "Yes") -> 0 | K9: =IFERROR( COUNTIFS(Table4[Child Race: Black or African American],"Yes", Table4[Did this case close this quarter?],"Yes", Table4[Did this youth show clinical improvement in the conduct and socialized aggression subset?],"Yes") / COUNTIFS(Table4[Child Race: Black or African American],"Yes", Table4[Did this case close this quarter?],"Yes"), "NA") -> NA | L9: =COUNTIFS(Table4[Child Race: Asian], "Yes", Table4[Did this case close this quarter?], "Yes") -> 0 | M9: =IFERROR( COUNTIFS(Table4[Child Race: Asian],"Yes", Table4[Did this case close this quarter?],"Yes", Table4[Did this youth show clinical improvement in the conduct and socialized aggression subset?],"Yes") / COUNTIFS(Table4[Child Race: Asian],"Yes", Table4[Did this case close this quarter?],"Yes"), "NA") -> NA | N9: =COUNTIFS(Table4[Child Race: Native Hawaiian or Other Pacific Islander], "Yes", Table4[Did this case close this quarter?], "Yes") -> 0 | O9: =IFERROR( COUNTIFS(Table4[Child Race: Native Hawaiian or Other Pacific Islander],"Yes", Table4[Did this case close this quarter?],"Yes", Table4[Did this youth show clinical improvement in the conduct and socialized aggression subset?],"Yes") / COUNTIFS(Table4[Child Race: Native Hawaiian or Other Pacific Islander],"Yes", Table4[Did this case close this quarter?],"Yes"), "NA") -> NA | P9: =COUNTIFS(Table4[Child Race: American Indian or Alaska Native], "Yes", Table4[Did this case close this quarter?], "Yes") -> 0 | Q9: =IFERROR( COUNTIFS(Table4[Child Race: American Indian or Alaska Native],"Yes", Table4[Did this case close this quarter?],"Yes", Table4[Did this youth show clinical improvement in the conduct and socialized aggression subset?],"Yes") / COUNTIFS(Table4[Child Race: American Indian or Alaska Native],"Yes", Table4[Did this case close this quarter?],"Yes"), "NA") -> NA
A10: Decrease in parent/caregiver substance use | B10: % of parents with reduced alcohol use | C10: 0.65 | D10: =COUNTIF(Table4[Did this case close this quarter?], "Yes") -> 0 | E10: =IFERROR( COUNTIFS( Table4[Did this case close this quarter?],"Yes", Table4[Did the parents demonstrate reduced alcohol use on the addiction severity index?],"Yes") / COUNTIF( Table4[Did this case close this quarter?],"Yes"), "NA") -> NA | F10: =COUNTIFS(Table4[Child Hispanic or Latino Ethnicity], "Yes", Table4[Did this case close this quarter?], "Yes") -> 0 | G10: =IFERROR( COUNTIFS(Table4[Child Hispanic or Latino Ethnicity],"Yes", Table4[Did this case close this quarter?],"Yes", Table4[Did the parents demonstrate reduced alcohol use on the addiction severity index?],"Yes") / COUNTIFS(Table4[Child Hispanic or Latino Ethnicity],"Yes", Table4[Did this case close this quarter?],"Yes"), "NA") -> NA | H10: =COUNTIFS(Table4[Child Race: White], "Yes", Table4[Did this case close this quarter?], "Yes") -> 0 | I10: =IFERROR( COUNTIFS(Table4[Child Race: White],"Yes", Table4[Did this case close this quarter?],"Yes", Table4[Did the parents demonstrate reduced alcohol use on the addiction severity index?],"Yes") / COUNTIFS(Table4[Child Race: White],"Yes", Table4[Did this case close this quarter?],"Yes"), "NA") -> NA | J10: =COUNTIFS(Table4[Child Race: Black or African American], "Yes", Table4[Did this case close this quarter?], "Yes") -> 0 | K10: =IFERROR( COUNTIFS(Table4[Child Race: Black or African American],"Yes", Table4[Did this case close this quarter?],"Yes", Table4[Did the parents demonstrate reduced alcohol use on the addiction severity index?],"Yes") / COUNTIFS(Table4[Child Race: Black or African American],"Yes", Table4[Did this case close this quarter?],"Yes"), "NA") -> NA | L10: =COUNTIFS(Table4[Child Race: Asian], "Yes", Table4[Did this case close this quarter?], "Yes") -> 0 | M10: =IFERROR( COUNTIFS(Table4[Child Race: Asian],"Yes", Table4[Did this case close this quarter?],"Yes", Table4[Did the parents demonstrate reduced alcohol use on the addiction severity index?],"Yes") / COUNTIFS(Table4[Child Race: Asian],"Yes", Table4[Did this case close this quarter?],"Yes"), "NA") -> NA | N10: =COUNTIFS(Table4[Child Race: Native Hawaiian or Other Pacific Islander], "Yes", Table4[Did this case close this quarter?], "Yes") -> 0 | O10: =IFERROR( COUNTIFS(Table4[Child Race: Native Hawaiian or Other Pacific Islander],"Yes", Table4[Did this case close this quarter?],"Yes", Table4[Did the parents demonstrate reduced alcohol use on the addiction severity index?],"Yes") / COUNTIFS(Table4[Child Race: Native Hawaiian or Other Pacific Islander],"Yes", Table4[Did this case close this quarter?],"Yes"), "NA") -> NA | P10: =COUNTIFS(Table4[Child Race: American Indian or Alaska Native], "Yes", Table4[Did this case close this quarter?], "Yes") -> 0 | Q10: =IFERROR( COUNTIFS(Table4[Child Race: American Indian or Alaska Native],"Yes", Table4[Did this case close this quarter?],"Yes", Table4[Did the parents demonstrate reduced alcohol use on the addiction severity index?],"Yes") / COUNTIFS(Table4[Child Race: American Indian or Alaska Native],"Yes", Table4[Did this case close this quarter?],"Yes"), "NA") -> NA
A11: Effective parenting practices | B11: % of parents who move out of the 'non-clinical' range on the Parenting Practices Questionnaire | C11: 0.75 | D11: =COUNTIF(Table4[Did this case close this quarter?], "Yes") -> 0 | E11: =IFERROR( COUNTIFS( Table4[Did this case close this quarter?],"Yes", Table4[Did the parents move out of the non-clinical range on the parenting practices questionnaire?],"Yes") / COUNTIF( Table4[Did this case close this quarter?],"Yes"), "NA") -> NA | F11: =COUNTIFS(Table4[Child Hispanic or Latino Ethnicity], "Yes", Table4[Did this case close this quarter?], "Yes") -> 0 | G11: =IFERROR( COUNTIFS(Table4[Child Hispanic or Latino Ethnicity],"Yes", Table4[Did this case close this quarter?],"Yes", Table4[Did the parents move out of the non-clinical range on the parenting practices questionnaire?],"Yes") / COUNTIFS(Table4[Child Hispanic or Latino Ethnicity],"Yes", Table4[Did this case close this quarter?],"Yes"), "NA") -> NA | H11: =COUNTIFS(Table4[Child Race: White], "Yes", Table4[Did this case close this quarter?], "Yes") -> 0 | I11: =IFERROR( COUNTIFS(Table4[Child Race: White],"Yes", Table4[Did this case close this quarter?],"Yes", Table4[Did the parents move out of the non-clinical range on the parenting practices questionnaire?],"Yes") / COUNTIFS(Table4[Child Race: White],"Yes", Table4[Did this case close this quarter?],"Yes"), "NA") -> NA | J11: =COUNTIFS(Table4[Child Race: Black or African American], "Yes", Table4[Did this case close this quarter?], "Yes") -> 0 | K11: =IFERROR( COUNTIFS(Table4[Child Race: Black or African American],"Yes", Table4[Did this case close this quarter?],"Yes", Table4[Did the parents move out of the non-clinical range on the parenting practices questionnaire?],"Yes") / COUNTIFS(Table4[Child Race: Black or African American],"Yes", Table4[Did this case close this quarter?],"Yes"), "NA") -> NA | L11: =COUNTIFS(Table4[Child Race: Asian], "Yes", Table4[Did this case close this quarter?], "Yes") -> 0 | M11: =IFERROR( COUNTIFS(Table4[Child Race: Asian],"Yes", Table4[Did this case close this quarter?],"Yes", Table4[Did the parents move out of the non-clinical range on the parenting practices questionnaire?],"Yes") / COUNTIFS(Table4[Child Race: Asian],"Yes", Table4[Did this case close this quarter?],"Yes"), "NA") -> NA | N11: =COUNTIFS(Table4[Child Race: Native Hawaiian or Other Pacific Islander], "Yes", Table4[Did this case close this quarter?], "Yes") -> 0 | O11: =IFERROR( COUNTIFS(Table4[Child Race: Native Hawaiian or Other Pacific Islander],"Yes", Table4[Did this case close this quarter?],"Yes", Table4[Did the parents move out of the non-clinical range on the parenting practices questionnaire?],"Yes") / COUNTIFS(Table4[Child Race: Native Hawaiian or Other Pacific Islander],"Yes", Table4[Did this case close this quarter?],"Yes"), "NA") -> NA | P11: =COUNTIFS(Table4[Child Race: American Indian or Alaska Native], "Yes", Table4[Did this case close this quarter?], "Yes") -> 0 | Q11: =IFERROR( COUNTIFS(Table4[Child Race: American Indian or Alaska Native],"Yes", Table4[Did this case close this quarter?],"Yes", Table4[Did the parents move out of the non-clinical range on the parenting practices questionnaire?],"Yes") / COUNTIFS(Table4[Child Race: American Indian or Alaska Native],"Yes", Table4[Did this case close this quarter?],"Yes"), "NA") -> NA
A12: Overall family functioning | B12: % of families who have a significant reduction on the general Family Assessment Devise subscales | C12: 0.75 | D12: =COUNTIF(Table4[Did this case close this quarter?], "Yes") -> 0 | E12: =IFERROR( COUNTIFS( Table4[Did this case close this quarter?],"Yes", Table4[Did the family have a significant reduction on the general family assessment device subscale?],"Yes") / COUNTIF( Table4[Did this case close this quarter?],"Yes"), "NA") -> NA | F12: =COUNTIFS(Table4[Child Hispanic or Latino Ethnicity], "Yes", Table4[Did this case close this quarter?], "Yes") -> 0 | G12: =IFERROR( COUNTIFS(Table4[Child Hispanic or Latino Ethnicity],"Yes", Table4[Did this case close this quarter?],"Yes", Table4[Did the family have a significant reduction on the general family assessment device subscale?],"Yes") / COUNTIFS(Table4[Child Hispanic or Latino Ethnicity],"Yes", Table4[Did this case close this quarter?],"Yes"), "NA") -> NA | H12: =COUNTIFS(Table4[Child Race: White], "Yes", Table4[Did this case close this quarter?], "Yes") -> 0 | I12: =IFERROR( COUNTIFS(Table4[Child Race: White],"Yes", Table4[Did this case close this quarter?],"Yes", Table4[Did the family have a significant reduction on the general family assessment device subscale?],"Yes") / COUNTIFS(Table4[Child Race: White],"Yes", Table4[Did this case close this quarter?],"Yes"), "NA") -> NA | J12: =COUNTIFS(Table4[Child Race: Black or African American], "Yes", Table4[Did this case close this quarter?], "Yes") -> 0 | K12: =IFERROR( COUNTIFS(Table4[Child Race: Black or African American],"Yes", Table4[Did this case close this quarter?],"Yes", Table4[Did the family have a significant reduction on the general family assessment device subscale?],"Yes") / COUNTIFS(Table4[Child Race: Black or African American],"Yes", Table4[Did this case close this quarter?],"Yes"), "NA") -> NA | L12: =COUNTIFS(Table4[Child Race: Asian], "Yes", Table4[Did this case close this quarter?], "Yes") -> 0 | M12: =IFERROR( COUNTIFS(Table4[Child Race: Asian],"Yes", Table4[Did this case close this quarter?],"Yes", Table4[Did the family have a significant reduction on the general family assessment device subscale?],"Yes") / COUNTIFS(Table4[Child Race: Asian],"Yes", Table4[Did this case close this quarter?],"Yes"), "NA") -> NA | N12: =COUNTIFS(Table4[Child Race: Native Hawaiian or Other Pacific Islander], "Yes", Table4[Did this case close this quarter?], "Yes") -> 0 | O12: =IFERROR( COUNTIFS(Table4[Child Race: Native Hawaiian or Other Pacific Islander],"Yes", Table4[Did this case close this quarter?],"Yes", Table4[Did the family have a significant reduction on the general family assessment device subscale?],"Yes") / COUNTIFS(Table4[Child Race: Native Hawaiian or Other Pacific Islander],"Yes", Table4[Did this case close this quarter?],"Yes"), "NA") -> NA | P12: =COUNTIFS(Table4[Child Race: American Indian or Alaska Native], "Yes", Table4[Did this case close this quarter?], "Yes") -> 0 | Q12: =IFERROR( COUNTIFS(Table4[Child Race: American Indian or Alaska Native],"Yes", Table4[Did this case close this quarter?],"Yes", Table4[Did the family have a significant reduction on the general family assessment device subscale?],"Yes") / COUNTIFS(Table4[Child Race: American Indian or Alaska Native],"Yes", Table4[Did this case close this quarter?],"Yes"), "NA") -> NA

Sheet County Names to hide
A1: Counties | B1: Today's Date | C1: Start of Quarter | D1: End of Quarter
A2: Alameda | B2: =TODAY() -> 45950 | C2: =DATE(Cover_Sheet!$F3, CHOOSE(MATCH(Cover_Sheet!$E3, {"January-March","April-June","July-September","October-December"}, 0), 1, 4, 7, 10), 1) -> 46204 | D2: =EOMONTH(DATE(Cover_Sheet!$F3, CHOOSE(MATCH(Cover_Sheet!$E3, {"January-March","April-June","July-September","October-December"}, 0), 3, 6, 9, 12), 1), 0) -> 46295
A3: Alpine
A4: Amador
A5: Butte
A6: Calaveras
A7: Colusa
A8: Contra Costa
A9: Del Norte
A10: El Dorado
A11: Fresno
A12: Glenn
A13: Humboldt
A14: Imperial
... A59: Yuba
