Workbook
Name HomeVisitorsFilteredList: 'County Names to hide'!$C$2
Name HV_FilteredList: 'County Names to hide'!$C$2:$C$1000

Sheet Cover_Sheet
A1: Instructions for Completing the Spreadsheet Please fill out this section completely including the Report Quarter. If you do not update the Report Quarter the aggregate outcome and fidelity data will be incorrect.
A2: County Name | B2: Name of EBP Model | C2: Number of Agencies | D2: Number of Sites | E2: Report Quarter | F2: Fiscal Year | G2: Report Completed By | H2: Email Address
B3: HFA | E3: July-September | F3: 2026

Sheet Fidelity
A1: Instructions for Completing the Spreadsheet Please enter all staff names and employment dates here. Use the dropdown menus where provided to ensure consistent responses and hover over cells to view notes for specific guidance on each field. Follow the flow of the spreadsheet, ensuring that cells dependent on a prior answer are completed appropriately. If a cell does not apply based on the answer to the previous cell, leave it blank and move to the next applicable field. Conditional formatting has been applied to some cells. If you encounter any issues with formatting or dropdown selections, reach out to the CDSS FFPS team for assistance: FFPSApreventionservices@dss.ca.gov
A2: Agency Name: | E2: Site Name:
A3: Fidelity | H3: Provider Received and Maintained Required Training | K3: Meets Staffing Qualification Requirements | L3: Meets Supervision Frequency Requirements | N3: Timely Completion of Home Visits
A4: Staff Name | B4: Employment Start Date | C4: Employment End Date | D4: Was this staff member employed during the report quarter? | E4: Select the role of the home visiting staff member | F4: Indicate this staff member’s Full-Time Equivalent (FTE) as a decimal (e.g., 1.0 = full-time, 0.75 = ¾-time, 0.5 = half-time). | G4: How many months has this staff member been employed by this agency by the end of this quarter? | H4: Did the staff member receive intensive HFA core foundations training by an HFA-certified trainer within 6 months of hire? | I4: If the staff member was hired more than 12 months ago, have they received ongoing, annual training? | J4: Does this staff member have the required qualifications? | K4: Does the Direct Service Staff receive weekly supervision? | L4: Did the family use the HFA Standard Model? | M4: If "Yes," did the family receive their first home visit within 3 months after the birth of their baby? | N4: Was the family referred by child welfare using the Child Welfare Protocol? | O4: If "Yes," did the family receive their first home visit by the time their child was 24 months of age?
D5: =IF(ISBLANK(C5), "Yes", IF(C5 < 'County Names to hide'!$C$2, "No", "Yes")) -> Yes | G5: =IF(Fidelity!B5="", "", DATEDIF(Fidelity!B5, 'County Names to hide'!$D$2, "m"))
D6: =IF(ISBLANK(C6), "Yes", IF(C6 < 'County Names to hide'!$C$2, "No", "Yes")) -> Yes | G6: =IF(Fidelity!B6="", "", DATEDIF(Fidelity!B6, 'County Names to hide'!$D$2, "m"))
D7: =IF(ISBLANK(C7), "Yes", IF(C7 < 'County Names to hide'!$C$2, "No", "Yes")) -> Yes | G7: =IF(Fidelity!B7="", "", DATEDIF(Fidelity!B7, 'County Names to hide'!$D$2, "m"))
D8: =IF(ISBLANK(C8), "Yes", IF(C8 < 'County Names to hide'!$C$2, "No", "Yes")) -> Yes | G8: =IF(Fidelity!B8="", "", DATEDIF(Fidelity!B8, 'County Names to hide'!$D$2, "m"))
D9: =IF(ISBLANK(C9), "Yes", IF(C9 < 'County Names to hide'!$C$2, "No", "Yes")) -> Yes | G9: =IF(Fidelity!B9="", "", DATEDIF(Fidelity!B9, 'County Names to hide'!$D$2, "m"))
D10: =IF(ISBLANK(C10), "Yes", IF(C10 < 'County Names to hide'!$C$2, "No", "Yes")) -> Yes | G10: =IF(Fidelity!B10="", "", DATEDIF(Fidelity!B10, 'County Names to hide'!$D$2, "m"))
D11: =IF(ISBLANK(C11), "Yes", IF(C11 < 'County Names to hide'!$C$2, "No", "Yes")) -> Yes | G11: =IF(Fidelity!B11="", "", DATEDIF(Fidelity!B11, 'County Names to hide'!$D$2, "m"))
D12: =IF(ISBLANK(C12), "Yes", IF(C12 < 'County Names to hide'!$C$2, "No", "Yes")) -> Yes | G12: =IF(Fidelity!B12="", "", DATEDIF(Fidelity!B12, 'County Names to hide'!$D$2, "m"))
D13: =IF(ISBLANK(C13), "Yes", IF(C13 < 'County Names to hide'!$C$2, "No", "Yes")) -> Yes | G13: =IF(Fidelity!B13="", "", DATEDIF(Fidelity!B13, 'County Names to hide'!$D$2, "m"))
D14: =IF(ISBLANK(C14), "Yes", IF(C14 < 'County Names to hide'!$C$2, "No", "Yes")) -> Yes | G14: =IF(Fidelity!B14="", "", DATEDIF(Fidelity!B14, 'County Names to hide'!$D$2, "m"))
D15: =IF(ISBLANK(C15), "Yes", IF(C15 < 'County Names to hide'!$C$2, "No", "Yes")) -> Yes | G15: =IF(Fidelity!B15="", "", DATEDIF(Fidelity!B15, 'County Names to hide'!$D$2, "m"))
D16: =IF(ISBLANK(C16), "Yes", IF(C16 < 'County Names to hide'!$C$2, "No", "Yes")) -> Yes | G16: =IF(Fidelity!B16="", "", DATEDIF(Fidelity!B16, 'County Names to hide'!$D$2, "m"))
... D100: =IF(ISBLANK(C100), "Yes", IF(C100 < 'County Names to hide'!$C$2, "No", "Yes")) -> Yes | G100: =IF(Fidelity!B100="", "", DATEDIF(Fidelity!B100, 'County Names to hide'!$D$2, "m"))

Sheet Outcomes
A1: Instructions for Completing the Spreadsheet (For Family First Title IV-E children/families only) Use the dropdown menus where provided to ensure consistent responses and hover over cells to view notes for specific guidance on each field. Follow the flow of the spreadsheet, ensuring that cells dependent on a prior answer are completed appropriately. If a cell does not apply based on the answer to the previous cell, leave it blank and move to the next applicable field. Conditional formatting has been applied to some cells. If you encounter any issues with formatting or dropdown selections, reach out to the CDSS FFPS team for assistance: FFPSApreventionservices@dss.ca.gov.
A3: Agency Name: | E3: Site Name:
A4: Child Identifier | M4: Program Start and End Dates | Z4: Increased Positive Parenting Practices | AA4: Improved Pregnancy Outcomes | AF4: Improved Caregiver Health
A5: DCFS/Probation Unique Identifier | B5: HFA Model Child ID | C5: Child Date of Birth | D5: Child Sex | E5: Child Hispanic or Latino Ethnicity | F5: Child Race: White | G5: Child Race: Black or African American | H5: Child Race: Asian | I5: Child Race: Native Hawaiian or Other Pacific Islander | J5: Child Race: American Indian or Alaska Native | K5: Child Race: Declined | L5: Child Race: Unknown | M5: Program Start Date | N5: Program End Date | O5: Was this child engaged in services during the report quarter? | P5: Date Child Specific Prevention Plan Start (Year One) | Q5: Date Child Specific Prevention Plan Ended (Year One) | R5: Date Child Specific Prevention Plan Start (Year Two) | S5: Date Child Specific Prevention Plan Ended (Year Two) | T5: Total Number of Visits (as defined by the HFA model) by the End of the Report Quarter | U5: Months Open at End of Quarter | V5: Child Age at End of Quarter in months | W5: Name of the home visitor working with the family when the family was discharged | X5: Was a new home visitor assigned to this family this quarter? | Y5: If "Yes," what is the name of the new home visitor working with the family? | Z5: Was the caregiver-child interaction assessed using a validated tool? | AA5: Was the child's mother enrolled in the home visiting program prenatally before 37 weeks? | AB5: If "Yes," was the child born preterm following enrollment in the home visiting program? | AC5: Did the child receive a timely screen for developmental delays using the Ages & Stages (ASQ-3) at least twice annually (if age birth to 3), or once annually (if older than 3)? | AD5: Did the child have a positive screen for developmental delays? | AE5: If "Yes, did the child receive services in a timely manner following the screen? | AF5: Has the child been enrolled in home visiting for at least 3 months? | AG5: If "Yes," was the child's primary caregiver screened for depression within 3 months of enrollment or 3 months of delivery (for those enrolled prenatally)? | AH5: If "Yes," did the child's primary caregiver have a positive screen for depression? | AI5: If "Yes," did the primary caregiver receive one or more service contacts?
L6: =IF(COUNTIF(F6:K6, "Yes")>0, "No", "Yes") -> Yes | O6: =IF(ISBLANK(M6), "", IF(ISBLANK(N6), "Yes", IF(N6 < 'County Names to hide'!$C$2, "No", "Yes"))) | U6: =IF(Outcomes!M6="","", IF(AND(Outcomes!N6<>"",Outcomes!N6<'County Names to hide'!$C$2),0, ROUND((MIN(IF(Outcomes!N6="", 'County Names to hide'!$D$2, Outcomes!N6),'County Names to hide'!$D$2)-Outcomes!M5)/30,1))) | V6: =IF(Outcomes!C6="", "", DATEDIF(Outcomes!C6, 'County Names to hide'!$D$2, "m"))
L7: =IF(COUNTIF(F7:K7, "Yes")>0, "No", "Yes") -> Yes | O7: =IF(ISBLANK(M7), "", IF(ISBLANK(N7), "Yes", IF(N7 < 'County Names to hide'!$C$2, "No", "Yes"))) | U7: =IF(Outcomes!M7="","", IF(AND(Outcomes!N7<>"",Outcomes!N7<'County Names to hide'!$C$2),0, ROUND((MIN(IF(Outcomes!N7="", 'County Names to hide'!$D$2, Outcomes!N7),'County Names to hide'!$D$2)-Outcomes!M6)/30,1))) | V7: =IF(Outcomes!C7="", "", DATEDIF(Outcomes!C7, 'County Names to hide'!$D$2, "m"))
L8: =IF(COUNTIF(F8:K8, "Yes")>0, "No", "Yes") -> Yes | O8: =IF(ISBLANK(M8), "", IF(ISBLANK(N8), "Yes", IF(N8 < 'County Names to hide'!$C$2, "No", "Yes"))) | U8: =IF(Outcomes!M8="","", IF(AND(Outcomes!N8<>"",Outcomes!N8<'County Names to hide'!$C$2),0, ROUND((MIN(IF(Outcomes!N8="", 'County Names to hide'!$D$2, Outcomes!N8),'County Names to hide'!$D$2)-Outcomes!M7)/30,1))) | V8: =IF(Outcomes!C8="", "", DATEDIF(Outcomes!C8, 'County Names to hide'!$D$2, "m"))
L9: =IF(COUNTIF(F9:K9, "Yes")>0, "No", "Yes") -> Yes | O9: =IF(ISBLANK(M9), "", IF(ISBLANK(N9), "Yes", IF(N9 < 'County Names to hide'!$C$2, "No", "Yes"))) | U9: =IF(Outcomes!M9="","", IF(AND(Outcomes!N9<>"",Outcomes!N9<'County Names to hide'!$C$2),0, ROUND((MIN(IF(Outcomes!N9="", 'County Names to hide'!$D$2, Outcomes!N9),'County Names to hide'!$D$2)-Outcomes!M8)/30,1))) | V9: =IF(Outcomes!C9="", "", DATEDIF(Outcomes!C9, 'County Names to hide'!$D$2, "m"))
L10: =IF(COUNTIF(F10:K10, "Yes")>0, "No", "Yes") -> Yes | O10: =IF(ISBLANK(M10), "", IF(ISBLANK(N10), "Yes", IF(N10 < 'County Names to hide'!$C$2, "No", "Yes"))) | U10: =IF(Outcomes!M10="","", IF(AND(Outcomes!N10<>"",Outcomes!N10<'County Names to hide'!$C$2),0, ROUND((MIN(IF(Outcomes!N10="", 'County Names to hide'!$D$2, Outcomes!N10),'County Names to hide'!$D$2)-Outcomes!M9)/30,1))) | V10: =IF(Outcomes!C10="", "", DATEDIF(Outcomes!C10, 'County Names to hide'!$D$2, "m"))
L11: =IF(COUNTIF(F11:K11, "Yes")>0, "No", "Yes") -> Yes | O11: =IF(ISBLANK(M11), "", IF(ISBLANK(N11), "Yes", IF(N11 < 'County Names to hide'!$C$2, "No", "Yes"))) | U11: =IF(Outcomes!M11="","", IF(AND(Outcomes!N11<>"",Outcomes!N11<'County Names to hide'!$C$2),0, ROUND((MIN(IF(Outcomes!N11="", 'County Names to hide'!$D$2, Outcomes!N11),'County Names to hide'!$D$2)-Outcomes!M10)/30,1))) | V11: =IF(Outcomes!C11="", "", DATEDIF(Outcomes!C11, 'County Names to hide'!$D$2, "m"))
L12: =IF(COUNTIF(F12:K12, "Yes")>0, "No", "Yes") -> Yes | O12: =IF(ISBLANK(M12), "", IF(ISBLANK(N12), "Yes", IF(N12 < 'County Names to hide'!$C$2, "No", "Yes"))) | U12: =IF(Outcomes!M12="","", IF(AND(Outcomes!N12<>"",Outcomes!N12<'County Names to hide'!$C$2),0, ROUND((MIN(IF(Outcomes!N12="", 'County Names to hide'!$D$2, Outcomes!N12),'County Names to hide'!$D$2)-Outcomes!M11)/30,1))) | V12: =IF(Outcomes!C12="", "", DATEDIF(Outcomes!C12, 'County Names to hide'!$D$2, "m"))
L13: =IF(COUNTIF(F13:K13, "Yes")>0, "No", "Yes") -> Yes | O13: =IF(ISBLANK(M13), "", IF(ISBLANK(N13), "Yes", IF(N13 < 'County Names to hide'!$C$2, "No", "Yes"))) | U13: =IF(Outcomes!M13="","", IF(AND(Outcomes!N13<>"",Outcomes!N13<'County Names to hide'!$C$2),0, ROUND((MIN(IF(Outcomes!N13="", 'County Names to hide'!$D$2, Outcomes!N13),'County Names to hide'!$D$2)-Outcomes!M12)/30,1))) | V13: =IF(Outcomes!C13="", "", DATEDIF(Outcomes!C13, 'County Names to hide'!$D$2, "m"))
L14: =IF(COUNTIF(F14:K14, "Yes")>0, "No", "Yes") -> Yes | O14: =IF(ISBLANK(M14), "", IF(ISBLANK(N14), "Yes", IF(N14 < 'County Names to hide'!$C$2, "No", "Yes"))) | U14: =IF(Outcomes!M14="","", IF(AND(Outcomes!N14<>"",Outcomes!N14<'County Names to hide'!$C$2),0, ROUND((MIN(IF(Outcomes!N14="", 'County Names to hide'!$D$2, Outcomes!N14),'County Names to hide'!$D$2)-Outcomes!M13)/30,1))) | V14: =IF(Outcomes!C14="", "", DATEDIF(Outcomes!C14, 'County Names to hide'!$D$2, "m"))
L15: =IF(COUNTIF(F15:K15, "Yes")>0, "No", "Yes") -> Yes | O15: =IF(ISBLANK(M15), "", IF(ISBLANK(N15), "Yes", IF(N15 < 'County Names to hide'!$C$2, "No", "Yes"))) | U15: =IF(Outcomes!M15="","", IF(AND(Outcomes!N15<>"",Outcomes!N15<'County Names to hide'!$C$2),0, ROUND((MIN(IF(Outcomes!N15="", 'County Names to hide'!$D$2, Outcomes!N15),'County Names to hide'!$D$2)-Outcomes!M14)/30,1))) | V15: =IF(Outcomes!C15="", "", DATEDIF(Outcomes!C15, 'County Names to hide'!$D$2, "m"))
L16: =IF(COUNTIF(F16:K16, "Yes")>0, "No", "Yes") -> Yes | O16: =IF(ISBLANK(M16), "", IF(ISBLANK(N16), "Yes", IF(N16 < 'County Names to hide'!$C$2, "No", "Yes"))) | U16: =IF(Outcomes!M16="","", IF(AND(Outcomes!N16<>"",Outcomes!N16<'County Names to hide'!$C$2),0, ROUND((MIN(IF(Outcomes!N16="", 'County Names to hide'!$D$2, Outcomes!N16),'County Names to hide'!$D$2)-Outcomes!M15)/30,1))) | V16: =IF(Outcomes!C16="", "", DATEDIF(Outcomes!C16, 'County Names to hide'!$D$2, "m"))
L17: =IF(COUNTIF(F17:K17, "Yes")>0, "No", "Yes") -> Yes | O17: =IF(ISBLANK(M17), "", IF(ISBLANK(N17), "Yes", IF(N17 < 'County Names to hide'!$C$2, "No", "Yes"))) | U17: =IF(Outcomes!M17="","", IF(AND(Outcomes!N17<>"",Outcomes!N17<'County Names to hide'!$C$2),0, ROUND((MIN(IF(Outcomes!N17="", 'County Names to hide'!$D$2, Outcomes!N17),'County Names to hide'!$D$2)-Outcomes!M16)/30,1))) | V17: =IF(Outcomes!C17="", "", DATEDIF(Outcomes!C17, 'County Names to hide'!$D$2, "m"))
... L500: =IF(COUNTIF(F500:K500, "Yes")>0, "No", "Yes") -> Yes | O500: =IF(ISBLANK(M500), "", IF(ISBLANK(N500), "Yes", IF(N500 < 'County Names to hide'!$C$2, "No", "Yes"))) | U500: =IF(Outcomes!M500="","", IF(AND(Outcomes!N500<>"",Outcomes!N500<'County Names to hide'!$C$2),0, ROUND((MIN(IF(Outcomes!N500="", 'County Names to hide'!$D$2, Outcomes!N500),'County Names to hide'!$D$2)-Outcomes!M499)/30,1))) | V500: =IF(Outcomes!C500="", "", DATEDIF(Outcomes!C500, 'County Names to hide'!$D$2, "m"))

Sheet Fidelity_Aggregate
A1: This sheet will populate automatically based on the data entered in the "Fidelity" tabs. Be sure to choose the correct quarter on the Cover Sheet tab. If you encounter any issues with formatting or dropdown selections, reach out to the CDSS FFPS team for assistance: FFPSApreventionservices@dss.ca.gov. To keep a copy of your aggregate data for each quarter, save a copy of this sheet and the "Outcomes Aggregate" sheet. These sheets will overwrite whenever you add new data.
A2: Fidelity Measures
A3: Measure | B3: Indicator | C3: Target | D3: N | E3: Percent
A4: Provider Received and Maintained Required Training | B4: Percent of staff (direct service staff, supervisors, program managers) who received intensive HFA core foundations training by an HFA-certified trainer within 6 months of hire | C4: 1 | D4: =COUNTIFS(Table3[Was this staff member employed during the report quarter?], "Yes", Table3[How many months has this staff member been employed by this agency by the end of this quarter? ], ">6") -> 0 | E4: =IFERROR(COUNTIFS(Table3[Was this staff member employed during the report quarter?], "Yes", Table3[How many months has this staff member been employed by this agency by the end of this quarter? ], ">6", Table3[Did the staff member receive intensive HFA core foundations training by an HFA-certified trainer within 6 months of hire? ], "Yes")/ COUNTIFS(Table3[Was this staff member employed during the report quarter?], "Yes", Table3[How many months has this staff member been employed by this agency by the end of this quarter? ], ">6"), "NA") -> NA
B5: Percent of staff (direct service staff, supervisors, program managers) hired more than 12 months ago who have received ongoing annual training | C5: 1 | D5: =COUNTIFS(Table3[Was this staff member employed during the report quarter?], "Yes", Table3[How many months has this staff member been employed by this agency by the end of this quarter? ], ">12") -> 0 | E5: =IFERROR(COUNTIFS(Table3[Was this staff member employed during the report quarter?], "Yes", Table3[How many months has this staff member been employed by this agency by the end of this quarter? ], ">12", Table3[If the staff member was hired more than 12 months ago, have they received ongoing, annual training? ], "Yes")/ COUNTIFS(Table3[Was this staff member employed during the report quarter?], "Yes", Table3[How many months has this staff member been employed by this agency by the end of this quarter? ], ">12"), "NA") -> NA
A6: Meet Staffing Qualifications Requirements | B6: Percent of program managers who have required qualifications | C6: 1 | D6: =COUNTIFS(Table3[Was this staff member employed during the report quarter?], "Yes", Table3[Select the role of the home visiting staff member], "Program Manager") -> 0 | E6: =IFERROR(COUNTIFS(Table3[Was this staff member employed during the report quarter?], "Yes", Table3[Select the role of the home visiting staff member], "Program Manager", Table3[Does this staff member have the required qualifications? ], "Yes")/ COUNTIFS(Table3[Was this staff member employed during the report quarter?], "Yes", Table3[Select the role of the home visiting staff member], "Program Manager"), "NA") -> NA
B7: Percent of supervisors who have required qualifications | C7: 1 | D7: =COUNTIFS(Table3[Was this staff member employed during the report quarter?], "Yes", Table3[Select the role of the home visiting staff member], "Supervisor") -> 0 | E7: =IFERROR(COUNTIFS(Table3[Was this staff member employed during the report quarter?], "Yes", Table3[Select the role of the home visiting staff member], "Supervisor", Table3[Does this staff member have the required qualifications? ], "Yes")/ COUNTIFS(Table3[Was this staff member employed during the report quarter?], "Yes", Table3[Select the role of the home visiting staff member], "Supervisor"), "NA") -> NA
B8: Percent of direct service staff who have required qualifications | C8: 1 | D8: =COUNTIFS(Table3[Was this staff member employed during the report quarter?], "Yes", Table3[Select the role of the home visiting staff member], "Direct Service Staff") -> 0 | E8: =IFERROR(COUNTIFS(Table3[Was this staff member employed during the report quarter?], "Yes", Table3[Select the role of the home visiting staff member], "Direct Service Staff", Table3[Does this staff member have the required qualifications? ], "Yes")/ COUNTIFS(Table3[Was this staff member employed during the report quarter?], "Yes", Table3[Select the role of the home visiting staff member], "Direct Service Staff"), "NA") -> NA
A9: Meet Supervision Frequency Requirements | B9: Percent of direct service staff who receive weekly supervision | C9: 1 | D9: =COUNTIFS(Table3[Was this staff member employed during the report quarter?], "Yes", Table3[Select the role of the home visiting staff member], "Direct Service Staff") -> 0 | E9: =IFERROR(COUNTIFS(Table3[Was this staff member employed during the report quarter?], "Yes", Table3[Select the role of the home visiting staff member], "Direct Service Staff", Table3[Does the Direct Service Staff receive weekly supervision? ], "Yes")/ COUNTIFS(Table3[Was this staff member employed during the report quarter?], "Yes", Table3[Select the role of the home visiting staff member], "Direct Service Staff"), "NA") -> NA
B10: Ratio of supervisors to direct service staff is 1 to 6 | C10: YES | D10: NA | E10: =IFERROR( IF(ROUND('County Names to hide'!$E$2,4) >= 0.1667, "YES", "No"), "NA" ) -> NA
A11: Timely Completion of Home Visits | B11: Percent of families using the HFA Standard Model who receive their first home visit within 3 months after the birth of the baby | C11: 0.8 | D11: =COUNTIF(Table3[Did the family use the HFA Standard Model?], "Yes") -> 0 | E11: =IFERROR(COUNTIFS(Table3[Did the family use the HFA Standard Model?], "Yes", Table3[If "Yes," did the family receive their first home visit within 3 months after the birth of their baby?], "Yes")/ COUNTIF(Table3[Did the family use the HFA Standard Model?], "Yes"), "NA") -> NA
B12: Percent of families referred by Child Welfare using the Child Welfare Protocol who receive their first home visit by the time their child is 24 months of age | C12: 0.8 | D12: =COUNTIF(Table3[Was the family referred by child welfare using the Child Welfare Protocol?], "Yes") -> 0 | E12: =IFERROR(COUNTIFS(Table3[Was the family referred by child welfare using the Child Welfare Protocol?], "Yes", Table3[If "Yes," did the family receive their first home visit by the time their child was 24 months of age?], "Yes")/ COUNTIF(Table3[Was the family referred by child welfare using the Child Welfare Protocol?], "Yes"), "NA") -> NA

Sheet Outcomes Aggregate
A1: This sheet will populate automatically based on the data entered in the "Outcomes" spreadsheet. Be sure to choose the correct quarter on the Cover Sheet tab. If you encounter any issues with formatting or dropdown selections, reach out to the CDSS FFPS team for assistance: FFPSApreventionservices@dss.ca.gov. To keep a copy of your aggregate data for each quarter, save a copy of this sheet and the "Fidelity Aggregate" sheet. These sheets will overwrite whenever you add new data.
A2: Outcome Measures
A3: Measure | B3: Indicator | C3: Target | D3: Total | F3: Hispanic | H3: White | J3: Black or African American | L3: Asian | N3: Native Hawaiian or Other Pacific Islander | P3: American Indian or Alaska Native
D4: N | E4: % | F4: N | G4: % | H4: N | I4: % | J4: N | K4: % | L4: N | M4: % | N4: N | O4: % | P4: N | Q4: %
A5: Increased Positive Parenting Practices | B5: % of primary caregivers with children in the target level age range whose caregiver-child interaction was assessed using a validated tool. | C5: 0.9 | D5: =COUNTIF(Table2[Was this child engaged in services during the report quarter?], "Yes") -> 0 | E5: =IFERROR(COUNTIFS(Table2[Was this child engaged in services during the report quarter?], "Yes", Table2[Was the caregiver-child interaction assessed using a validated tool?], "Yes")/COUNTIF(Table2[Was this child engaged in services during the report quarter?], "Yes"), "NA") -> NA | F5: =COUNTIFS(Table2[Was this child engaged in services during the report quarter?], "Yes", Table2[Child Hispanic or Latino Ethnicity], "Yes") -> 0 | G5: =IFERROR(COUNTIFS(Table2[Was this child engaged in services during the report quarter?], "Yes", Table2[Child Hispanic or Latino Ethnicity], "Yes", Table2[Was the caregiver-child interaction assessed using a validated tool?], "Yes")/ COUNTIFS(Table2[Was this child engaged in services during the report quarter?], "Yes", Table2[Child Hispanic or Latino Ethnicity], "Yes"), "NA") -> NA | H5: =COUNTIFS(Table2[Was this child engaged in services during the report quarter?], "Yes", Table2[Child Race: White], "Yes") -> 0 | I5: =IFERROR(COUNTIFS(Table2[Was this child engaged in services during the report quarter?], "Yes", Table2[Child Race: White], "Yes", Table2[Was the caregiver-child interaction assessed using a validated tool?], "Yes")/ COUNTIFS(Table2[Was this child engaged in services during the report quarter?], "Yes", Table2[Child Race: White], "Yes"), "NA") -> NA | J5: =COUNTIFS(Table2[Was this child engaged in services during the report quarter?], "Yes", Table2[Child Race: Black or African American], "Yes") -> 0 | K5: =IFERROR(COUNTIFS(Table2[Was this child engaged in services during the report quarter?], "Yes", Table2[Child Race: Black or African American], "Yes", Table2[Was the caregiver-child interaction assessed using a validated tool?], "Yes")/ COUNTIFS(Table2[Was this child engaged in services during the report quarter?], "Yes", Table2[Child Race: Black or African American], "Yes"), "NA") -> NA | L5: =COUNTIFS(Table2[Was this child engaged in services during the report quarter?], "Yes", Table2[Child Race: Asian], "Yes") -> 0 | M5: =IFERROR(COUNTIFS(Table2[Was this child engaged in services during the report quarter?], "Yes", Table2[Child Race: Asian], "Yes", Table2[Was the caregiver-child interaction assessed using a validated tool?], "Yes")/ COUNTIFS(Table2[Was this child engaged in services during the report quarter?], "Yes", Table2[Child Race: Asian], "Yes"), "NA") -> NA | N5: =COUNTIFS(Table2[Was this child engaged in services during the report quarter?], "Yes", Table2[Child Race: Native Hawaiian or Other Pacific Islander], "Yes") -> 0 | O5: =IFERROR(COUNTIFS(Table2[Was this child engaged in services during the report quarter?], "Yes", Table2[Child Race: Native Hawaiian or Other Pacific Islander], "Yes", Table2[Was the caregiver-child interaction assessed using a validated tool?], "Yes")/ COUNTIFS(Table2[Was this child engaged in services during the report quarter?], "Yes", Table2[Child Race: Native Hawaiian or Other Pacific Islander], "Yes"), "NA") -> NA | P5: =COUNTIFS(Table2[Was this child engaged in services during the report quarter?], "Yes", Table2[Child Race: American Indian or Alaska Native], "Yes") -> 0 | Q5: =IFERROR(COUNTIFS(Table2[Was this child engaged in services during the report quarter?], "Yes", Table2[Child Race: American Indian or Alaska Native], "Yes", Table2[Was the caregiver-child interaction assessed using a validated tool?], "Yes")/ COUNTIFS(Table2[Was this child engaged in services during the report quarter?], "Yes", Table2[Child Race: American Indian or Alaska Native], "Yes"), "NA") -> NA
A6: Improved Pregnancy Outcomes | B6: % of infants (among mothers who enrolled in home visiting prenatally before 37 weeks) who are born preterm following program enrollment.​ | C6: <15% | D6: =COUNTIFS(Table2[Was this child engaged in services during the report quarter?], "Yes", Table2[Was the child''s mother enrolled in the home visiting program prenatally before 37 weeks? ], "Yes") -> 0 | E6: =IFERROR(COUNTIFS( Table2[Was this child engaged in services during the report quarter?], "Yes", Table2[Was the child''s mother enrolled in the home visiting program prenatally before 37 weeks? ], "Yes", Table2[If "Yes," was the child born preterm following enrollment in the home visiting program?], "Yes") / COUNTIFS( Table2[Was this child engaged in services during the report quarter?], "Yes", Table2[Was the child''s mother enrolled in the home visiting program prenatally before 37 weeks? ], "Yes" ),"NA") -> NA | F6: =COUNTIFS(Table2[Was this child engaged in services during the report quarter?], "Yes", Table2[Child Hispanic or Latino Ethnicity], "Yes", Table2[Was the child''s mother enrolled in the home visiting program prenatally before 37 weeks? ], "Yes") -> 0 | G6: =IFERROR(COUNTIFS( Table2[Was this child engaged in services during the report quarter?], "Yes", Table2[Child Hispanic or Latino Ethnicity], "Yes", Table2[Was the child''s mother enrolled in the home visiting program prenatally before 37 weeks? ], "Yes", Table2[If "Yes," was the child born preterm following enrollment in the home visiting program?], "Yes") / COUNTIFS( Table2[Child Hispanic or Latino Ethnicity], "Yes", Table2[Was this child engaged in services during the report quarter?], "Yes", Table2[Was the child''s mother enrolled in the home visiting program prenatally before 37 weeks? ], "Yes" ),"NA") -> NA | H6: =COUNTIFS(Table2[Was this child engaged in services during the report quarter?], "Yes", Table2[Child Race: White], "Yes", Table2[Was the child''s mother enrolled in the home visiting program prenatally before 37 weeks? ], "Yes") -> 0 | I6: =IFERROR(COUNTIFS( Table2[Was this child engaged in services during the report quarter?], "Yes", Table2[Child Race: White], "Yes", Table2[Was the child''s mother enrolled in the home visiting program prenatally before 37 weeks? ], "Yes", Table2[If "Yes," was the child born preterm following enrollment in the home visiting program?], "Yes") / COUNTIFS( Table2[Child Race: White], "Yes", Table2[Was this child engaged in services during the report quarter?], "Yes", Table2[Was the child''s mother enrolled in the home visiting program prenatally before 37 weeks? ], "Yes" ),"NA") -> NA | J6: =COUNTIFS(Table2[Was this child engaged in services during the report quarter?], "Yes", Table2[Child Race: Black or African American], "Yes", Table2[Was the child''s mother enrolled in the home visiting program prenatally before 37 weeks? ], "Yes") -> 0 | K6: =IFERROR(COUNTIFS( Table2[Was this child engaged in services during the report quarter?], "Yes", Table2[Child Race: Black or African American], "Yes", Table2[Was the child''s mother enrolled in the home visiting program prenatally before 37 weeks? ], "Yes", Table2[If "Yes," was the child born preterm following enrollment in the home visiting program?], "Yes") / COUNTIFS( Table2[Child Race: Black or African American], "Yes", Table2[Was this child engaged in services during the report quarter?], "Yes", Table2[Was the child''s mother enrolled in the home visiting program prenatally before 37 weeks? ], "Yes" ),"NA") -> NA | L6: =COUNTIFS(Table2[Was this child engaged in services during the report quarter?], "Yes", Table2[Child Race: Asian], "Yes", Table2[Was the child''s mother enrolled in the home visiting program prenatally before 37 weeks? ], "Yes") -> 0 | M6: =IFERROR(COUNTIFS( Table2[Was this child engaged in services during the report quarter?], "Yes", Table2[Child Race: Asian], "Yes", Table2[Was the child''s mother enrolled in the home visiting program prenatally before 37 weeks? ], "Yes", Table2[If "Yes," was the child born preterm following enrollment in the home visiting program?], "Yes") / COUNTIFS( Table2[Child Race: Asian], "Yes", Table2[Was this child engaged in services during the report quarter?], "Yes", Table2[Was the child''s mother enrolled in the home visiting program prenatally before 37 weeks? ], "Yes" ),"NA") -> NA | N6: =COUNTIFS(Table2[Was this child engaged in services during the report quarter?], "Yes", Table2[Child Race: Native Hawaiian or Other Pacific Islander], "Yes", Table2[Was the child''s mother enrolled in the home visiting program prenatally before 37 weeks? ], "Yes") -> 0 | O6: =IFERROR(COUNTIFS( Table2[Was this child engaged in services during the report quarter?], "Yes", Table2[Child Race: Native Hawaiian or Other Pacific Islander], "Yes", Table2[Was the child''s mother enrolled in the home visiting program prenatally before 37 weeks? ], "Yes", Table2[If "Yes," was the child born preterm following enrollment in the home visiting program?], "Yes") / COUNTIFS( Table2[Child Race: Native Hawaiian or Other Pacific Islander], "Yes", Table2[Was this child engaged in services during the report quarter?], "Yes", Table2[Was the child''s mother enrolled in the home visiting program prenatally before 37 weeks? ], "Yes" ),"NA") -> NA | P6: =COUNTIFS(Table2[Was this child engaged in services during the report quarter?], "Yes", Table2[Child Race: American Indian or Alaska Native], "Yes", Table2[Was the child''s mother enrolled in the home visiting program prenatally before 37 weeks? ], "Yes") -> 0 | Q6: =IFERROR(COUNTIFS( Table2[Was this child engaged in services during the report quarter?], "Yes", Table2[Child Race: American Indian or Alaska Native], "Yes", Table2[Was the child''s mother enrolled in the home visiting program prenatally before 37 weeks? ], "Yes", Table2[If "Yes," was the child born preterm following enrollment in the home visiting program?], "Yes") / COUNTIFS( Table2[Child Race: American Indian or Alaska Native], "Yes", Table2[Was this child engaged in services during the report quarter?], "Yes", Table2[Was the child''s mother enrolled in the home visiting program prenatally before 37 weeks? ], "Yes" ),"NA") -> NA
A7: Improved Child Health & Development | B7: % of children enrolled in home visiting with a timely screen for developmental delays using a validated parent-completed tool. | C7: 0.9 | D7: =COUNTIF(Table2[Was this child engaged in services during the report quarter?], "Yes") -> 0 | E7: =IFERROR(COUNTIFS(Table2[Was this child engaged in services during the report quarter?],"Yes", Table2[Did the child receive a timely screen for developmental delays using the Ages & Stages (ASQ-3) at least twice annually (if age birth to 3), or once annually (if older than 3)?],"Yes")/COUNTIF(Table2[Was this child engaged in services during the report quarter?],"Yes"),"NA") -> NA | F7: =COUNTIFS(Table2[Was this child engaged in services during the report quarter?],"Yes",Table2[Child Hispanic or Latino Ethnicity],"Yes") -> 0 | G7: =IFERROR(COUNTIFS(Table2[Was this child engaged in services during the report quarter?],"Yes",Table2[Did the child receive a timely screen for developmental delays using the Ages & Stages (ASQ-3) at least twice annually (if age birth to 3), or once annually (if older than 3)?],"Yes",Table2[Child Hispanic or Latino Ethnicity],"Yes")/COUNTIFS(Table2[Was this child engaged in services during the report quarter?],"Yes",Table2[Child Hispanic or Latino Ethnicity],"Yes"),"NA") -> NA | H7: =COUNTIFS(Table2[Was this child engaged in services during the report quarter?],"Yes",Table2[Child Race: White],"Yes") -> 0 | I7: =IFERROR(COUNTIFS(Table2[Was this child engaged in services during the report quarter?],"Yes",Table2[Did the child receive a timely screen for developmental delays using the Ages & Stages (ASQ-3) at least twice annually (if age birth to 3), or once annually (if older than 3)?],"Yes",Table2[Child Race: White],"Yes")/COUNTIFS(Table2[Was this child engaged in services during the report quarter?],"Yes",Table2[Child Race: White],"Yes"),"NA") -> NA | J7: =COUNTIFS(Table2[Was this child engaged in services during the report quarter?],"Yes",Table2[Child Race: Black or African American],"Yes") -> 0 | K7: =IFERROR(COUNTIFS(Table2[Was this child engaged in services during the report quarter?],"Yes",Table2[Did the child receive a timely screen for developmental delays using the Ages & Stages (ASQ-3) at least twice annually (if age birth to 3), or once annually (if older than 3)?],"Yes",Table2[Child Race: Black or African American],"Yes")/COUNTIFS(Table2[Was this child engaged in services during the report quarter?],"Yes",Table2[Child Race: Black or African American],"Yes"),"NA") -> NA | L7: =COUNTIFS(Table2[Was this child engaged in services during the report quarter?],"Yes",Table2[Child Race: Asian],"Yes") -> 0 | M7: =IFERROR(COUNTIFS(Table2[Was this child engaged in services during the report quarter?],"Yes",Table2[Did the child receive a timely screen for developmental delays using the Ages & Stages (ASQ-3) at least twice annually (if age birth to 3), or once annually (if older than 3)?],"Yes",Table2[Child Race: Asian],"Yes")/COUNTIFS(Table2[Was this child engaged in services during the report quarter?],"Yes",Table2[Child Race: Asian],"Yes"),"NA") -> NA | N7: =COUNTIFS(Table2[Was this child engaged in services during the report quarter?],"Yes",Table2[Child Race: Native Hawaiian or Other Pacific Islander],"Yes") -> 0 | O7: =IFERROR(COUNTIFS(Table2[Was this child engaged in services during the report quarter?],"Yes",Table2[Did the child receive a timely screen for developmental delays using the Ages & Stages (ASQ-3) at least twice annually (if age birth to 3), or once annually (if older than 3)?],"Yes",Table2[Child Race: Native Hawaiian or Other Pacific Islander],"Yes")/COUNTIFS(Table2[Was this child engaged in services during the report quarter?],"Yes",Table2[Child Race: Native Hawaiian or Other Pacific Islander],"Yes"),"NA") -> NA | P7: =COUNTIFS(Table2[Was this child engaged in services during the report quarter?],"Yes",Table2[Child Race: American Indian or Alaska Native],"Yes") -> 0 | Q7: =IFERROR(COUNTIFS(Table2[Was this child engaged in services during the report quarter?],"Yes",Table2[Did the child receive a timely screen for developmental delays using the Ages & Stages (ASQ-3) at least twice annually (if age birth to 3), or once annually (if older than 3)?],"Yes",Table2[Child Race: American Indian or Alaska Native],"Yes")/COUNTIFS(Table2[Was this child engaged in services during the report quarter?],"Yes",Table2[Child Race: American Indian or Alaska Native],"Yes"),"NA") -> NA
B8: % of children enrolled in home visiting referred for services for a positive screen for developmental delays (measured using a validated tool) who receive services in a timely manner. | C8: 0.9 | D8: =COUNTIFS(Table2[Was this child engaged in services during the report quarter?],"Yes", Table2[Did the child have a positive screen for developmental delays?],"Yes") -> 0 | E8: =IFERROR(COUNTIFS(Table2[Was this child engaged in services during the report quarter?],"Yes",Table2[Did the child have a positive screen for developmental delays?],"Yes",Table2[If "Yes, did the child receive services in a timely manner following the screen?],"Yes")/COUNTIFS(Table2[Was this child engaged in services during the report quarter?],"Yes",Table2[Did the child have a positive screen for developmental delays?],"Yes"),"NA") -> NA | F8: =COUNTIFS(Table2[Was this child engaged in services during the report quarter?],"Yes",Table2[Did the child have a positive screen for developmental delays?],"Yes",Table2[Child Hispanic or Latino Ethnicity],"Yes") -> 0 | G8: =IFERROR(COUNTIFS(Table2[Was this child engaged in services during the report quarter?],"Yes",Table2[Did the child have a positive screen for developmental delays?],"Yes",Table2[If "Yes, did the child receive services in a timely manner following the screen?],"Yes", Table2[Child Hispanic or Latino Ethnicity],"Yes")/COUNTIFS(Table2[Was this child engaged in services during the report quarter?],"Yes",Table2[Did the child have a positive screen for developmental delays?],"Yes",Table2[Child Hispanic or Latino Ethnicity],"Yes"),"NA") -> NA | H8: =COUNTIFS(Table2[Was this child engaged in services during the report quarter?],"Yes",Table2[Did the child have a positive screen for developmental delays?],"Yes",Table2[Child Race: White],"Yes") -> 0 | I8: =IFERROR(COUNTIFS(Table2[Was this child engaged in services during the report quarter?],"Yes",Table2[Did the child have a positive screen for developmental delays?],"Yes",Table2[If "Yes, did the child receive services in a timely manner following the screen?],"Yes", Table2[Child Race: White],"Yes")/COUNTIFS(Table2[Was this child engaged in services during the report quarter?],"Yes",Table2[Did the child have a positive screen for developmental delays?],"Yes",Table2[Child Race: White],"Yes"),"NA") -> NA | J8: =COUNTIFS(Table2[Was this child engaged in services during the report quarter?],"Yes",Table2[Did the child have a positive screen for developmental delays?],"Yes",Table2[Child Race: Black or African American],"Yes") -> 0 | K8: =IFERROR(COUNTIFS(Table2[Was this child engaged in services during the report quarter?],"Yes",Table2[Did the child have a positive screen for developmental delays?],"Yes",Table2[If "Yes, did the child receive services in a timely manner following the screen?],"Yes", Table2[Child Race: Black or African American],"Yes")/COUNTIFS(Table2[Was this child engaged in services during the report quarter?],"Yes",Table2[Did the child have a positive screen for developmental delays?],"Yes",Table2[Child Race: Black or African American],"Yes"),"NA") -> NA | L8: =COUNTIFS(Table2[Was this child engaged in services during the report quarter?],"Yes",Table2[Did the child have a positive screen for developmental delays?],"Yes",Table2[Child Race: Asian],"Yes") -> 0 | M8: =IFERROR(COUNTIFS(Table2[Was this child engaged in services during the report quarter?],"Yes",Table2[Did the child have a positive screen for developmental delays?],"Yes",Table2[If "Yes, did the child receive services in a timely manner following the screen?],"Yes", Table2[Child Race: Asian],"Yes")/COUNTIFS(Table2[Was this child engaged in services during the report quarter?],"Yes",Table2[Did the child have a positive screen for developmental delays?],"Yes",Table2[Child Race: Asian],"Yes"),"NA") -> NA | N8: =COUNTIFS(Table2[Was this child engaged in services during the report quarter?],"Yes",Table2[Did the child have a positive screen for developmental delays?],"Yes",Table2[Child Race: Native Hawaiian or Other Pacific Islander],"Yes") -> 0 | O8: =IFERROR(COUNTIFS(Table2[Was this child engaged in services during the report quarter?],"Yes",Table2[Did the child have a positive screen for developmental delays?],"Yes",Table2[If "Yes, did the child receive services in a timely manner following the screen?],"Yes", Table2[Child Race: Native Hawaiian or Other Pacific Islander],"Yes")/COUNTIFS(Table2[Was this child engaged in services during the report quarter?],"Yes",Table2[Did the child have a positive screen for developmental delays?],"Yes",Table2[Child Race: Native Hawaiian or Other Pacific Islander],"Yes"),"NA") -> NA | P8: =COUNTIFS(Table2[Was this child engaged in services during the report quarter?],"Yes",Table2[Did the child have a positive screen for developmental delays?],"Yes",Table2[Child Race: American Indian or Alaska Native],"Yes") -> 0 | Q8: =IFERROR(COUNTIFS(Table2[Was this child engaged in services during the report quarter?],"Yes",Table2[Did the child have a positive screen for developmental delays?],"Yes",Table2[If "Yes, did the child receive services in a timely manner following the screen?],"Yes", Table2[Child Race: American Indian or Alaska Native],"Yes")/COUNTIFS(Table2[Was this child engaged in services during the report quarter?],"Yes",Table2[Did the child have a positive screen for developmental delays?],"Yes",Table2[Child Race: American Indian or Alaska Native],"Yes"),"NA") -> NA
A9: Improved Caregiver Health | B9: % of primary caregivers enrolled in home visiting for at least three months who were screened for depression within 3 months of enrollment OR 3 months of delivery (for those enrolled prenatally). | C9: 0.8 | D9: =COUNTIFS(Table2[Was this child engaged in services during the report quarter?], "Yes", Table2[Has the child been enrolled in home visiting for at least 3 months?], "Yes") -> 0 | E9: =IFERROR(COUNTIFS( Table2[Was this child engaged in services during the report quarter?], "Yes", Table2[Has the child been enrolled in home visiting for at least 3 months?], "Yes", Table2[If "Yes," was the child''s primary caregiver screened for depression within 3 months of enrollment or 3 months of delivery (for those enrolled prenatally)?], "Yes")/ COUNTIFS(Table2[Was this child engaged in services during the report quarter?], "Yes", Table2[Has the child been enrolled in home visiting for at least 3 months?], "Yes"), "NA") -> NA | F9: =COUNTIFS( Table2[Child Hispanic or Latino Ethnicity], "Yes", Table2[Was this child engaged in services during the report quarter?], "Yes", Table2[Has the child been enrolled in home visiting for at least 3 months?], "Yes") -> 0 | G9: =IFERROR(COUNTIFS(Table2[Child Hispanic or Latino Ethnicity], "Yes", Table2[Was this child engaged in services during the report quarter?], "Yes", Table2[Has the child been enrolled in home visiting for at least 3 months?], "Yes", Table2[If "Yes," was the child''s primary caregiver screened for depression within 3 months of enrollment or 3 months of delivery (for those enrolled prenatally)?], "Yes")/ COUNTIFS(Table2[Child Hispanic or Latino Ethnicity], "Yes", Table2[Was this child engaged in services during the report quarter?], "Yes", Table2[Has the child been enrolled in home visiting for at least 3 months?], "Yes"), "NA") -> NA | H9: =COUNTIFS( Table2[Child Race: White], "Yes", Table2[Was this child engaged in services during the report quarter?], "Yes", Table2[Has the child been enrolled in home visiting for at least 3 months?], "Yes") -> 0 | I9: =IFERROR(COUNTIFS(Table2[Child Race: White], "Yes", Table2[Was this child engaged in services during the report quarter?], "Yes", Table2[Has the child been enrolled in home visiting for at least 3 months?], "Yes", Table2[If "Yes," was the child''s primary caregiver screened for depression within 3 months of enrollment or 3 months of delivery (for those enrolled prenatally)?], "Yes")/ COUNTIFS(Table2[Child Race: White], "Yes", Table2[Was this child engaged in services during the report quarter?], "Yes", Table2[Has the child been enrolled in home visiting for at least 3 months?], "Yes"), "NA") -> NA | J9: =COUNTIFS( Table2[Child Race: Black or African American], "Yes", Table2[Was this child engaged in services during the report quarter?], "Yes", Table2[Has the child been enrolled in home visiting for at least 3 months?], "Yes") -> 0 | K9: =IFERROR(COUNTIFS(Table2[Child Race: Black or African American], "Yes", Table2[Was this child engaged in services during the report quarter?], "Yes", Table2[Has the child been enrolled in home visiting for at least 3 months?], "Yes", Table2[If "Yes," was the child''s primary caregiver screened for depression within 3 months of enrollment or 3 months of delivery (for those enrolled prenatally)?], "Yes")/ COUNTIFS(Table2[Child Race: Black or African American], "Yes", Table2[Was this child engaged in services during the report quarter?], "Yes", Table2[Has the child been enrolled in home visiting for at least 3 months?], "Yes"), "NA") -> NA | L9: =COUNTIFS( Table2[Child Race: Asian], "Yes", Table2[Was this child engaged in services during the report quarter?], "Yes", Table2[Has the child been enrolled in home visiting for at least 3 months?], "Yes") -> 0 | M9: =IFERROR(COUNTIFS(Table2[Child Race: Asian], "Yes", Table2[Was this child engaged in services during the report quarter?], "Yes", Table2[Has the child been enrolled in home visiting for at least 3 months?], "Yes", Table2[If "Yes," was the child''s primary caregiver screened for depression within 3 months of enrollment or 3 months of delivery (for those enrolled prenatally)?], "Yes")/ COUNTIFS(Table2[Child Race: Asian], "Yes", Table2[Was this child engaged in services during the report quarter?], "Yes", Table2[Has the child been enrolled in home visiting for at least 3 months?], "Yes"), "NA") -> NA | N9: =COUNTIFS( Table2[Child Race: Native Hawaiian or Other Pacific Islander], "Yes", Table2[Was this child engaged in services during the report quarter?], "Yes", Table2[Has the child been enrolled in home visiting for at least 3 months?], "Yes") -> 0 | O9: =IFERROR(COUNTIFS(Table2[Child Race: Native Hawaiian or Other Pacific Islander], "Yes", Table2[Was this child engaged in services during the report quarter?], "Yes", Table2[Has the child been enrolled in home visiting for at least 3 months?], "Yes", Table2[If "Yes," was the child''s primary caregiver screened for depression within 3 months of enrollment or 3 months of delivery (for those enrolled prenatally)?], "Yes")/ COUNTIFS(Table2[Child Race: Native Hawaiian or Other Pacific Islander], "Yes", Table2[Was this child engaged in services during the report quarter?], "Yes", Table2[Has the child been enrolled in home visiting for at least 3 months?], "Yes"), "NA") -> NA | P9: =COUNTIFS( Table2[Child Race: American Indian or Alaska Native], "Yes", Table2[Was this child engaged in services during the report quarter?], "Yes", Table2[Has the child been enrolled in home visiting for at least 3 months?], "Yes") -> 0 | Q9: =IFERROR(COUNTIFS(Table2[Child Race: American Indian or Alaska Native], "Yes", Table2[Was this child engaged in services during the report quarter?], "Yes", Table2[Has the child been enrolled in home visiting for at least 3 months?], "Yes", Table2[If "Yes," was the child''s primary caregiver screened for depression within 3 months of enrollment or 3 months of delivery (for those enrolled prenatally)?], "Yes")/ COUNTIFS(Table2[Child Race: American Indian or Alaska Native], "Yes", Table2[Was this child engaged in services during the report quarter?], "Yes", Table2[Has the child been enrolled in home visiting for at least 3 months?], "Yes"), "NA") -> NA
B10: % of primary caregivers referred to services for a positive screen for depression who receive one or more service contacts. | C10: 0.8 | D10: =COUNTIFS(Table2[Was this child engaged in services during the report quarter?], "Yes", Table2[If "Yes," did the child''s primary caregiver have a positive screen for depression?], "Yes") -> 0 | E10: =IFERROR(COUNTIFS(Table2[Was this child engaged in services during the report quarter?], "Yes", Table2[If "Yes," did the child''s primary caregiver have a positive screen for depression?], "Yes", Table2[If "Yes," did the primary caregiver receive one or more service contacts?], "Yes")/ COUNTIFS(Table2[Was this child engaged in services during the report quarter?], "Yes", Table2[If "Yes," did the child''s primary caregiver have a positive screen for depression?], "Yes"), "NA") -> NA | F10: =COUNTIFS( Table2[Child Hispanic or Latino Ethnicity], "Yes", Table2[Was this child engaged in services during the report quarter?], "Yes", Table2[If "Yes," did the child''s primary caregiver have a positive screen for depression?], "Yes") -> 0 | G10: =IFERROR(COUNTIFS(Table2[Was this child engaged in services during the report quarter?], "Yes", Table2[Child Hispanic or Latino Ethnicity], "Yes", Table2[If "Yes," did the child''s primary caregiver have a positive screen for depression?], "Yes", Table2[If "Yes," did the primary caregiver receive one or more service contacts?], "Yes")/ COUNTIFS(Table2[Was this child engaged in services during the report quarter?], "Yes", Table2[Child Hispanic or Latino Ethnicity], "Yes", Table2[If "Yes," did the child''s primary caregiver have a positive screen for depression?], "Yes"), "NA") -> NA | H10: =COUNTIFS( Table2[Child Race: White], "Yes", Table2[Was this child engaged in services during the report quarter?], "Yes", Table2[If "Yes," did the child''s primary caregiver have a positive screen for depression?], "Yes") -> 0 | I10: =IFERROR(COUNTIFS(Table2[Was this child engaged in services during the report quarter?], "Yes", Table2[Child Race: White], "Yes", Table2[If "Yes," did the child''s primary caregiver have a positive screen for depression?], "Yes", Table2[If "Yes," did the primary caregiver receive one or more service contacts?], "Yes")/ COUNTIFS(Table2[Was this child engaged in services during the report quarter?], "Yes", Table2[Child Race: White], "Yes", Table2[If "Yes," did the child''s primary caregiver have a positive screen for depression?], "Yes"), "NA") -> NA | J10: =COUNTIFS( Table2[Child Race: Black or African American], "Yes", Table2[Was this child engaged in services during the report quarter?], "Yes", Table2[If "Yes," did the child''s primary caregiver have a positive screen for depression?], "Yes") -> 0 | K10: =IFERROR(COUNTIFS(Table2[Was this child engaged in services during the report quarter?], "Yes", Table2[Child Race: Black or African American], "Yes", Table2[If "Yes," did the child''s primary caregiver have a positive screen for depression?], "Yes", Table2[If "Yes," did the primary caregiver receive one or more service contacts?], "Yes")/ COUNTIFS(Table2[Was this child engaged in services during the report quarter?], "Yes", Table2[Child Race: Black or African American], "Yes", Table2[If "Yes," did the child''s primary caregiver have a positive screen for depression?], "Yes"), "NA") -> NA | L10: =COUNTIFS( Table2[Child Race: Asian], "Yes", Table2[Was this child engaged in services during the report quarter?], "Yes", Table2[If "Yes," did the child''s primary caregiver have a positive screen for depression?], "Yes") -> 0 | M10: =IFERROR(COUNTIFS(Table2[Was this child engaged in services during the report quarter?], "Yes", Table2[Child Race: Asian], "Yes", Table2[If "Yes," did the child''s primary caregiver have a positive screen for depression?], "Yes", Table2[If "Yes," did the primary caregiver receive one or more service contacts?], "Yes")/ COUNTIFS(Table2[Was this child engaged in services during the report quarter?], "Yes", Table2[Child Race: Asian], "Yes", Table2[If "Yes," did the child''s primary caregiver have a positive screen for depression?], "Yes"), "NA") -> NA | N10: =COUNTIFS( Table2[Child Race: Native Hawaiian or Other Pacific Islander], "Yes", Table2[Was this child engaged in services during the report quarter?], "Yes", Table2[If "Yes," did the child''s primary caregiver have a positive screen for depression?], "Yes") -> 0 | O10: =IFERROR(COUNTIFS(Table2[Was this child engaged in services during the report quarter?], "Yes", Table2[Child Race: Native Hawaiian or Other Pacific Islander], "Yes", Table2[If "Yes," did the child''s primary caregiver have a positive screen for depression?], "Yes", Table2[If "Yes," did the primary caregiver receive one or more service contacts?], "Yes")/ COUNTIFS(Table2[Was this child engaged in services during the report quarter?], "Yes", Table2[Child Race: Native Hawaiian or Other Pacific Islander], "Yes", Table2[If "Yes," did the child''s primary caregiver have a positive screen for depression?], "Yes"), "NA") -> NA | P10: =COUNTIFS( Table2[Child Race: American Indian or Alaska Native], "Yes", Table2[Was this child engaged in services during the report quarter?], "Yes", Table2[If "Yes," did the child''s primary caregiver have a positive screen for depression?], "Yes") -> 0 | Q10: =IFERROR(COUNTIFS(Table2[Was this child engaged in services during the report quarter?], "Yes", Table2[Child Race: American Indian or Alaska Native], "Yes", Table2[If "Yes," did the child''s primary caregiver have a positive screen for depression?], "Yes", Table2[If "Yes," did the primary caregiver receive one or more service contacts?], "Yes")/ COUNTIFS(Table2[Was this child engaged in services during the report quarter?], "Yes", Table2[Child Race: American Indian or Alaska Native], "Yes", Table2[If "Yes," did the child''s primary caregiver have a positive screen for depression?], "Yes"), "NA") -> NA

Sheet County Names to hide
A1: Counties | B1: Today's Date | C1: Start of Quarter | D1: End of Quarter | E1: Fidelity Calculation
A2: Alameda | B2: =TODAY() -> 45992 | C2: =DATE(Cover_Sheet!$F3, CHOOSE(MATCH(Cover_Sheet!$E3, {"January-March","April-June","July-September","October-December"}, 0), 1, 4, 7, 10), 1) -> 46204 | D2: =EOMONTH(DATE(Cover_Sheet!$F3, CHOOSE(MATCH(Cover_Sheet!$E3, {"January-March","April-June","July-September","October-December"}, 0), 3, 6, 9, 12), 1), 0) -> 46295 | E2: =SUMIFS( Table3[Indicate this staff member’s Full-Time Equivalent (FTE) as a decimal (e.g., 1.0 = full-time, 0.75 = ¾-time, 0.5 = half-time).], Table3[Was this staff member employed during the report quarter?], "Yes", Table3[Select the role of the home visiting staff member], "Supervisor" ) / SUMIFS( Table3[Indicate this staff member’s Full-Time Equivalent (FTE) as a decimal (e.g., 1.0 = full-time, 0.75 = ¾-time, 0.5 = half-time).], Table3[Was this staff member employed during the report quarter?], "Yes", Table3[Select the role of the home visiting staff member], "Direct Service Staff" ) -> #DIV/0!
A3: Alpine
A4: Amador
A5: Butte
A6: Calaveras
A7: Colusa
A8: Contra Costa
A9: Del Norte
A10: El Dorado
A11: Fresno
A12: Glenn
A13: Humboldt
A14: Imperial
... A59: Yuba
