Workbook
Name HomeVisitorsFilteredList: 'County Names to hide'!$C$2
Name HV_FilteredList: 'County Names to hide'!$C$2:$C$1000

Sheet Cover_Sheet
A1: Instructions for Completing the Spreadsheet Each quarter, one person from the county or community-based organization should complete row 3 of this cover sheet. Fill in every column. Update the Report Quarter each time you report to keep the aggregate outcome and fidelity data accurate. Do not add more rows to this sheet. If you encounter any issues with formatting or dropdown selections, reach out to the CDSS FFPS team for assistance: FFPSApreventionservices@dss.ca.gov. To keep a copy of your aggregate data for each quarter, save a copy of the "Outcomes Aggregate" and "Fidelity Aggregate" sheets. These sheets will overwrite whenever you add new data.
A2: County Name | B2: Name of EBP Model | C2: Number of Agencies | D2: Number of Sites | E2: Report Quarter | F2: Fiscal Year | G2: Report Completed By | H2: Email Address
B3: Homebuilders | E3: October-December | F3: 2026

Sheet Fidelity
A1: Instructions for Completing the Spreadsheet Please enter all staff names and employment dates here. Use the dropdown menus where provided to ensure consistent responses and hover over cells to view notes for specific guidance on each field. Follow the flow of the spreadsheet, ensuring that cells dependent on a prior answer are completed appropriately. If a cell does not apply based on the answer to the previous cell, leave it blank and move to the next applicable field. Conditional formatting has been applied to some cells. If you encounter any issues with formatting or dropdown selections, reach out to the CDSS FFPS team for assistance: FFPSApreventionservices@dss.ca.gov
A2: Agency Name: | E2: Site Name:
A3: First Name | B3: Last Name | C3: Employment Start Date | D3: Employment End Date | E3: Was this staff member employed during the report quarter? | F3: Staff Type (Select from: Therapist, Supervisor, Program Manager) | G3: Does this staff member have the required qualifications? | H3: Has this staff member participated in all required HOMEBUILDERS® training and QUEST activities? | I3: Is this staff member full-time? | J3: Has this staff member (therapists only) provided Homebuilders for more than a year? | K3: How many families does this staff member (therapists only) serve per year?
E4: =IF(AND(ISBLANK(A4), ISBLANK(B4)), "", IF(AND(NOT(ISBLANK(A4)), NOT(ISBLANK(B4)), ISBLANK(D4)), "Yes", IF(D4 < 'County Names to hide'!$C$2, "No", "Yes") ) )
E5: =IF(AND(ISBLANK(A5), ISBLANK(B5)), "", IF(AND(NOT(ISBLANK(A5)), NOT(ISBLANK(B5)), ISBLANK(D5)), "Yes", IF(D5 < 'County Names to hide'!$C$2, "No", "Yes") ) )
E6: =IF(AND(ISBLANK(A6), ISBLANK(B6)), "", IF(AND(NOT(ISBLANK(A6)), NOT(ISBLANK(B6)), ISBLANK(D6)), "Yes", IF(D6 < 'County Names to hide'!$C$2, "No", "Yes") ) )
E7: =IF(AND(ISBLANK(A7), ISBLANK(B7)), "", IF(AND(NOT(ISBLANK(A7)), NOT(ISBLANK(B7)), ISBLANK(D7)), "Yes", IF(D7 < 'County Names to hide'!$C$2, "No", "Yes") ) )
E8: =IF(AND(ISBLANK(A8), ISBLANK(B8)), "", IF(AND(NOT(ISBLANK(A8)), NOT(ISBLANK(B8)), ISBLANK(D8)), "Yes", IF(D8 < 'County Names to hide'!$C$2, "No", "Yes") ) )
E9: =IF(AND(ISBLANK(A9), ISBLANK(B9)), "", IF(AND(NOT(ISBLANK(A9)), NOT(ISBLANK(B9)), ISBLANK(D9)), "Yes", IF(D9 < 'County Names to hide'!$C$2, "No", "Yes") ) )
E10: =IF(AND(ISBLANK(A10), ISBLANK(B10)), "", IF(AND(NOT(ISBLANK(A10)), NOT(ISBLANK(B10)), ISBLANK(D10)), "Yes", IF(D10 < 'County Names to hide'!$C$2, "No", "Yes") ) )
E11: =IF(AND(ISBLANK(A11), ISBLANK(B11)), "", IF(AND(NOT(ISBLANK(A11)), NOT(ISBLANK(B11)), ISBLANK(D11)), "Yes", IF(D11 < 'County Names to hide'!$C$2, "No", "Yes") ) )
E12: =IF(AND(ISBLANK(A12), ISBLANK(B12)), "", IF(AND(NOT(ISBLANK(A12)), NOT(ISBLANK(B12)), ISBLANK(D12)), "Yes", IF(D12 < 'County Names to hide'!$C$2, "No", "Yes") ) )
E13: =IF(AND(ISBLANK(A13), ISBLANK(B13)), "", IF(AND(NOT(ISBLANK(A13)), NOT(ISBLANK(B13)), ISBLANK(D13)), "Yes", IF(D13 < 'County Names to hide'!$C$2, "No", "Yes") ) )
E14: =IF(AND(ISBLANK(A14), ISBLANK(B14)), "", IF(AND(NOT(ISBLANK(A14)), NOT(ISBLANK(B14)), ISBLANK(D14)), "Yes", IF(D14 < 'County Names to hide'!$C$2, "No", "Yes") ) )
E15: =IF(AND(ISBLANK(A15), ISBLANK(B15)), "", IF(AND(NOT(ISBLANK(A15)), NOT(ISBLANK(B15)), ISBLANK(D15)), "Yes", IF(D15 < 'County Names to hide'!$C$2, "No", "Yes") ) )
... E100: =IF(AND(ISBLANK(A100), ISBLANK(B100)), "", IF(AND(NOT(ISBLANK(A100)), NOT(ISBLANK(B100)), ISBLANK(D100)), "Yes", IF(D100 < 'County Names to hide'!$C$2, "No", "Yes") ) )

Sheet Outcomes
A1: Instructions for Completing the Spreadsheet (For Family First Title IV-E children/families only) Use the dropdown menus where provided to ensure consistent responses and hover over cells to view notes for specific guidance on each field. Follow the flow of the spreadsheet, ensuring that cells dependent on a prior answer are completed appropriately. If a cell does not apply based on the answer to the previous cell, leave it blank and move to the next applicable field. Conditional formatting has been applied to some cells. If you encounter any issues with formatting or dropdown selections, reach out to the CDSS FFPS team for assistance: FFPSApreventionservices@dss.ca.gov.
A2: Agency Name: | D2: Site Name:
A3: Child Identifier | M3: Program Start and End Dates
A4: DCFS/Probation Unique Identifier | B4: Homebuilders Child ID | C4: Child Date of Birth | D4: Child Sex | E4: Child Hispanic or Latino Ethnicity | F4: Child Race: White | G4: Child Race: Black or African American | H4: Child Race: Asian | I4: Child Race: Native Hawaiian or Other Pacific Islander | J4: Child Race: American Indian or Alaska Native | K4: Child Race: Declined | L4: Child Race: Unknown | M4: Program Start Date | N4: Program End Date | O4: Was this child open during the report quarter? | P4: Date Child Specific Prevention Plan Start (Year One) | Q4: Date Child Specific Prevention Plan Ended (Year One) | R4: Date Child Specific Prevention Plan Start (Year Two) | S4: Date Child Specific Prevention Plan Ended (Year Two) | T4: Total Number of Visits (as defined by the Homebuilders model) by the End of the Report Quarter | U4: Months Open at End of Quarter | V4: Did the case close this quarter? | W4: Did the case close prematurely? | X4: Child Age at End of Quarter in months | Y4: Did the youth and family receive the first face-to-face visit (intake session) within 24 hours of referral? | Z4: Did the youth and family receive the first face-to-face visit no later than the end of the day after referral? | AA4: Was this intervention staffed weekly? | AB4: Did the youth and family meet with the therapist at least 3 times per week? | AC4: Did the intervention with this youth and family average 38 hours or more of face-to-face contact (excluding prematurely closed interventions)? | AD4: Did the therapist for this youth and family explain 24/7 availability? | AE4: Did the youth and familys' referent report that the therapist maintained adequate contact with them? | AF4: At service completion, did the family improve in at least one high-priority NCFAS domain related to safety? | AG4: At service completion, did the family improve in at least one high-priority NCFAS domain identified at intake as needed to improve to prevent placement? | AH4: On the 5-point referent rating scale, what was the rating regarding whether the therapist adequately addressed the safety concerns? | AI4: On the 5-point referent rating scale, what was the rating regarding whether the intervention goals were appropriate? | AJ4: Did the family report using a new skill on the HOMEBUILDERS® Client Feedback Survey? | AK4: At service closure, did the family show progress on goal attainment ratings for at least one goal?
L5: =IF(COUNTIF(F2:K2, "Yes")>0, "No", "Yes") -> Yes | O5: =IF(ISBLANK(M5), "", IF(ISBLANK(N5), "Yes", IF(N5 < 'County Names to hide'!$C$2, "No", "Yes"))) | U5: =IF(Outcomes!M5="", "", DATEDIF(Outcomes!M5, 'County Names to hide'!$D$2, "m")) | V5: =IF(ISBLANK(M5), "", IF(ISBLANK(N6), "No", IF(AND(N6 >= 'County Names to hide'!$C$2, N6 <= 'County Names to hide'!$D$2), "Yes", "No"))) | X5: =IF(Outcomes!C5="", "", DATEDIF(Outcomes!C5, 'County Names to hide'!$D$2, "m"))
L6: =IF(COUNTIF(F4:K4, "Yes")>0, "No", "Yes") -> Yes | O6: =IF(ISBLANK(M6), "", IF(ISBLANK(N6), "Yes", IF(N6 < 'County Names to hide'!$C$2, "No", "Yes"))) | U6: =IF(Outcomes!M6="", "", DATEDIF(Outcomes!M6, 'County Names to hide'!$D$2, "m")) | V6: =IF(ISBLANK(M6), "", IF(ISBLANK(N7), "No", IF(AND(N7 >= 'County Names to hide'!$C$2, N7 <= 'County Names to hide'!$D$2), "Yes", "No"))) | X6: =IF(Outcomes!C6="", "", DATEDIF(Outcomes!C6, 'County Names to hide'!$D$2, "m"))
L7: =IF(COUNTIF(F5:K5, "Yes")>0, "No", "Yes") -> Yes | O7: =IF(ISBLANK(M7), "", IF(ISBLANK(N7), "Yes", IF(N7 < 'County Names to hide'!$C$2, "No", "Yes"))) | U7: =IF(Outcomes!M7="", "", DATEDIF(Outcomes!M7, 'County Names to hide'!$D$2, "m")) | V7: =IF(ISBLANK(M7), "", IF(ISBLANK(N8), "No", IF(AND(N8 >= 'County Names to hide'!$C$2, N8 <= 'County Names to hide'!$D$2), "Yes", "No"))) | X7: =IF(Outcomes!C7="", "", DATEDIF(Outcomes!C7, 'County Names to hide'!$D$2, "m"))
L8: =IF(COUNTIF(F6:K6, "Yes")>0, "No", "Yes") -> Yes | O8: =IF(ISBLANK(M8), "", IF(ISBLANK(N8), "Yes", IF(N8 < 'County Names to hide'!$C$2, "No", "Yes"))) | U8: =IF(Outcomes!M8="", "", DATEDIF(Outcomes!M8, 'County Names to hide'!$D$2, "m")) | V8: =IF(ISBLANK(M8), "", IF(ISBLANK(N9), "No", IF(AND(N9 >= 'County Names to hide'!$C$2, N9 <= 'County Names to hide'!$D$2), "Yes", "No"))) | X8: =IF(Outcomes!C8="", "", DATEDIF(Outcomes!C8, 'County Names to hide'!$D$2, "m"))
L9: =IF(COUNTIF(F7:K7, "Yes")>0, "No", "Yes") -> Yes | O9: =IF(ISBLANK(M9), "", IF(ISBLANK(N9), "Yes", IF(N9 < 'County Names to hide'!$C$2, "No", "Yes"))) | U9: =IF(Outcomes!M9="", "", DATEDIF(Outcomes!M9, 'County Names to hide'!$D$2, "m")) | V9: =IF(ISBLANK(M9), "", IF(ISBLANK(N10), "No", IF(AND(N10 >= 'County Names to hide'!$C$2, N10 <= 'County Names to hide'!$D$2), "Yes", "No"))) | X9: =IF(Outcomes!C9="", "", DATEDIF(Outcomes!C9, 'County Names to hide'!$D$2, "m"))
L10: =IF(COUNTIF(F8:K8, "Yes")>0, "No", "Yes") -> Yes | O10: =IF(ISBLANK(M10), "", IF(ISBLANK(N10), "Yes", IF(N10 < 'County Names to hide'!$C$2, "No", "Yes"))) | U10: =IF(Outcomes!M10="", "", DATEDIF(Outcomes!M10, 'County Names to hide'!$D$2, "m")) | V10: =IF(ISBLANK(M10), "", IF(ISBLANK(N11), "No", IF(AND(N11 >= 'County Names to hide'!$C$2, N11 <= 'County Names to hide'!$D$2), "Yes", "No"))) | X10: =IF(Outcomes!C10="", "", DATEDIF(Outcomes!C10, 'County Names to hide'!$D$2, "m"))
L11: =IF(COUNTIF(F9:K9, "Yes")>0, "No", "Yes") -> Yes | O11: =IF(ISBLANK(M11), "", IF(ISBLANK(N11), "Yes", IF(N11 < 'County Names to hide'!$C$2, "No", "Yes"))) | U11: =IF(Outcomes!M11="", "", DATEDIF(Outcomes!M11, 'County Names to hide'!$D$2, "m")) | V11: =IF(ISBLANK(M11), "", IF(ISBLANK(N12), "No", IF(AND(N12 >= 'County Names to hide'!$C$2, N12 <= 'County Names to hide'!$D$2), "Yes", "No"))) | X11: =IF(Outcomes!C11="", "", DATEDIF(Outcomes!C11, 'County Names to hide'!$D$2, "m"))
L12: =IF(COUNTIF(F10:K10, "Yes")>0, "No", "Yes") -> Yes | O12: =IF(ISBLANK(M12), "", IF(ISBLANK(N12), "Yes", IF(N12 < 'County Names to hide'!$C$2, "No", "Yes"))) | U12: =IF(Outcomes!M12="", "", DATEDIF(Outcomes!M12, 'County Names to hide'!$D$2, "m")) | V12: =IF(ISBLANK(M12), "", IF(ISBLANK(N13), "No", IF(AND(N13 >= 'County Names to hide'!$C$2, N13 <= 'County Names to hide'!$D$2), "Yes", "No"))) | X12: =IF(Outcomes!C12="", "", DATEDIF(Outcomes!C12, 'County Names to hide'!$D$2, "m"))
L13: =IF(COUNTIF(F11:K11, "Yes")>0, "No", "Yes") -> Yes | O13: =IF(ISBLANK(M13), "", IF(ISBLANK(N13), "Yes", IF(N13 < 'County Names to hide'!$C$2, "No", "Yes"))) | U13: =IF(Outcomes!M13="", "", DATEDIF(Outcomes!M13, 'County Names to hide'!$D$2, "m")) | V13: =IF(ISBLANK(M13), "", IF(ISBLANK(N14), "No", IF(AND(N14 >= 'County Names to hide'!$C$2, N14 <= 'County Names to hide'!$D$2), "Yes", "No"))) | X13: =IF(Outcomes!C13="", "", DATEDIF(Outcomes!C13, 'County Names to hide'!$D$2, "m"))
L14: =IF(COUNTIF(F12:K12, "Yes")>0, "No", "Yes") -> Yes | O14: =IF(ISBLANK(M14), "", IF(ISBLANK(N14), "Yes", IF(N14 < 'County Names to hide'!$C$2, "No", "Yes"))) | U14: =IF(Outcomes!M14="", "", DATEDIF(Outcomes!M14, 'County Names to hide'!$D$2, "m")) | V14: =IF(ISBLANK(M14), "", IF(ISBLANK(N15), "No", IF(AND(N15 >= 'County Names to hide'!$C$2, N15 <= 'County Names to hide'!$D$2), "Yes", "No"))) | X14: =IF(Outcomes!C14="", "", DATEDIF(Outcomes!C14, 'County Names to hide'!$D$2, "m"))
L15: =IF(COUNTIF(F13:K13, "Yes")>0, "No", "Yes") -> Yes | O15: =IF(ISBLANK(M15), "", IF(ISBLANK(N15), "Yes", IF(N15 < 'County Names to hide'!$C$2, "No", "Yes"))) | U15: =IF(Outcomes!M15="", "", DATEDIF(Outcomes!M15, 'County Names to hide'!$D$2, "m")) | V15: =IF(ISBLANK(M15), "", IF(ISBLANK(N16), "No", IF(AND(N16 >= 'County Names to hide'!$C$2, N16 <= 'County Names to hide'!$D$2), "Yes", "No"))) | X15: =IF(Outcomes!C15="", "", DATEDIF(Outcomes!C15, 'County Names to hide'!$D$2, "m"))
L16: =IF(COUNTIF(F14:K14, "Yes")>0, "No", "Yes") -> Yes | O16: =IF(ISBLANK(M16), "", IF(ISBLANK(N16), "Yes", IF(N16 < 'County Names to hide'!$C$2, "No", "Yes"))) | U16: =IF(Outcomes!M16="", "", DATEDIF(Outcomes!M16, 'County Names to hide'!$D$2, "m")) | V16: =IF(ISBLANK(M16), "", IF(ISBLANK(N17), "No", IF(AND(N17 >= 'County Names to hide'!$C$2, N17 <= 'County Names to hide'!$D$2), "Yes", "No"))) | X16: =IF(Outcomes!C16="", "", DATEDIF(Outcomes!C16, 'County Names to hide'!$D$2, "m"))
L17: =IF(COUNTIF(F15:K15, "Yes")>0, "No", "Yes") -> Yes | O17: =IF(ISBLANK(M17), "", IF(ISBLANK(N17), "Yes", IF(N17 < 'County Names to hide'!$C$2, "No", "Yes"))) | U17: =IF(Outcomes!M17="", "", DATEDIF(Outcomes!M17, 'County Names to hide'!$D$2, "m")) | V17: =IF(ISBLANK(M17), "", IF(ISBLANK(N18), "No", IF(AND(N18 >= 'County Names to hide'!$C$2, N18 <= 'County Names to hide'!$D$2), "Yes", "No"))) | X17: =IF(Outcomes!C17="", "", DATEDIF(Outcomes!C17, 'County Names to hide'!$D$2, "m"))
... L497: =IF(COUNTIF(F495:K495, "Yes")>0, "No", "Yes") -> Yes | O497: =IF(ISBLANK(M497), "", IF(ISBLANK(N497), "Yes", IF(N497 < 'County Names to hide'!$C$2, "No", "Yes"))) | U497: =IF(Outcomes!M497="", "", DATEDIF(Outcomes!M497, 'County Names to hide'!$D$2, "m")) | V497: =IF(ISBLANK(M497), "", IF(ISBLANK(N498), "No", IF(AND(N498 >= 'County Names to hide'!$C$2, N498 <= 'County Names to hide'!$D$2), "Yes", "No"))) | X497: =IF(Outcomes!C497="", "", DATEDIF(Outcomes!C497, 'County Names to hide'!$D$2, "m"))
L498: =IF(COUNTIF(F495:K495, "Yes")>0, "No", "Yes") -> Yes | O498: =IF(ISBLANK(M498), "", IF(ISBLANK(N498), "Yes", IF(N498 < 'County Names to hide'!$C$2, "No", "Yes"))) | U498: =IF(Outcomes!M498="", "", DATEDIF(Outcomes!M498, 'County Names to hide'!$D$2, "m")) | V498: =IF(ISBLANK(M498), "", IF(ISBLANK(N499), "No", IF(AND(N499 >= 'County Names to hide'!$C$2, N499 <= 'County Names to hide'!$D$2), "Yes", "No"))) | X498: =IF(Outcomes!C498="", "", DATEDIF(Outcomes!C498, 'County Names to hide'!$D$2, "m"))
L499: =IF(COUNTIF(F496:K496, "Yes")>0, "No", "Yes") -> Yes | O499: =IF(ISBLANK(M499), "", IF(ISBLANK(N499), "Yes", IF(N499 < 'County Names to hide'!$C$2, "No", "Yes"))) | U499: =IF(Outcomes!M499="", "", DATEDIF(Outcomes!M499, 'County Names to hide'!$D$2, "m")) | V499: =IF(ISBLANK(M499), "", IF(ISBLANK(N500), "No", IF(AND(N500 >= 'County Names to hide'!$C$2, N500 <= 'County Names to hide'!$D$2), "Yes", "No"))) | X499: =IF(Outcomes!C499="", "", DATEDIF(Outcomes!C499, 'County Names to hide'!$D$2, "m"))
L500: =IF(COUNTIF(F497:K497, "Yes")>0, "No", "Yes") -> Yes | O500: =IF(ISBLANK(M500), "", IF(ISBLANK(N500), "Yes", IF(N500 < 'County Names to hide'!$C$2, "No", "Yes"))) | U500: =IF(Outcomes!M500="", "", DATEDIF(Outcomes!M500, 'County Names to hide'!$D$2, "m")) | V500: =IF(ISBLANK(M500), "", IF(ISBLANK(N501), "No", IF(AND(N501 >= 'County Names to hide'!$C$2, N501 <= 'County Names to hide'!$D$2), "Yes", "No"))) | X500: =IF(Outcomes!C500="", "", DATEDIF(Outcomes!C500, 'County Names to hide'!$D$2, "m"))

Sheet Fidelity Aggregate
A1: This sheet will populate automatically based on the data entered in the "Fidelity" tabs. Be sure to choose the correct quarter on the Cover Sheet tab. If you encounter any issues with formatting or dropdown selections, reach out to the CDSS FFPS team for assistance: FFPSApreventionservices@dss.ca.gov. To keep a copy of your aggregate data for each quarter, save a copy of this sheet and the "Outcomes Aggregate" sheet. These sheets will overwrite whenever you add new data.
A2: Fidelity Measures
A3: Measure | B3: Indicator | C3: Target | D3: N | E3: Percent
A4: Meet staffing qualification requirements | B4: Percent of therapists who have the required qualifications | C4: 1 | D4: =COUNTIFS(Table3[Was this staff member employed during the report quarter?], "Yes", Table3[Staff Type (Select from: Therapist, Supervisor, Program Manager)], "Therapist") -> 0 | E4: =IFERROR(COUNTIFS(Table3[Staff Type (Select from: Therapist, Supervisor, Program Manager)], "Therapist", Table3[Does this staff member have the required qualifications?], "Yes", Table3[Was this staff member employed during the report quarter?], "Yes")/COUNTIFS(Table3[Staff Type (Select from: Therapist, Supervisor, Program Manager)], "Therapist", Table3[Was this staff member employed during the report quarter?], "Yes"), "NA") -> NA
B5: Percent of supervisors who have the required qualifications | C5: 1 | D5: =COUNTIFS(Table3[Was this staff member employed during the report quarter?], "Yes", Table3[Staff Type (Select from: Therapist, Supervisor, Program Manager)], "Supervisor") -> 0 | E5: =IFERROR(COUNTIFS(Table3[Staff Type (Select from: Therapist, Supervisor, Program Manager)], "Supervisor", Table3[Does this staff member have the required qualifications?], "Yes", Table3[Was this staff member employed during the report quarter?], "Yes")/COUNTIFS(Table3[Staff Type (Select from: Therapist, Supervisor, Program Manager)], "Supervisor", Table3[Was this staff member employed during the report quarter?], "Yes"), "NA") -> NA
A6: Provider received and maintained required training | B6: Percent of therapists, supervisors, and program managers who participated in all required home builder's training and quest activities | C6: 1 | D6: =COUNTIFS(Table3[Was this staff member employed during the report quarter?], "Yes") -> 0 | E6: =IFERROR(COUNTIFS(Table3[Was this staff member employed during the report quarter?], "Yes", Table3[Has this staff member participated in all required HOMEBUILDERS® training and QUEST activities?], "Yes")/COUNTIFS(Table3[Was this staff member employed during the report quarter?], "Yes"), "NA") -> NA
A7: Meets supervision and consultation requirements | B7: Percent of eligible interventions that are staffed weekly where staffing preferably occurs during team consultation | C7: 0.9 | D7: =COUNTIFS(Table2[Did the case close this quarter?], "Yes") -> 0 | E7: =IFERROR( COUNTIFS( Table2[Did the case close this quarter?], "Yes", Table2[Was this intervention staffed weekly?], "Yes" ) / COUNTIF( Table2[Did the case close this quarter?], "Yes" ), "NA") -> NA
A8: Meets referral responses, response requirements | B8: Percent of families who receive a face-to-face intake session within 24 hours of referral | C8: 0.75 | D8: =COUNTIFS(Table2[Was this child open during the report quarter?], "Yes") -> 0 | E8: =IFERROR(COUNTIFS(Table2[Was this child open during the report quarter?], "Yes", Table2[Did the youth and family receive the first face-to-face visit (intake session) within 24 hours of referral?], "Yes")/COUNTIFS(Table2[Was this child open during the report quarter?], "Yes"), "NA") -> NA
B9: Percent of families who receive their first face-to-face visit no later than the end of the day after the referral based on all eligible interventions | C9: 0.85 | D9: =COUNTIFS(Table2[Was this child open during the report quarter?], "Yes") -> 0 | E9: =IFERROR(COUNTIFS(Table2[Was this child open during the report quarter?], "Yes", Table2[Did the youth and family receive the first face-to-face visit no later than the end of the day after referral?], "Yes")/COUNTIFS(Table2[Was this child open during the report quarter?], "Yes"), "NA") -> NA
A10: Meets service intensity, availability, and caseload requirements | B10: Percent of first-year full-time 1.0 FTE therapists who serve 12 to 15 families per year* | C10: 1 | D10: =COUNTIFS(Table3[Staff Type (Select from: Therapist, Supervisor, Program Manager)], "Therapist", Table3[Was this staff member employed during the report quarter?], "Yes", Table3[Is this staff member full-time?], "Yes", Table3[Has this staff member (therapists only) provided Homebuilders for more than a year? ],"No") -> 0 | E10: =IFERROR( COUNTIFS( Table3[Staff Type (Select from: Therapist, Supervisor, Program Manager)], "Therapist", Table3[Is this staff member full-time?], "Yes", Table3[Was this staff member employed during the report quarter?], "Yes", Table3[Has this staff member (therapists only) provided Homebuilders for more than a year? ], "No", Table3[How many families does this staff member (therapists only) serve per year?], "12 to 15" ) / COUNTIFS( Table3[Staff Type (Select from: Therapist, Supervisor, Program Manager)], "Therapist", Table3[Was this staff member employed during the report quarter?], "Yes", Table3[Is this staff member full-time?], "Yes", Table3[Has this staff member (therapists only) provided Homebuilders for more than a year? ], "No" ), "NA") -> NA
B11: Percent of fully trained after one year full-time 1.0 FTE therapists who serve 17 to 18 families per year* | C11: 1 | D11: =COUNTIFS(Table3[Staff Type (Select from: Therapist, Supervisor, Program Manager)], "Therapist", Table3[Was this staff member employed during the report quarter?], "Yes", Table3[Is this staff member full-time?], "Yes", Table3[Has this staff member participated in all required HOMEBUILDERS® training and QUEST activities?], "Yes", Table3[Has this staff member (therapists only) provided Homebuilders for more than a year? ],"Yes") -> 0 | E11: =IFERROR( COUNTIFS( Table3[Staff Type (Select from: Therapist, Supervisor, Program Manager)], "Therapist", Table3[Is this staff member full-time?], "Yes", Table3[Has this staff member participated in all required HOMEBUILDERS® training and QUEST activities?],"Yes", Table3[Was this staff member employed during the report quarter?], "Yes", Table3[Has this staff member (therapists only) provided Homebuilders for more than a year? ], "Yes", Table3[How many families does this staff member (therapists only) serve per year?], "17 to 18" ) / COUNTIFS( Table3[Staff Type (Select from: Therapist, Supervisor, Program Manager)], "Therapist", Table3[Was this staff member employed during the report quarter?], "Yes", Table3[Is this staff member full-time?], "Yes", Table3[Has this staff member participated in all required HOMEBUILDERS® training and QUEST activities?],"Yes", Table3[Has this staff member (therapists only) provided Homebuilders for more than a year? ], "Yes" ), "NA") -> NA
B12: Percent of families that meet with their therapist three times per week | C12: 0.8 | D12: =COUNTIFS(Table2[Did the case close this quarter?], "Yes") -> 0 | E12: =IFERROR( COUNTIFS( Table2[Did the case close this quarter?], "Yes", Table2[Did the youth and family meet with the therapist at least 3 times per week?], "Yes" ) / COUNTIF( Table2[Did the case close this quarter?], "Yes" ), "NA") -> NA
B13: Percent of interventions that average 38 hours or more of face-to-face contact, excluding interventions that close prematurely | C13: 1 | D13: =COUNTIFS(Table2[Did the case close this quarter?], "Yes", Table2[Did the case close prematurely?],"No") -> 0 | E13: =IFERROR( COUNTIFS( Table2[Did the case close this quarter?], "Yes", Table2[Did the case close prematurely?],"No", Table2[Did the intervention with this youth and family average 38 hours or more of face-to-face contact (excluding prematurely closed interventions)?], "Yes" ) / COUNTIFS( Table2[Did the case close this quarter?], "Yes", Table2[Did the case close prematurely?],"No" ), "NA") -> NA
B14: Percent of families who report that the therapist explained 24-7 availability | C14: 0.9 | D14: =COUNTIFS(Table2[Did the case close this quarter?], "Yes") -> 0 | E14: =IFERROR( COUNTIFS( Table2[Did the case close this quarter?], "Yes", Table2[Did the therapist for this youth and family explain 24/7 availability?], "Yes" ) / COUNTIF( Table2[Did the case close this quarter?], "Yes" ), "NA") -> NA
B15: Percent of referents who report that the therapist maintained adequate contact with the referent | C15: 0.85 | D15: =COUNTIFS(Table2[Did the case close this quarter?], "Yes") -> 0 | E15: =IFERROR( COUNTIFS( Table2[Did the case close this quarter?], "Yes", Table2[Did the youth and familys'' referent report that the therapist maintained adequate contact with them?], "Yes" ) / COUNTIF( Table2[Did the case close this quarter?], "Yes" ), "NA") -> NA
B17: *Note: Agencies that serve small numbers of youth may not have enough referrals per year to support these caseload sizes.

Sheet Outcomes Aggregate
A1: This sheet will populate automatically based on the data entered in the "Outcomes" spreadsheet. Be sure to choose the correct quarter on the Cover Sheet tab. If you encounter any issues with formatting or dropdown selections, reach out to the CDSS FFPS team for assistance: FFPSApreventionservices@dss.ca.gov. To keep a copy of your aggregate data for each quarter, save a copy of this sheet and the "Fidelity Aggregate" sheet. These sheets will overwrite whenever you add new data.
A2: Outcome Measures
A3: Measure | B3: Indicator | C3: Target | D3: Total | F3: Hispanic | H3: White | J3: Black or African American | L3: Asian | N3: Native Hawaiian or Other Pacific Islander | P3: American Indian or Alaska Native
D4: N | E4: % | F4: N | G4: % | H4: N | I4: % | J4: N | K4: % | L4: N | M4: % | N4: N | O4: % | P4: N | Q4: %
A5: Improved Child Safety | B5: Percent of families that improve in at least one high-priority NCFAS domain related to safety | C5: 0.8 | D5: =COUNTIF(Table2[Did the case close this quarter?], "Yes") -> 0 | E5: =IFERROR( COUNTIFS(Table2[Did the case close this quarter?],"Yes", Table2[At service completion, did the family improve in at least one high-priority NCFAS domain related to safety?],"Yes") / COUNTIF( Table2[Did the case close this quarter?],"Yes"), "NA") -> NA | F5: =COUNTIFS(Table2[Child Hispanic or Latino Ethnicity],"Yes", Table2[Did the case close this quarter?],"Yes") -> 0 | G5: =IFERROR( COUNTIFS(Table2[Child Hispanic or Latino Ethnicity],"Yes", Table2[Did the case close this quarter?],"Yes", Table2[At service completion, did the family improve in at least one high-priority NCFAS domain related to safety?],"Yes") / COUNTIFS(Table2[Child Hispanic or Latino Ethnicity],"Yes", Table2[Did the case close this quarter?],"Yes"), "NA") -> NA | H5: =COUNTIFS(Table2[Child Race: White],"Yes", Table2[Did the case close this quarter?],"Yes") -> 0 | I5: =IFERROR( COUNTIFS(Table2[Child Race: White],"Yes", Table2[Did the case close this quarter?],"Yes", Table2[At service completion, did the family improve in at least one high-priority NCFAS domain related to safety?],"Yes") / COUNTIFS(Table2[Child Race: White],"Yes", Table2[Did the case close this quarter?],"Yes"), "NA") -> NA | J5: =COUNTIFS(Table2[Child Race: Black or African American],"Yes", Table2[Did the case close this quarter?],"Yes") -> 0 | K5: =IFERROR( COUNTIFS(Table2[Child Race: Black or African American],"Yes", Table2[Did the case close this quarter?],"Yes", Table2[At service completion, did the family improve in at least one high-priority NCFAS domain related to safety?],"Yes") / COUNTIFS(Table2[Child Race: Black or African American],"Yes", Table2[Did the case close this quarter?],"Yes"), "NA") -> NA | L5: =COUNTIFS(Table2[Child Race: Asian],"Yes", Table2[Did the case close this quarter?],"Yes") -> 0 | M5: =IFERROR( COUNTIFS(Table2[Child Race: Asian],"Yes", Table2[Did the case close this quarter?],"Yes", Table2[At service completion, did the family improve in at least one high-priority NCFAS domain related to safety?],"Yes") / COUNTIFS(Table2[Child Race: Asian],"Yes", Table2[Did the case close this quarter?],"Yes"), "NA") -> NA | N5: =COUNTIFS(Table2[Child Race: Native Hawaiian or Other Pacific Islander],"Yes", Table2[Did the case close this quarter?],"Yes") -> 0 | O5: =IFERROR( COUNTIFS(Table2[Child Race: Native Hawaiian or Other Pacific Islander],"Yes", Table2[Did the case close this quarter?],"Yes", Table2[At service completion, did the family improve in at least one high-priority NCFAS domain related to safety?],"Yes") / COUNTIFS(Table2[Child Race: Native Hawaiian or Other Pacific Islander],"Yes", Table2[Did the case close this quarter?],"Yes"), "NA") -> NA | P5: =COUNTIFS(Table2[Child Race: American Indian or Alaska Native],"Yes", Table2[Did the case close this quarter?],"Yes") -> 0 | Q5: =IFERROR( COUNTIFS(Table2[Child Race: American Indian or Alaska Native],"Yes", Table2[Did the case close this quarter?],"Yes", Table2[At service completion, did the family improve in at least one high-priority NCFAS domain related to safety?],"Yes") / COUNTIFS(Table2[Child Race: American Indian or Alaska Native],"Yes", Table2[Did the case close this quarter?],"Yes"), "NA") -> NA
A6: Improved Family Functioning | B6: Percent of families that improve in at least one high priority NCFAS domain that was identified at intake as needed to improve to prevent placement | C6: 0.8 | D6: =COUNTIF(Table2[Did the case close this quarter?], "Yes") -> 0 | E6: =IFERROR( COUNTIFS(Table2[Did the case close this quarter?],"Yes", Table2[At service completion, did the family improve in at least one high-priority NCFAS domain identified at intake as needed to improve to prevent placement?],"Yes") / COUNTIF( Table2[Did the case close this quarter?],"Yes"), "NA") -> NA | F6: =COUNTIFS(Table2[Child Hispanic or Latino Ethnicity],"Yes", Table2[Did the case close this quarter?],"Yes") -> 0 | G6: =IFERROR( COUNTIFS(Table2[Child Hispanic or Latino Ethnicity],"Yes", Table2[Did the case close this quarter?],"Yes", Table2[At service completion, did the family improve in at least one high-priority NCFAS domain identified at intake as needed to improve to prevent placement?],"Yes") / COUNTIFS(Table2[Child Hispanic or Latino Ethnicity],"Yes", Table2[Did the case close this quarter?],"Yes"), "NA") -> NA | H6: =COUNTIFS(Table2[Child Race: White],"Yes", Table2[Did the case close this quarter?],"Yes") -> 0 | I6: =IFERROR( COUNTIFS(Table2[Child Race: White],"Yes", Table2[Did the case close this quarter?],"Yes", Table2[At service completion, did the family improve in at least one high-priority NCFAS domain identified at intake as needed to improve to prevent placement?],"Yes") / COUNTIFS(Table2[Child Race: White],"Yes", Table2[Did the case close this quarter?],"Yes"), "NA") -> NA | J6: =COUNTIFS(Table2[Child Race: Black or African American],"Yes", Table2[Did the case close this quarter?],"Yes") -> 0 | K6: =IFERROR( COUNTIFS(Table2[Child Race: Black or African American],"Yes", Table2[Did the case close this quarter?],"Yes", Table2[At service completion, did the family improve in at least one high-priority NCFAS domain identified at intake as needed to improve to prevent placement?],"Yes") / COUNTIFS(Table2[Child Race: Black or African American],"Yes", Table2[Did the case close this quarter?],"Yes"), "NA") -> NA | L6: =COUNTIFS(Table2[Child Race: Asian],"Yes", Table2[Did the case close this quarter?],"Yes") -> 0 | M6: =IFERROR( COUNTIFS(Table2[Child Race: Asian],"Yes", Table2[Did the case close this quarter?],"Yes", Table2[At service completion, did the family improve in at least one high-priority NCFAS domain identified at intake as needed to improve to prevent placement?],"Yes") / COUNTIFS(Table2[Child Race: Asian],"Yes", Table2[Did the case close this quarter?],"Yes"), "NA") -> NA | N6: =COUNTIFS(Table2[Child Race: Native Hawaiian or Other Pacific Islander],"Yes", Table2[Did the case close this quarter?],"Yes") -> 0 | O6: =IFERROR( COUNTIFS(Table2[Child Race: Native Hawaiian or Other Pacific Islander],"Yes", Table2[Did the case close this quarter?],"Yes", Table2[At service completion, did the family improve in at least one high-priority NCFAS domain identified at intake as needed to improve to prevent placement?],"Yes") / COUNTIFS(Table2[Child Race: Native Hawaiian or Other Pacific Islander],"Yes", Table2[Did the case close this quarter?],"Yes"), "NA") -> NA | P6: =COUNTIFS(Table2[Child Race: American Indian or Alaska Native],"Yes", Table2[Did the case close this quarter?],"Yes") -> 0 | Q6: =IFERROR( COUNTIFS(Table2[Child Race: American Indian or Alaska Native],"Yes", Table2[Did the case close this quarter?],"Yes", Table2[At service completion, did the family improve in at least one high-priority NCFAS domain identified at intake as needed to improve to prevent placement?],"Yes") / COUNTIFS(Table2[Child Race: American Indian or Alaska Native],"Yes", Table2[Did the case close this quarter?],"Yes"), "NA") -> NA
A7: Improvements in Safety Concerns Addressed | B7: Average rating on the five-point referent rating scale regarding whether the therapist adequately addressed the safety concerns | C7: 4 | D7: =COUNTIF(Table2[Did the case close this quarter?], "Yes") -> 0 | E7: =IFERROR(AVERAGE(Table2[On the 5-point referent rating scale, what was the rating regarding whether the therapist adequately addressed the safety concerns?]), "NA") -> NA | F7: =COUNTIFS(Table2[Child Hispanic or Latino Ethnicity],"Yes", Table2[Did the case close this quarter?],"Yes") -> 0 | G7: =IFERROR(AVERAGEIFS(Table2[On the 5-point referent rating scale, what was the rating regarding whether the therapist adequately addressed the safety concerns?], Table2[Child Hispanic or Latino Ethnicity],"Yes"), "NA") -> NA | H7: =COUNTIFS(Table2[Child Race: White],"Yes", Table2[Did the case close this quarter?],"Yes") -> 0 | I7: =IFERROR(AVERAGEIFS(Table2[On the 5-point referent rating scale, what was the rating regarding whether the therapist adequately addressed the safety concerns?], Table2[Child Race: White],"Yes"), "NA") -> NA | J7: =COUNTIFS(Table2[Child Race: Black or African American],"Yes", Table2[Did the case close this quarter?],"Yes") -> 0 | K7: =IFERROR(AVERAGEIFS(Table2[On the 5-point referent rating scale, what was the rating regarding whether the therapist adequately addressed the safety concerns?], Table2[Child Race: Black or African American],"Yes"), "NA") -> NA | L7: =COUNTIFS(Table2[Child Race: Asian],"Yes", Table2[Did the case close this quarter?],"Yes") -> 0 | M7: =IFERROR(AVERAGEIFS(Table2[On the 5-point referent rating scale, what was the rating regarding whether the therapist adequately addressed the safety concerns?], Table2[Child Race: Asian],"Yes"), "NA") -> NA | N7: =COUNTIFS(Table2[Child Race: Native Hawaiian or Other Pacific Islander],"Yes", Table2[Did the case close this quarter?],"Yes") -> 0 | O7: =IFERROR(AVERAGEIFS(Table2[On the 5-point referent rating scale, what was the rating regarding whether the therapist adequately addressed the safety concerns?], Table2[Child Race: Native Hawaiian or Other Pacific Islander],"Yes"), "NA") -> NA | P7: =COUNTIFS(Table2[Child Race: American Indian or Alaska Native],"Yes", Table2[Did the case close this quarter?],"Yes") -> 0 | Q7: =IFERROR(AVERAGEIFS(Table2[On the 5-point referent rating scale, what was the rating regarding whether the therapist adequately addressed the safety concerns?], Table2[Child Race: American Indian or Alaska Native],"Yes"), "NA") -> NA
B8: Average rating on the five-point referent rating scale regarding whether intervention goals were appropriate | C8: 4 | D8: =COUNTIF(Table2[Did the case close this quarter?], "Yes") -> 0 | E8: =IFERROR(AVERAGE(Table2[On the 5-point referent rating scale, what was the rating regarding whether the intervention goals were appropriate?]), "NA") -> NA | F8: =COUNTIFS(Table2[Child Hispanic or Latino Ethnicity],"Yes", Table2[Did the case close this quarter?],"Yes") -> 0 | G8: =IFERROR(AVERAGEIFS(Table2[On the 5-point referent rating scale, what was the rating regarding whether the intervention goals were appropriate?], Table2[Child Hispanic or Latino Ethnicity],"Yes"), "NA") -> NA | H8: =COUNTIFS(Table2[Child Race: White],"Yes", Table2[Did the case close this quarter?],"Yes") -> 0 | I8: =IFERROR(AVERAGEIFS(Table2[On the 5-point referent rating scale, what was the rating regarding whether the intervention goals were appropriate?], Table2[Child Race: White],"Yes"), "NA") -> NA | J8: =COUNTIFS(Table2[Child Race: Black or African American],"Yes", Table2[Did the case close this quarter?],"Yes") -> 0 | K8: =IFERROR(AVERAGEIFS(Table2[On the 5-point referent rating scale, what was the rating regarding whether the intervention goals were appropriate?], Table2[Child Race: Black or African American],"Yes"), "NA") -> NA | L8: =COUNTIFS(Table2[Child Race: Asian],"Yes", Table2[Did the case close this quarter?],"Yes") -> 0 | M8: =IFERROR(AVERAGEIFS(Table2[On the 5-point referent rating scale, what was the rating regarding whether the intervention goals were appropriate?], Table2[Child Race: Asian],"Yes"), "NA") -> NA | N8: =COUNTIFS(Table2[Child Race: Native Hawaiian or Other Pacific Islander],"Yes", Table2[Did the case close this quarter?],"Yes") -> 0 | O8: =IFERROR(AVERAGEIFS(Table2[On the 5-point referent rating scale, what was the rating regarding whether the intervention goals were appropriate?], Table2[Child Race: Native Hawaiian or Other Pacific Islander],"Yes"), "NA") -> NA | P8: =COUNTIFS(Table2[Child Race: American Indian or Alaska Native],"Yes", Table2[Did the case close this quarter?],"Yes") -> 0 | Q8: =IFERROR(AVERAGEIFS(Table2[On the 5-point referent rating scale, what was the rating regarding whether the intervention goals were appropriate?], Table2[Child Race: American Indian or Alaska Native],"Yes"), "NA") -> NA
A9: Improvement in Skill Utilization | B9: Percent of families completing the Homebuilders Client Feedback Survey that report they are using a new skill. | C9: 0.85 | D9: =COUNTIF(Table2[Did the case close this quarter?], "Yes") -> 0 | E9: =IFERROR( COUNTIFS(Table2[Did the case close this quarter?],"Yes", Table2[Did the family report using a new skill on the HOMEBUILDERS® Client Feedback Survey?],"Yes") / COUNTIF( Table2[Did the case close this quarter?],"Yes"), "NA") -> NA | F9: =COUNTIFS(Table2[Child Hispanic or Latino Ethnicity],"Yes", Table2[Did the case close this quarter?],"Yes") -> 0 | G9: =IFERROR( COUNTIFS(Table2[Child Hispanic or Latino Ethnicity],"Yes", Table2[Did the case close this quarter?],"Yes", Table2[Did the family report using a new skill on the HOMEBUILDERS® Client Feedback Survey?],"Yes") / COUNTIFS(Table2[Child Hispanic or Latino Ethnicity],"Yes", Table2[Did the case close this quarter?],"Yes"), "NA") -> NA | H9: =COUNTIFS(Table2[Child Race: White],"Yes", Table2[Did the case close this quarter?],"Yes") -> 0 | I9: =IFERROR( COUNTIFS(Table2[Child Race: White],"Yes", Table2[Did the case close this quarter?],"Yes", Table2[Did the family report using a new skill on the HOMEBUILDERS® Client Feedback Survey?],"Yes") / COUNTIFS(Table2[Child Race: White],"Yes", Table2[Did the case close this quarter?],"Yes"), "NA") -> NA | J9: =COUNTIFS(Table2[Child Race: Black or African American],"Yes", Table2[Did the case close this quarter?],"Yes") -> 0 | K9: =IFERROR( COUNTIFS(Table2[Child Race: Black or African American],"Yes", Table2[Did the case close this quarter?],"Yes", Table2[Did the family report using a new skill on the HOMEBUILDERS® Client Feedback Survey?],"Yes") / COUNTIFS(Table2[Child Race: Black or African American],"Yes", Table2[Did the case close this quarter?],"Yes"), "NA") -> NA | L9: =COUNTIFS(Table2[Child Race: Asian],"Yes", Table2[Did the case close this quarter?],"Yes") -> 0 | M9: =IFERROR( COUNTIFS(Table2[Child Race: Asian],"Yes", Table2[Did the case close this quarter?],"Yes", Table2[Did the family report using a new skill on the HOMEBUILDERS® Client Feedback Survey?],"Yes") / COUNTIFS(Table2[Child Race: Asian],"Yes", Table2[Did the case close this quarter?],"Yes"), "NA") -> NA | N9: =COUNTIFS(Table2[Child Race: Native Hawaiian or Other Pacific Islander],"Yes", Table2[Did the case close this quarter?],"Yes") -> 0 | O9: =IFERROR( COUNTIFS(Table2[Child Race: Native Hawaiian or Other Pacific Islander],"Yes", Table2[Did the case close this quarter?],"Yes", Table2[Did the family report using a new skill on the HOMEBUILDERS® Client Feedback Survey?],"Yes") / COUNTIFS(Table2[Child Race: Native Hawaiian or Other Pacific Islander],"Yes", Table2[Did the case close this quarter?],"Yes"), "NA") -> NA | P9: =COUNTIFS(Table2[Child Race: American Indian or Alaska Native],"Yes", Table2[Did the case close this quarter?],"Yes") -> 0 | Q9: =IFERROR( COUNTIFS(Table2[Child Race: American Indian or Alaska Native],"Yes", Table2[Did the case close this quarter?],"Yes", Table2[Did the family report using a new skill on the HOMEBUILDERS® Client Feedback Survey?],"Yes") / COUNTIFS(Table2[Child Race: American Indian or Alaska Native],"Yes", Table2[Did the case close this quarter?],"Yes"), "NA") -> NA
A10: Improvements in Goal Achievement | B10: Percent of families who complete the service show progress on goal attainment ratings for at least one goal at service closure. | C10: 0.85 | D10: =COUNTIF(Table2[Did the case close this quarter?], "Yes") -> 0 | E10: =IFERROR( COUNTIFS(Table2[Did the case close this quarter?],"Yes", Table2[At service closure, did the family show progress on goal attainment ratings for at least one goal?],"Yes") / COUNTIF( Table2[Did the case close this quarter?],"Yes"), "NA") -> NA | F10: =COUNTIFS(Table2[Child Hispanic or Latino Ethnicity],"Yes", Table2[Did the case close this quarter?],"Yes") -> 0 | G10: =IFERROR( COUNTIFS(Table2[Child Hispanic or Latino Ethnicity],"Yes", Table2[Did the case close this quarter?],"Yes", Table2[At service closure, did the family show progress on goal attainment ratings for at least one goal?],"Yes") / COUNTIFS(Table2[Child Hispanic or Latino Ethnicity],"Yes", Table2[Did the case close this quarter?],"Yes"), "NA") -> NA | H10: =COUNTIFS(Table2[Child Race: White],"Yes", Table2[Did the case close this quarter?],"Yes") -> 0 | I10: =IFERROR( COUNTIFS(Table2[Child Race: White],"Yes", Table2[Did the case close this quarter?],"Yes", Table2[At service closure, did the family show progress on goal attainment ratings for at least one goal?],"Yes") / COUNTIFS(Table2[Child Race: White],"Yes", Table2[Did the case close this quarter?],"Yes"), "NA") -> NA | J10: =COUNTIFS(Table2[Child Race: Black or African American],"Yes", Table2[Did the case close this quarter?],"Yes") -> 0 | K10: =IFERROR( COUNTIFS(Table2[Child Race: Black or African American],"Yes", Table2[Did the case close this quarter?],"Yes", Table2[At service closure, did the family show progress on goal attainment ratings for at least one goal?],"Yes") / COUNTIFS(Table2[Child Race: Black or African American],"Yes", Table2[Did the case close this quarter?],"Yes"), "NA") -> NA | L10: =COUNTIFS(Table2[Child Race: Asian],"Yes", Table2[Did the case close this quarter?],"Yes") -> 0 | M10: =IFERROR( COUNTIFS(Table2[Child Race: Asian],"Yes", Table2[Did the case close this quarter?],"Yes", Table2[At service closure, did the family show progress on goal attainment ratings for at least one goal?],"Yes") / COUNTIFS(Table2[Child Race: Asian],"Yes", Table2[Did the case close this quarter?],"Yes"), "NA") -> NA | N10: =COUNTIFS(Table2[Child Race: Native Hawaiian or Other Pacific Islander],"Yes", Table2[Did the case close this quarter?],"Yes") -> 0 | O10: =IFERROR( COUNTIFS(Table2[Child Race: Native Hawaiian or Other Pacific Islander],"Yes", Table2[Did the case close this quarter?],"Yes", Table2[At service closure, did the family show progress on goal attainment ratings for at least one goal?],"Yes") / COUNTIFS(Table2[Child Race: Native Hawaiian or Other Pacific Islander],"Yes", Table2[Did the case close this quarter?],"Yes"), "NA") -> NA | P10: =COUNTIFS(Table2[Child Race: American Indian or Alaska Native],"Yes", Table2[Did the case close this quarter?],"Yes") -> 0 | Q10: =IFERROR( COUNTIFS(Table2[Child Race: American Indian or Alaska Native],"Yes", Table2[Did the case close this quarter?],"Yes", Table2[At service closure, did the family show progress on goal attainment ratings for at least one goal?],"Yes") / COUNTIFS(Table2[Child Race: American Indian or Alaska Native],"Yes", Table2[Did the case close this quarter?],"Yes"), "NA") -> NA

Sheet County Names to hide
A1: Counties | B1: Today's Date | C1: Start of Quarter | D1: End of Quarter
A2: Alameda | B2: =TODAY() -> 45992 | C2: =DATE(Cover_Sheet!$F3, CHOOSE(MATCH(Cover_Sheet!$E3, {"January-March","April-June","July-September","October-December"}, 0), 1, 4, 7, 10), 1) -> 46296 | D2: =EOMONTH(DATE(Cover_Sheet!$F3, CHOOSE(MATCH(Cover_Sheet!$E3, {"January-March","April-June","July-September","October-December"}, 0), 3, 6, 9, 12), 1), 0) -> 46387
A3: Alpine
A4: Amador
A5: Butte
A6: Calaveras
A7: Colusa
A8: Contra Costa
A9: Del Norte
A10: El Dorado
A11: Fresno
A12: Glenn
A13: Humboldt
A14: Imperial
... A59: Yuba
