Workbook
Name HomeVisitorsFilteredList: 'County Names to hide'!$C$2
Name HV_FilteredList: 'County Names to hide'!$C$2:$C$1000

Sheet Cover_Sheet
A1: Instructions for Completing the Spreadsheet Please fill out this section completely including the Report Quarter. If you do not update the Report Quarter the aggregate outcome and fidelity data will be incorrect.
A2: County Name | B2: Name of EBP Model | C2: Number of Agencies | D2: Number of Sites | E2: Report Quarter | F2: Fiscal Year | G2: Report Completed By | H2: Email Address
A3: Calaveras | B3: PCIT | E3: July-September | F3: 2026

Sheet Fidelity
A1: Instructions for Completing the Spreadsheet Please enter all staff names and employment dates here. Use the dropdown menus where provided to ensure consistent responses and hover over cells to view notes for specific guidance on each field. Follow the flow of the spreadsheet, ensuring that cells dependent on a prior answer are completed appropriately. If a cell does not apply based on the answer to the previous cell, leave it blank and move to the next applicable field. Conditional formatting has been applied to some cells. If you encounter any issues with formatting or dropdown selections, reach out to the CDSS FFPS team for assistance: FFPSApreventionservices@dss.ca.gov
A2: Agency Name: | D2: Site Name:
A3: Therapist First and Last Name | B3: Employment Start Date | C3: Employment End Date | D3: Was this therapist employed by your agency during the report quarter? | E3: Has this therapist completed basic and consultation training? | F3: Has this therapist completed at least 3 hours of PCIT continuing education credit? | G3: Does this therapist have a master's degree or higher? | H3: Is this therapist licensed?
D4: =IF(AND(ISBLANK(B4), ISBLANK(C4)), "", IF(AND(NOT(ISBLANK(A4)), NOT(ISBLANK(B4)), ISBLANK(C4)), "Yes", IF(C4 < 'County Names to hide'!$C$2, "No", "Yes") ) )
D5: =IF(AND(ISBLANK(B5), ISBLANK(C5)), "", IF(AND(NOT(ISBLANK(A5)), NOT(ISBLANK(B5)), ISBLANK(C5)), "Yes", IF(C5 < 'County Names to hide'!$C$2, "No", "Yes") ) )
D6: =IF(AND(ISBLANK(B6), ISBLANK(C6)), "", IF(AND(NOT(ISBLANK(A6)), NOT(ISBLANK(B6)), ISBLANK(C6)), "Yes", IF(C6 < 'County Names to hide'!$C$2, "No", "Yes") ) )
D7: =IF(AND(ISBLANK(B7), ISBLANK(C7)), "", IF(AND(NOT(ISBLANK(A7)), NOT(ISBLANK(B7)), ISBLANK(C7)), "Yes", IF(C7 < 'County Names to hide'!$C$2, "No", "Yes") ) )
D8: =IF(AND(ISBLANK(B8), ISBLANK(C8)), "", IF(AND(NOT(ISBLANK(A8)), NOT(ISBLANK(B8)), ISBLANK(C8)), "Yes", IF(C8 < 'County Names to hide'!$C$2, "No", "Yes") ) )
D9: =IF(AND(ISBLANK(B9), ISBLANK(C9)), "", IF(AND(NOT(ISBLANK(A9)), NOT(ISBLANK(B9)), ISBLANK(C9)), "Yes", IF(C9 < 'County Names to hide'!$C$2, "No", "Yes") ) )
D10: =IF(AND(ISBLANK(B10), ISBLANK(C10)), "", IF(AND(NOT(ISBLANK(A10)), NOT(ISBLANK(B10)), ISBLANK(C10)), "Yes", IF(C10 < 'County Names to hide'!$C$2, "No", "Yes") ) )
D11: =IF(AND(ISBLANK(B11), ISBLANK(C11)), "", IF(AND(NOT(ISBLANK(A11)), NOT(ISBLANK(B11)), ISBLANK(C11)), "Yes", IF(C11 < 'County Names to hide'!$C$2, "No", "Yes") ) )
D12: =IF(AND(ISBLANK(B12), ISBLANK(C12)), "", IF(AND(NOT(ISBLANK(A12)), NOT(ISBLANK(B12)), ISBLANK(C12)), "Yes", IF(C12 < 'County Names to hide'!$C$2, "No", "Yes") ) )
D13: =IF(AND(ISBLANK(B13), ISBLANK(C13)), "", IF(AND(NOT(ISBLANK(A13)), NOT(ISBLANK(B13)), ISBLANK(C13)), "Yes", IF(C13 < 'County Names to hide'!$C$2, "No", "Yes") ) )
D14: =IF(AND(ISBLANK(B14), ISBLANK(C14)), "", IF(AND(NOT(ISBLANK(A14)), NOT(ISBLANK(B14)), ISBLANK(C14)), "Yes", IF(C14 < 'County Names to hide'!$C$2, "No", "Yes") ) )
D15: =IF(AND(ISBLANK(B15), ISBLANK(C15)), "", IF(AND(NOT(ISBLANK(A15)), NOT(ISBLANK(B15)), ISBLANK(C15)), "Yes", IF(C15 < 'County Names to hide'!$C$2, "No", "Yes") ) )
... D100: =IF(AND(ISBLANK(B100), ISBLANK(C100)), "", IF(AND(NOT(ISBLANK(A100)), NOT(ISBLANK(B100)), ISBLANK(C100)), "Yes", IF(C100 < 'County Names to hide'!$C$2, "No", "Yes") ) )

Sheet Outcomes
A1: Instructions for Completing the Spreadsheet Use the dropdown menus where provided to ensure consistent responses and hover over cells to view notes for specific guidance on each field. Follow the flow of the spreadsheet, ensuring that cells dependent on a prior answer are completed appropriately. If a cell does not apply based on the answer to the previous cell, leave it blank and move to the next applicable field. Conditional formatting has been applied to some cells. If you encounter any issues with formatting or dropdown selections, reach out to Chapin Hall for assistance.
A2: Agency Name: | D2: Site Name:
A3: Child Identifier | M3: Program Start and End Dates
A4: DCFS/Probation Unique Identifier | B4: PCIT Child ID | C4: Child Date of Birth | D4: Child Sex | E4: Child Hispanic or Latino Ethnicity | F4: Child Race: White | G4: Child Race: Black or African American | H4: Child Race: Asian | I4: Child Race: Native Hawaiian or Other Pacific Islander | J4: Child Race: American Indian or Alaska Native | K4: Child Race: Declined | L4: Child Race: Unknown | M4: Program Start Date | N4: Program End Date | O4: Was this child engaged in services during the report quarter? | P4: Date Child Specific Prevention Plan Start (Year One) | Q4: Date Child Specific Prevention Plan Ended (Year One) | R4: Date Child Specific Prevention Plan Start (Year Two) | S4: Date Child Specific Prevention Plan Ended (Year Two) | T4: Total Number of Visits (as defined by the PCIT model) by the End of the Report Quarter | U4: Months Open at End of Quarter | V4: Child Age at End of Quarter in months | W4: Did the case close this quarter? | X4: Has an ECBI or WACB been completed for every session during the quarter? | Y4: Was a DPICS-IV completed for every session during the quarter except when the child was not present? | Z4: Did the caregiver demonstrate improvement on the PRIDE skills? | AA4: Did the caregiver demonstrate goal criteria in Phase 2, Parent-Directed Interaction (PDI)? | AB4: Did the caregiver have a decrease in ECBI score at service completion/discharge? | AC4: Has more than one ECBI been completed for this child? | AD4: If yes, was the child's behavior rated in the normal range (≤114) on their most recent ECBI Intensity Scale?
L5: =IF(COUNTIF(F6:K6, "Yes")>0, "No", "Yes") -> Yes | O5: =IF(AND(M5="", N5=""), "", IF(M5="", "No", IF( AND( M5 <= 'County Names to hide'!$D$2, OR(N5="", N5 >= 'County Names to hide'!$C$2) ), "Yes", "No" ) ) ) | U5: =IF(Outcomes!M5="","", IF(AND(Outcomes!N5<>"",Outcomes!N5<'County Names to hide'!$C$2),0, ROUND((MIN(IF(Outcomes!N5="", 'County Names to hide'!$D$2, Outcomes!N5),'County Names to hide'!$D$2)-Outcomes!M5)/30,1))) | V5: =IF(Outcomes!C5="", "", DATEDIF(Outcomes!C5, 'County Names to hide'!$D$2, "m"))
L6: =IF(COUNTIF(F7:K7, "Yes")>0, "No", "Yes") -> Yes | O6: =IF(AND(M6="", N6=""), "", IF(M6="", "No", IF( AND( M6 <= 'County Names to hide'!$D$2, OR(N6="", N6 >= 'County Names to hide'!$C$2) ), "Yes", "No" ) ) ) | U6: =IF(Outcomes!M6="","", IF(AND(Outcomes!N6<>"",Outcomes!N6<'County Names to hide'!$C$2),0, ROUND((MIN(IF(Outcomes!N6="", 'County Names to hide'!$D$2, Outcomes!N6),'County Names to hide'!$D$2)-Outcomes!M6)/30,1))) | V6: =IF(Outcomes!C6="", "", DATEDIF(Outcomes!C6, 'County Names to hide'!$D$2, "m"))
L7: =IF(COUNTIF(F8:K8, "Yes")>0, "No", "Yes") -> Yes | O7: =IF(AND(M7="", N7=""), "", IF(M7="", "No", IF( AND( M7 <= 'County Names to hide'!$D$2, OR(N7="", N7 >= 'County Names to hide'!$C$2) ), "Yes", "No" ) ) ) | U7: =IF(Outcomes!M7="","", IF(AND(Outcomes!N7<>"",Outcomes!N7<'County Names to hide'!$C$2),0, ROUND((MIN(IF(Outcomes!N7="", 'County Names to hide'!$D$2, Outcomes!N7),'County Names to hide'!$D$2)-Outcomes!M7)/30,1))) | V7: =IF(Outcomes!C7="", "", DATEDIF(Outcomes!C7, 'County Names to hide'!$D$2, "m"))
L8: =IF(COUNTIF(F9:K9, "Yes")>0, "No", "Yes") -> Yes | O8: =IF(AND(M8="", N8=""), "", IF(M8="", "No", IF( AND( M8 <= 'County Names to hide'!$D$2, OR(N8="", N8 >= 'County Names to hide'!$C$2) ), "Yes", "No" ) ) ) | U8: =IF(Outcomes!M8="","", IF(AND(Outcomes!N8<>"",Outcomes!N8<'County Names to hide'!$C$2),0, ROUND((MIN(IF(Outcomes!N8="", 'County Names to hide'!$D$2, Outcomes!N8),'County Names to hide'!$D$2)-Outcomes!M8)/30,1))) | V8: =IF(Outcomes!C8="", "", DATEDIF(Outcomes!C8, 'County Names to hide'!$D$2, "m"))
L9: =IF(COUNTIF(F10:K10, "Yes")>0, "No", "Yes") -> Yes | O9: =IF(AND(M9="", N9=""), "", IF(M9="", "No", IF( AND( M9 <= 'County Names to hide'!$D$2, OR(N9="", N9 >= 'County Names to hide'!$C$2) ), "Yes", "No" ) ) ) | U9: =IF(Outcomes!M9="","", IF(AND(Outcomes!N9<>"",Outcomes!N9<'County Names to hide'!$C$2),0, ROUND((MIN(IF(Outcomes!N9="", 'County Names to hide'!$D$2, Outcomes!N9),'County Names to hide'!$D$2)-Outcomes!M9)/30,1))) | V9: =IF(Outcomes!C9="", "", DATEDIF(Outcomes!C9, 'County Names to hide'!$D$2, "m"))
L10: =IF(COUNTIF(F11:K11, "Yes")>0, "No", "Yes") -> Yes | O10: =IF(AND(M10="", N10=""), "", IF(M10="", "No", IF( AND( M10 <= 'County Names to hide'!$D$2, OR(N10="", N10 >= 'County Names to hide'!$C$2) ), "Yes", "No" ) ) ) | U10: =IF(Outcomes!M10="","", IF(AND(Outcomes!N10<>"",Outcomes!N10<'County Names to hide'!$C$2),0, ROUND((MIN(IF(Outcomes!N10="", 'County Names to hide'!$D$2, Outcomes!N10),'County Names to hide'!$D$2)-Outcomes!M10)/30,1))) | V10: =IF(Outcomes!C10="", "", DATEDIF(Outcomes!C10, 'County Names to hide'!$D$2, "m"))
L11: =IF(COUNTIF(F12:K12, "Yes")>0, "No", "Yes") -> Yes | O11: =IF(AND(M11="", N11=""), "", IF(M11="", "No", IF( AND( M11 <= 'County Names to hide'!$D$2, OR(N11="", N11 >= 'County Names to hide'!$C$2) ), "Yes", "No" ) ) ) | U11: =IF(Outcomes!M11="","", IF(AND(Outcomes!N11<>"",Outcomes!N11<'County Names to hide'!$C$2),0, ROUND((MIN(IF(Outcomes!N11="", 'County Names to hide'!$D$2, Outcomes!N11),'County Names to hide'!$D$2)-Outcomes!M11)/30,1))) | V11: =IF(Outcomes!C11="", "", DATEDIF(Outcomes!C11, 'County Names to hide'!$D$2, "m"))
L12: =IF(COUNTIF(F13:K13, "Yes")>0, "No", "Yes") -> Yes | O12: =IF(AND(M12="", N12=""), "", IF(M12="", "No", IF( AND( M12 <= 'County Names to hide'!$D$2, OR(N12="", N12 >= 'County Names to hide'!$C$2) ), "Yes", "No" ) ) ) | U12: =IF(Outcomes!M12="","", IF(AND(Outcomes!N12<>"",Outcomes!N12<'County Names to hide'!$C$2),0, ROUND((MIN(IF(Outcomes!N12="", 'County Names to hide'!$D$2, Outcomes!N12),'County Names to hide'!$D$2)-Outcomes!M12)/30,1))) | V12: =IF(Outcomes!C12="", "", DATEDIF(Outcomes!C12, 'County Names to hide'!$D$2, "m"))
L13: =IF(COUNTIF(F14:K14, "Yes")>0, "No", "Yes") -> Yes | O13: =IF(AND(M13="", N13=""), "", IF(M13="", "No", IF( AND( M13 <= 'County Names to hide'!$D$2, OR(N13="", N13 >= 'County Names to hide'!$C$2) ), "Yes", "No" ) ) ) | U13: =IF(Outcomes!M13="","", IF(AND(Outcomes!N13<>"",Outcomes!N13<'County Names to hide'!$C$2),0, ROUND((MIN(IF(Outcomes!N13="", 'County Names to hide'!$D$2, Outcomes!N13),'County Names to hide'!$D$2)-Outcomes!M13)/30,1))) | V13: =IF(Outcomes!C13="", "", DATEDIF(Outcomes!C13, 'County Names to hide'!$D$2, "m"))
L14: =IF(COUNTIF(F15:K15, "Yes")>0, "No", "Yes") -> Yes | O14: =IF(AND(M14="", N14=""), "", IF(M14="", "No", IF( AND( M14 <= 'County Names to hide'!$D$2, OR(N14="", N14 >= 'County Names to hide'!$C$2) ), "Yes", "No" ) ) ) | U14: =IF(Outcomes!M14="","", IF(AND(Outcomes!N14<>"",Outcomes!N14<'County Names to hide'!$C$2),0, ROUND((MIN(IF(Outcomes!N14="", 'County Names to hide'!$D$2, Outcomes!N14),'County Names to hide'!$D$2)-Outcomes!M14)/30,1))) | V14: =IF(Outcomes!C14="", "", DATEDIF(Outcomes!C14, 'County Names to hide'!$D$2, "m"))
L15: =IF(COUNTIF(F16:K16, "Yes")>0, "No", "Yes") -> Yes | O15: =IF(AND(M15="", N15=""), "", IF(M15="", "No", IF( AND( M15 <= 'County Names to hide'!$D$2, OR(N15="", N15 >= 'County Names to hide'!$C$2) ), "Yes", "No" ) ) ) | U15: =IF(Outcomes!M15="","", IF(AND(Outcomes!N15<>"",Outcomes!N15<'County Names to hide'!$C$2),0, ROUND((MIN(IF(Outcomes!N15="", 'County Names to hide'!$D$2, Outcomes!N15),'County Names to hide'!$D$2)-Outcomes!M15)/30,1))) | V15: =IF(Outcomes!C15="", "", DATEDIF(Outcomes!C15, 'County Names to hide'!$D$2, "m"))
L16: =IF(COUNTIF(F17:K17, "Yes")>0, "No", "Yes") -> Yes | O16: =IF(AND(M16="", N16=""), "", IF(M16="", "No", IF( AND( M16 <= 'County Names to hide'!$D$2, OR(N16="", N16 >= 'County Names to hide'!$C$2) ), "Yes", "No" ) ) ) | U16: =IF(Outcomes!M16="","", IF(AND(Outcomes!N16<>"",Outcomes!N16<'County Names to hide'!$C$2),0, ROUND((MIN(IF(Outcomes!N16="", 'County Names to hide'!$D$2, Outcomes!N16),'County Names to hide'!$D$2)-Outcomes!M16)/30,1))) | V16: =IF(Outcomes!C16="", "", DATEDIF(Outcomes!C16, 'County Names to hide'!$D$2, "m"))
... L500: =IF(COUNTIF(F501:K501, "Yes")>0, "No", "Yes") -> Yes | O500: =IF(AND(M500="", N500=""), "", IF(M500="", "No", IF( AND( M500 <= 'County Names to hide'!$D$2, OR(N500="", N500 >= 'County Names to hide'!$C$2) ), "Yes", "No" ) ) ) | U500: =IF(Outcomes!M500="","", IF(AND(Outcomes!N500<>"",Outcomes!N500<'County Names to hide'!$C$2),0, ROUND((MIN(IF(Outcomes!N500="", 'County Names to hide'!$D$2, Outcomes!N500),'County Names to hide'!$D$2)-Outcomes!M500)/30,1))) | V500: =IF(Outcomes!C500="", "", DATEDIF(Outcomes!C500, 'County Names to hide'!$D$2, "m"))

Sheet Outcomes Aggregate 
A1: This sheet will populate automatically based on the data entered in the "Outcomes" spreadsheet. Be sure to choose the correct quarter on the Cover Sheet tab. If you encounter any issues with formatting or dropdown selections, reach out to the CDSS FFPS team for assistance: FFPSApreventionservices@dss.ca.gov. To keep a copy of your aggregate data for each quarter, save a copy of this sheet and the "Fidelity Aggregate" sheet. These sheets will overwrite whenever you add new data.
A2: Outcome Measures
A3: Measure | B3: Indicator | C3: Target | D3: Total | F3: Hispanic | H3: White | J3: Black or African American | L3: Asian | N3: Native Hawaiian or Other Pacific Islander | P3: American Indian or Alaska Native
D4: N | E4: % | F4: N | G4: % | H4: N | I4: % | J4: N | K4: % | L4: N | M4: % | N4: N | O4: % | P4: N | Q4: %
A5: Increased Positive Parenting Practices | B5: % of caregivers who demonstrate improvement on the PRIDE skills. | C5: 0.5 | D5: =COUNTIF(Table2[Was this child engaged in services during the report quarter?], "Yes") -> 0 | E5: =IFERROR( COUNTIFS(Table2[Was this child engaged in services during the report quarter?],"Yes", Table2[Did the caregiver demonstrate improvement on the PRIDE skills?],"Yes") /COUNTIF(Table2[Was this child engaged in services during the report quarter?],"Yes"), "NA" ) -> NA | F5: =COUNTIFS(Table2[Child Hispanic or Latino Ethnicity],"Yes", Table2[Was this child engaged in services during the report quarter?],"Yes") -> 0 | G5: =IFERROR(COUNTIFS(Table2[Was this child engaged in services during the report quarter?],"Yes",Table2[Did the caregiver demonstrate improvement on the PRIDE skills?],"Yes",Table2[Child Hispanic or Latino Ethnicity],"Yes")/COUNTIFS(Table2[Was this child engaged in services during the report quarter?],"Yes",Table2[Child Hispanic or Latino Ethnicity],"Yes"),"NA") -> NA | H5: =COUNTIFS(Table2[Was this child engaged in services during the report quarter?],"Yes",Table2[Child Race: White],"Yes") -> 0 | I5: =IFERROR(COUNTIFS(Table2[Was this child engaged in services during the report quarter?],"Yes",Table2[Did the caregiver demonstrate improvement on the PRIDE skills?],"Yes",Table2[Child Race: White],"Yes")/COUNTIFS(Table2[Was this child engaged in services during the report quarter?],"Yes",Table2[Child Race: White],"Yes"),"NA") -> NA | J5: =COUNTIFS(Table2[Was this child engaged in services during the report quarter?],"Yes",Table2[Child Race: Black or African American],"Yes") -> 0 | K5: =IFERROR(COUNTIFS(Table2[Was this child engaged in services during the report quarter?],"Yes",Table2[Did the caregiver demonstrate improvement on the PRIDE skills?],"Yes",Table2[Child Race: Black or African American],"Yes")/COUNTIFS(Table2[Was this child engaged in services during the report quarter?],"Yes",Table2[Child Race: Black or African American],"Yes"),"NA") -> NA | L5: =COUNTIFS(Table2[Was this child engaged in services during the report quarter?],"Yes",Table2[Child Race: Asian],"Yes") -> 0 | M5: =IFERROR(COUNTIFS(Table2[Was this child engaged in services during the report quarter?],"Yes",Table2[Did the caregiver demonstrate improvement on the PRIDE skills?],"Yes",Table2[Child Race: Asian],"Yes")/COUNTIFS(Table2[Was this child engaged in services during the report quarter?],"Yes",Table2[Child Race: Asian],"Yes"),"NA") -> NA | N5: =COUNTIFS(Table2[Was this child engaged in services during the report quarter?],"Yes",Table2[Child Race: Native Hawaiian or Other Pacific Islander],"Yes") -> 0 | O5: =IFERROR(COUNTIFS(Table2[Was this child engaged in services during the report quarter?],"Yes",Table2[Did the caregiver demonstrate improvement on the PRIDE skills?],"Yes",Table2[Child Race: Native Hawaiian or Other Pacific Islander],"Yes")/COUNTIFS(Table2[Was this child engaged in services during the report quarter?],"Yes",Table2[Child Race: Native Hawaiian or Other Pacific Islander],"Yes"),"NA") -> NA | P5: =COUNTIFS(Table2[Was this child engaged in services during the report quarter?],"Yes",Table2[Child Race: American Indian or Alaska Native],"Yes") -> 0 | Q5: =IFERROR(COUNTIFS(Table2[Was this child engaged in services during the report quarter?],"Yes",Table2[Did the caregiver demonstrate improvement on the PRIDE skills?],"Yes",Table2[Child Race: American Indian or Alaska Native],"Yes")/COUNTIFS(Table2[Was this child engaged in services during the report quarter?],"Yes",Table2[Child Race: American Indian or Alaska Native],"Yes"),"NA") -> NA
B6: % of caregivers who demonstrate goal criteria in Phase 2, Parent-Directed Interaction (PDI). Note: “Goal criteria” means at least 75% of caregivers’ commands meet criteria for being “effective”. | C6: 0.75 | D6: =COUNTIF(Table2[Was this child engaged in services during the report quarter?], "Yes") -> 0 | E6: =IFERROR(COUNTIFS(Table2[Was this child engaged in services during the report quarter?],"Yes",Table2[Did the caregiver demonstrate goal criteria in Phase 2, Parent-Directed Interaction (PDI)?],"Yes")/COUNTIF(Table2[Was this child engaged in services during the report quarter?],"Yes"),"NA") -> NA | F6: =COUNTIFS(Table2[Was this child engaged in services during the report quarter?],"Yes",Table2[Child Hispanic or Latino Ethnicity],"Yes") -> 0 | G6: =IFERROR(COUNTIFS(Table2[Was this child engaged in services during the report quarter?],"Yes",Table2[Did the caregiver demonstrate goal criteria in Phase 2, Parent-Directed Interaction (PDI)?],"Yes",Table2[Child Hispanic or Latino Ethnicity],"Yes")/COUNTIFS(Table2[Was this child engaged in services during the report quarter?],"Yes",Table2[Child Hispanic or Latino Ethnicity],"Yes"),"NA") -> NA | H6: =COUNTIFS(Table2[Was this child engaged in services during the report quarter?],"Yes",Table2[Child Race: White],"Yes") -> 0 | I6: =IFERROR(COUNTIFS(Table2[Was this child engaged in services during the report quarter?],"Yes",Table2[Did the caregiver demonstrate goal criteria in Phase 2, Parent-Directed Interaction (PDI)?],"Yes",Table2[Child Race: White],"Yes")/COUNTIFS(Table2[Was this child engaged in services during the report quarter?],"Yes",Table2[Child Race: White],"Yes"),"NA") -> NA | J6: =COUNTIFS(Table2[Was this child engaged in services during the report quarter?],"Yes",Table2[Child Race: Black or African American],"Yes") -> 0 | K6: =IFERROR(COUNTIFS(Table2[Was this child engaged in services during the report quarter?],"Yes",Table2[Did the caregiver demonstrate goal criteria in Phase 2, Parent-Directed Interaction (PDI)?],"Yes",Table2[Child Race: Black or African American],"Yes")/COUNTIFS(Table2[Was this child engaged in services during the report quarter?],"Yes",Table2[Child Race: Black or African American],"Yes"),"NA") -> NA | L6: =COUNTIFS(Table2[Was this child engaged in services during the report quarter?],"Yes",Table2[Child Race: Asian],"Yes") -> 0 | M6: =IFERROR(COUNTIFS(Table2[Was this child engaged in services during the report quarter?],"Yes",Table2[Did the caregiver demonstrate goal criteria in Phase 2, Parent-Directed Interaction (PDI)?],"Yes",Table2[Child Race: Asian],"Yes")/COUNTIFS(Table2[Was this child engaged in services during the report quarter?],"Yes",Table2[Child Race: Asian],"Yes"),"NA") -> NA | N6: =COUNTIFS(Table2[Was this child engaged in services during the report quarter?],"Yes",Table2[Child Race: Native Hawaiian or Other Pacific Islander],"Yes") -> 0 | O6: =IFERROR(COUNTIFS(Table2[Was this child engaged in services during the report quarter?],"Yes",Table2[Did the caregiver demonstrate goal criteria in Phase 2, Parent-Directed Interaction (PDI)?],"Yes",Table2[Child Race: Native Hawaiian or Other Pacific Islander],"Yes")/COUNTIFS(Table2[Was this child engaged in services during the report quarter?],"Yes",Table2[Child Race: Native Hawaiian or Other Pacific Islander],"Yes"),"NA") -> NA | P6: =COUNTIFS(Table2[Was this child engaged in services during the report quarter?],"Yes",Table2[Child Race: American Indian or Alaska Native],"Yes") -> 0 | Q6: =IFERROR(COUNTIFS(Table2[Was this child engaged in services during the report quarter?],"Yes",Table2[Did the caregiver demonstrate goal criteria in Phase 2, Parent-Directed Interaction (PDI)?],"Yes",Table2[Child Race: American Indian or Alaska Native],"Yes")/COUNTIFS(Table2[Was this child engaged in services during the report quarter?],"Yes",Table2[Child Race: American Indian or Alaska Native],"Yes"),"NA") -> NA
B7: % of caregivers who have a decrease in ECBI score at service completion/discharge. | C7: 0.75 | D7: =COUNTIF(Table2[Did the case close this quarter?], "Yes") -> 0 | E7: =IFERROR(COUNTIFS(Table2[Did the case close this quarter?],"Yes",Table2[Did the caregiver have a decrease in ECBI score at service completion/discharge?],"Yes")/COUNTIF(Table2[Did the case close this quarter?],"Yes"),"NA") -> NA | F7: =COUNTIFS(Table2[Did the case close this quarter?],"Yes",Table2[Child Hispanic or Latino Ethnicity],"Yes") -> 0 | G7: =IFERROR(COUNTIFS(Table2[Did the case close this quarter?],"Yes",Table2[Did the caregiver have a decrease in ECBI score at service completion/discharge?],"Yes",Table2[Child Hispanic or Latino Ethnicity],"Yes")/COUNTIFS(Table2[Did the case close this quarter?],"Yes",Table2[Child Hispanic or Latino Ethnicity],"Yes"),"NA") -> NA | H7: =COUNTIFS(Table2[Did the case close this quarter?],"Yes",Table2[Child Race: White],"Yes") -> 0 | I7: =IFERROR(COUNTIFS(Table2[Did the case close this quarter?],"Yes",Table2[Did the caregiver have a decrease in ECBI score at service completion/discharge?],"Yes",Table2[Child Race: White],"Yes")/COUNTIFS(Table2[Did the case close this quarter?],"Yes",Table2[Child Race: White],"Yes"),"NA") -> NA | J7: =COUNTIFS(Table2[Did the case close this quarter?],"Yes",Table2[Child Race: Black or African American],"Yes") -> 0 | K7: =IFERROR(COUNTIFS(Table2[Did the case close this quarter?],"Yes",Table2[Did the caregiver have a decrease in ECBI score at service completion/discharge?],"Yes",Table2[Child Race: Black or African American],"Yes")/COUNTIFS(Table2[Did the case close this quarter?],"Yes",Table2[Child Race: Black or African American],"Yes"),"NA") -> NA | L7: =COUNTIFS(Table2[Did the case close this quarter?],"Yes",Table2[Child Race: Asian],"Yes") -> 0 | M7: =IFERROR(COUNTIFS(Table2[Did the case close this quarter?],"Yes",Table2[Did the caregiver have a decrease in ECBI score at service completion/discharge?],"Yes",Table2[Child Race: Asian],"Yes")/COUNTIFS(Table2[Did the case close this quarter?],"Yes",Table2[Child Race: Asian],"Yes"),"NA") -> NA | N7: =COUNTIFS(Table2[Did the case close this quarter?],"Yes",Table2[Child Race: Native Hawaiian or Other Pacific Islander],"Yes") -> 0 | O7: =IFERROR(COUNTIFS(Table2[Did the case close this quarter?],"Yes",Table2[Did the caregiver have a decrease in ECBI score at service completion/discharge?],"Yes",Table2[Child Race: Native Hawaiian or Other Pacific Islander],"Yes")/COUNTIFS(Table2[Did the case close this quarter?],"Yes",Table2[Child Race: Native Hawaiian or Other Pacific Islander],"Yes"),"NA") -> NA | P7: =COUNTIFS(Table2[Did the case close this quarter?],"Yes",Table2[Child Race: American Indian or Alaska Native],"Yes") -> 0 | Q7: =IFERROR(COUNTIFS(Table2[Did the case close this quarter?],"Yes",Table2[Did the caregiver have a decrease in ECBI score at service completion/discharge?],"Yes",Table2[Child Race: American Indian or Alaska Native],"Yes")/COUNTIFS(Table2[Did the case close this quarter?],"Yes",Table2[Child Race: American Indian or Alaska Native],"Yes"),"NA") -> NA
A8: Reduction in Negative Child Behaviors | B8: At case closure, % of children whose behavior is rated in the normal range (≤114) per the ECBI Intensity Scale. | C8: 0.75 | D8: =COUNTIF(Table2[Did the case close this quarter?], "Yes") -> 0 | E8: =IFERROR(COUNTIFS(Table2[Did the case close this quarter?],"Yes",Table2[If yes, was the child''s behavior rated in the normal range (≤114) on their most recent ECBI Intensity Scale?],"Yes")/COUNTIF(Table2[Did the case close this quarter?],"Yes"),"NA") -> NA | F8: =COUNTIFS(Table2[Did the case close this quarter?],"Yes",Table2[Child Hispanic or Latino Ethnicity],"Yes") -> 0 | G8: =IFERROR(COUNTIFS(Table2[Did the case close this quarter?],"Yes",Table2[If yes, was the child''s behavior rated in the normal range (≤114) on their most recent ECBI Intensity Scale?],"Yes",Table2[Child Hispanic or Latino Ethnicity],"Yes")/COUNTIFS(Table2[Did the case close this quarter?],"Yes",Table2[Child Hispanic or Latino Ethnicity],"Yes"),"NA") -> NA | H8: =COUNTIFS(Table2[Did the case close this quarter?],"Yes",Table2[Child Race: White],"Yes") -> 0 | I8: =IFERROR(COUNTIFS(Table2[Did the case close this quarter?],"Yes",Table2[If yes, was the child''s behavior rated in the normal range (≤114) on their most recent ECBI Intensity Scale?],"Yes",Table2[Child Race: White],"Yes")/COUNTIFS(Table2[Did the case close this quarter?],"Yes",Table2[Child Race: White],"Yes"),"NA") -> NA | J8: =COUNTIFS(Table2[Did the case close this quarter?],"Yes",Table2[Child Race: Black or African American],"Yes") -> 0 | K8: =IFERROR(COUNTIFS(Table2[Did the case close this quarter?],"Yes",Table2[If yes, was the child''s behavior rated in the normal range (≤114) on their most recent ECBI Intensity Scale?],"Yes",Table2[Child Race: Black or African American],"Yes")/COUNTIFS(Table2[Did the case close this quarter?],"Yes",Table2[Child Race: Black or African American],"Yes"),"NA") -> NA | L8: =COUNTIFS(Table2[Did the case close this quarter?],"Yes",Table2[Child Race: Asian],"Yes") -> 0 | M8: =IFERROR(COUNTIFS(Table2[Did the case close this quarter?],"Yes",Table2[If yes, was the child''s behavior rated in the normal range (≤114) on their most recent ECBI Intensity Scale?],"Yes",Table2[Child Race: Asian],"Yes")/COUNTIFS(Table2[Did the case close this quarter?],"Yes",Table2[Child Race: Asian],"Yes"),"NA") -> NA | N8: =COUNTIFS(Table2[Did the case close this quarter?],"Yes",Table2[Child Race: Native Hawaiian or Other Pacific Islander],"Yes") -> 0 | O8: =IFERROR(COUNTIFS(Table2[Did the case close this quarter?],"Yes",Table2[If yes, was the child''s behavior rated in the normal range (≤114) on their most recent ECBI Intensity Scale?],"Yes",Table2[Child Race: Native Hawaiian or Other Pacific Islander],"Yes")/COUNTIFS(Table2[Did the case close this quarter?],"Yes",Table2[Child Race: Native Hawaiian or Other Pacific Islander],"Yes"),"NA") -> NA | P8: =COUNTIFS(Table2[Did the case close this quarter?],"Yes",Table2[Child Race: American Indian or Alaska Native],"Yes") -> 0 | Q8: =IFERROR(COUNTIFS(Table2[Did the case close this quarter?],"Yes",Table2[If yes, was the child''s behavior rated in the normal range (≤114) on their most recent ECBI Intensity Scale?],"Yes",Table2[Child Race: American Indian or Alaska Native],"Yes")/COUNTIFS(Table2[Did the case close this quarter?],"Yes",Table2[Child Race: American Indian or Alaska Native],"Yes"),"NA") -> NA

Sheet Fidelity Aggregate
A1: This sheet will populate automatically based on the data entered in the "Fidelity" tabs. Be sure to choose the correct quarter on the Cover Sheet tab. If you encounter any issues with formatting or dropdown selections, reach out to the CDSS FFPS team for assistance: FFPSApreventionservices@dss.ca.gov. To keep a copy of your aggregate data for each quarter, save a copy of this sheet and the "Outcomes Aggregate" sheet. These sheets will overwrite whenever you add new data.
A2: Measure | B2: Indicator | C2: Target Level | D2: N | E2: Percent
A3: Provider Received & Maintained Required Training | B3: % of therapists who complete basic and consultation training. | C3: 100% | D3: =COUNTIF(Table5[Was this therapist employed by your agency during the report quarter?],"Yes") -> 0 | E3: =IFERROR(COUNTIFS(Table5[Was this therapist employed by your agency during the report quarter?],"Yes", Table5[Has this therapist completed basic and consultation training?], "Yes")/COUNTIF(Table5[Was this therapist employed by your agency during the report quarter?],"Yes"),"NA") -> NA
B4: % of therapists who complete at least 3 hours of PCIT Continuing Education credit. | C4: 100% | D4: =COUNTIF(Table5[Was this therapist employed by your agency during the report quarter?],"Yes") -> 0 | E4: =IFERROR(COUNTIFS(Table5[Was this therapist employed by your agency during the report quarter?],"Yes", Table5[Has this therapist completed at least 3 hours of PCIT continuing education credit?], "Yes")/COUNTIF(Table5[Was this therapist employed by your agency during the report quarter?],"Yes"),"NA") -> NA
A5: Meets Staffing Qualification Requirements | B5: % of therapists that have at least a master’s degree and are licensed as mental health practitioners. | C5: 100% | D5: =COUNTIF(Table5[Was this therapist employed by your agency during the report quarter?],"Yes") -> 0 | E5: =IFERROR(COUNTIFS(Table5[Was this therapist employed by your agency during the report quarter?],"Yes", Table5[Does this therapist have a master''s degree or higher?], "Yes", Table5[Is this therapist licensed?],"Yes")/COUNTIF(Table5[Was this therapist employed by your agency during the report quarter?],"Yes"),"NA") -> NA
A6: Use of Eyberg Child Behavior Inventory (ECBI) or Use of the Weekly Assessment of Child Behavior (WACB) | B6: % of cases where ECBI was completed for every session. OR % of cases where the WACB was completed for every session. | C6: 90% | D6: =COUNTIF(Table2[Was this child engaged in services during the report quarter?], "Yes") -> 0 | E6: =IFERROR(COUNTIFS(Table2[Was this child engaged in services during the report quarter?],"Yes", Table2[Has an ECBI or WACB been completed for every session during the quarter?], "Yes")/COUNTIF(Table2[Was this child engaged in services during the report quarter?],"Yes"),"NA") -> NA
A7: Use of Dyadic Parent-Child Coding System (DPICS-IV) | B7: % of cases were DPICS-IV was completed for every session, except session when the child is not present. | C7: 90% | D7: =COUNTIF(Table2[Was this child engaged in services during the report quarter?], "Yes") -> 0 | E7: =IFERROR(COUNTIFS(Table2[Was this child engaged in services during the report quarter?],"Yes", Table2[Was a DPICS-IV completed for every session during the quarter except when the child was not present?], "Yes")/COUNTIF(Table2[Was this child engaged in services during the report quarter?],"Yes"),"NA") -> NA

Sheet County Names to hide
A1: Counties | B1: Today's Date | C1: Start of Quarter | D1: End of Quarter
A2: Alameda | B2: =TODAY() -> 45992 | C2: =DATE(Cover_Sheet!$F3, CHOOSE(MATCH(Cover_Sheet!$E3, {"January-March","April-June","July-September","October-December"}, 0), 1, 4, 7, 10), 1) -> 46204 | D2: =EOMONTH(DATE(Cover_Sheet!$F3, CHOOSE(MATCH(Cover_Sheet!$E3, {"January-March","April-June","July-September","October-December"}, 0), 3, 6, 9, 12), 1), 0) -> 46295
A3: Alpine
A4: Amador
A5: Butte
A6: Calaveras
A7: Colusa
A8: Contra Costa
A9: Del Norte
A10: El Dorado
A11: Fresno
A12: Glenn
A13: Humboldt
A14: Imperial
... A59: Yuba
