Workbook
Name HomeVisitorsFilteredList: 'County Names to hide (2)'!$C$2
Name HomeVisitorsFilteredList: #REF!
Name HomeVisitorsFilteredList: 'County Names to hide'!$C$2
Name HV_FilteredList: 'County Names to hide (2)'!$C$2:$C$1001
Name HV_FilteredList: #REF!
Name HV_FilteredList: 'County Names to hide'!$C$2:$C$100

Sheet County Names to hide (2)
A1: Counties | B1: Today's Date | C1: Start of Reporting Period | D1: End of Reporting Period
A2: Alameda | B2: =TODAY() -> 46307 | C2: =Cover_Sheet2!$H3 -> 46327 | D2: =Cover_Sheet2!$I3 -> 46418 | E2: =EDATE('County Names to hide (2)'!$C$2,-6) -> 46143
A3: Alpine
A4: Amador
A5: Butte
A6: Calaveras
A7: Colusa
A8: Contra Costa
A9: Del Norte
A10: El Dorado
A11: Fresno
A12: Glenn
A13: Humboldt
A14: Imperial
... A61: Yurok Tribe

Sheet Cover_Sheet2
A1: Instructions for Completing the Spreadsheet Each report period, one person from the county or community-based organization should complete row 3 of this cover sheet. Fill in every column. Update the Report Type, month you want the report period to start in, and year you want the report period to start in, each time you report to keep the aggregate outcome and fidelity data accurate. Do not add more rows to this sheet. If you encounter any issues with formatting or dropdown selections, reach out to the CDSS FFPS team for assistance: FFPSApreventionservices@dss.ca.gov. To keep a copy of your aggregate data for each reporting period, save a copy of the "Outcomes Aggregate", and "Fidelity Aggregate" sheets. These sheets will overwrite whenever you add new data. County CQI workgroups may review aggregate fidelity and outcome data on a quarterly basis. Use columns E,F,and G below to select the appropriate quarter in advance of the workgroup. Reminder: The Required CWS-CARES Fidelity & Outcomes Reports are completed every six months. Providers are responsible for uploading their own model fidelity and outcomes documentation via the FFPSA portal in CARES. To prepare the Required CWS-CARES Fidelity & Outcomes Report: 1. For data due in March: Set the reporting period to begin September 01 of the prior year and end February 28th, (29th on leap years) of the current year. 2. For data due on October: Set the reporting period to begin March 01 of the current year and end August 31st, of the current year. Updated October 12, 2026
A2: County Name | B2: Name of EBP Model | C2: Name of agency providing BSFT to FFPSA candidates | D2: Name of site providing BSFT to FFPSA candidates | E2: Report Type | F2: What month do you want the report period to start in? | G2: What year do you want the report period to start in? | H2: Reporting Period Start Date | I2: Reporting Period End Date | J2: Fiscal Year | K2: Report Completed By | L2: Email Address
A3: Alameda | B3: BSFT | E3: Quarterly | F3: November | G3: 2026 | H3: =DATE(G3, MONTH(DATEVALUE("1 "&F3)), 1) -> 46327 | I3: {=_xlfn.IFS( E3="Monthly", EOMONTH(H3,0), E3="Quarterly", EOMONTH(H3,2), E3="Biannual", EOMONTH(H3,5), E3="Yearly", EOMONTH(H3,11) )} -> 46418 | J3: 2027

Sheet Fidelity-Therapist Info
A1: Instructions for Completing the Spreadsheet Please enter all staff names and employment dates here. Use the dropdown menus where provided to ensure consistent responses and hover over cells to view notes for specific guidance on each field. Follow the flow of the spreadsheet, ensuring that cells dependent on a prior answer are completed appropriately. If a cell does not apply based on the answer to the previous cell, leave it blank and move to the next applicable field. Conditional formatting has been applied to some cells. If you encounter any issues with formatting or dropdown selections, reach out to the CDSS FFPS team for assistance: FFPSApreventionservices@dss.ca.gov
A2: Agency Name: | F2: Site Name:
A3: Therapist First Name | B3: Therapist Last Name | C3: Therapist Employment Start Date | D3: Therapist Employment End Date | E3: Was this therapist employed by your agency during the report period? | F3: Does this therapist have a master's degree or higher in mental health, social work, or marriage and family therapy? | G3: Does this therapist have a bachelor's degree and five years of clinical experience? | H3: Has this therapist completed training workshop 1? | I3: Has this therapist completed training workshop 2? | J3: Has this therapist completed training workshop 3? | K3: How many months has this therapist been participating in BSFT's Adherence/Fidelity program? | L3: Did the therapist score at least a 3.8 on the BSFT adherence certification checklist at the end of their first year? | M3: Did the therapist score at least a 3.8 on the BSFT adherence certification checklist at the end of their second year? | N3: Did the therapist score at least a 3.8 on the BSFT adherence certification checklist at the end of their third year?
E4: =IF(OR(A4="", C4=""), "", IF(AND( C4 <= 'County Names to hide (2)'!$D$2, OR(D4="", D4 >= 'County Names to hide (2)'!$C$2) ), "Yes", "No" ) )
E5: =IF(OR(A5="", C5=""), "", IF(AND( C5 <= 'County Names to hide (2)'!$D$2, OR(D5="", D5 >= 'County Names to hide (2)'!$C$2) ), "Yes", "No" ) )
E6: =IF(OR(A6="", C6=""), "", IF(AND( C6 <= 'County Names to hide (2)'!$D$2, OR(D6="", D6 >= 'County Names to hide (2)'!$C$2) ), "Yes", "No" ) )
E7: =IF(OR(A7="", C7=""), "", IF(AND( C7 <= 'County Names to hide (2)'!$D$2, OR(D7="", D7 >= 'County Names to hide (2)'!$C$2) ), "Yes", "No" ) )
E8: =IF(OR(A8="", C8=""), "", IF(AND( C8 <= 'County Names to hide (2)'!$D$2, OR(D8="", D8 >= 'County Names to hide (2)'!$C$2) ), "Yes", "No" ) )
E9: =IF(OR(A9="", C9=""), "", IF(AND( C9 <= 'County Names to hide (2)'!$D$2, OR(D9="", D9 >= 'County Names to hide (2)'!$C$2) ), "Yes", "No" ) )
E10: =IF(OR(A10="", C10=""), "", IF(AND( C10 <= 'County Names to hide (2)'!$D$2, OR(D10="", D10 >= 'County Names to hide (2)'!$C$2) ), "Yes", "No" ) )
E11: =IF(OR(A11="", C11=""), "", IF(AND( C11 <= 'County Names to hide (2)'!$D$2, OR(D11="", D11 >= 'County Names to hide (2)'!$C$2) ), "Yes", "No" ) )
E12: =IF(OR(A12="", C12=""), "", IF(AND( C12 <= 'County Names to hide (2)'!$D$2, OR(D12="", D12 >= 'County Names to hide (2)'!$C$2) ), "Yes", "No" ) )
E13: =IF(OR(A13="", C13=""), "", IF(AND( C13 <= 'County Names to hide (2)'!$D$2, OR(D13="", D13 >= 'County Names to hide (2)'!$C$2) ), "Yes", "No" ) )
E14: =IF(OR(A14="", C14=""), "", IF(AND( C14 <= 'County Names to hide (2)'!$D$2, OR(D14="", D14 >= 'County Names to hide (2)'!$C$2) ), "Yes", "No" ) )
E15: =IF(OR(A15="", C15=""), "", IF(AND( C15 <= 'County Names to hide (2)'!$D$2, OR(D15="", D15 >= 'County Names to hide (2)'!$C$2) ), "Yes", "No" ) )
... E100: =IF(OR(A100="", C100=""), "", IF(AND( C100 <= 'County Names to hide (2)'!$D$2, OR(D100="", D100 >= 'County Names to hide (2)'!$C$2) ), "Yes", "No" ) )

Sheet Fidelity-Supervisor Info
A1: Instructions for Completing the Spreadsheet Please enter all supervisor names and employment dates here. Use the dropdown menus where provided to ensure consistent responses and hover over cells to view notes for specific guidance on each field. Follow the flow of the spreadsheet, ensuring that cells dependent on a prior answer are completed appropriately. If a cell does not apply based on the answer to the previous cell, leave it blank and move to the next applicable field. Conditional formatting has been applied to some cells. If you encounter any issues with formatting or dropdown selections, reach out to the CDSS FFPS team for assistance: FFPSApreventionservices@dss.ca.gov
A2: Agency Name: | G2: Site Name:
A3: Supervisor First Name | B3: Supervisor Last Name | C3: Supervisor Employment Start Date | D3: Supervisor Employment End Date | E3: Was this supervisor employed by your agency during the report period? | F3: Does this supervisor have a master's degree or higher in mental health, social work, or marriage and family therapy? | G3: Has this supervisor completed supervisor training? | H3: Date this supervisor completed the supervisor training | I3: Does the supervisor have a minimum of one year of fidelity adherence?
E4: =IF(OR(A4="", C4=""), "", IF(AND( C4 <= 'County Names to hide (2)'!$D$2, OR(D4="", D4 >= 'County Names to hide (2)'!$C$2) ), "Yes", "No" ) )
E5: =IF(OR(A5="", C5=""), "", IF(AND( C5 <= 'County Names to hide (2)'!$D$2, OR(D5="", D5 >= 'County Names to hide (2)'!$C$2) ), "Yes", "No" ) )
E6: =IF(OR(A6="", C6=""), "", IF(AND( C6 <= 'County Names to hide (2)'!$D$2, OR(D6="", D6 >= 'County Names to hide (2)'!$C$2) ), "Yes", "No" ) )
E7: =IF(OR(A7="", C7=""), "", IF(AND( C7 <= 'County Names to hide (2)'!$D$2, OR(D7="", D7 >= 'County Names to hide (2)'!$C$2) ), "Yes", "No" ) )
E8: =IF(OR(A8="", C8=""), "", IF(AND( C8 <= 'County Names to hide (2)'!$D$2, OR(D8="", D8 >= 'County Names to hide (2)'!$C$2) ), "Yes", "No" ) )
E9: =IF(OR(A9="", C9=""), "", IF(AND( C9 <= 'County Names to hide (2)'!$D$2, OR(D9="", D9 >= 'County Names to hide (2)'!$C$2) ), "Yes", "No" ) )
E10: =IF(OR(A10="", C10=""), "", IF(AND( C10 <= 'County Names to hide (2)'!$D$2, OR(D10="", D10 >= 'County Names to hide (2)'!$C$2) ), "Yes", "No" ) )
E11: =IF(OR(A11="", C11=""), "", IF(AND( C11 <= 'County Names to hide (2)'!$D$2, OR(D11="", D11 >= 'County Names to hide (2)'!$C$2) ), "Yes", "No" ) )
E12: =IF(OR(A12="", C12=""), "", IF(AND( C12 <= 'County Names to hide (2)'!$D$2, OR(D12="", D12 >= 'County Names to hide (2)'!$C$2) ), "Yes", "No" ) )
E13: =IF(OR(A13="", C13=""), "", IF(AND( C13 <= 'County Names to hide (2)'!$D$2, OR(D13="", D13 >= 'County Names to hide (2)'!$C$2) ), "Yes", "No" ) )
E14: =IF(OR(A14="", C14=""), "", IF(AND( C14 <= 'County Names to hide (2)'!$D$2, OR(D14="", D14 >= 'County Names to hide (2)'!$C$2) ), "Yes", "No" ) )
E15: =IF(OR(A15="", C15=""), "", IF(AND( C15 <= 'County Names to hide (2)'!$D$2, OR(D15="", D15 >= 'County Names to hide (2)'!$C$2) ), "Yes", "No" ) )
... E100: =IF(OR(A100="", C100=""), "", IF(AND( C100 <= 'County Names to hide (2)'!$D$2, OR(D100="", D100 >= 'County Names to hide (2)'!$C$2) ), "Yes", "No" ) )

Sheet Outcomes
A1: Instructions for Completing the Spreadsheet (For Family First Title IV-E children/families only) Use the dropdown menus where provided to ensure consistent responses and hover over cells to view notes for specific guidance on each field. Follow the flow of the spreadsheet, ensuring that cells dependent on a prior answer are completed appropriately. If a cell does not apply based on the answer to the previous cell, leave it blank and move to the next applicable field. Conditional formatting has been applied to some cells. If you encounter any issues with formatting or dropdown selections, reach out to the CDSS FFPS team for assistance: FFPSApreventionservices@dss.ca.gov.
A2: Agency Name: | E2: Site Name:
A3: Child Identifier | M3: Program Start and End Dates
A4: DCFS/Probation Unique Identifier | B4: BSFT Model Child ID | C4: Child Date of Birth | D4: Child Sex | E4: Child Hispanic or Latino Ethnicity | F4: Child Race: White | G4: Child Race: Black or African American | H4: Child Race: Asian | I4: Child Race: Native Hawaiian or Other Pacific Islander | J4: Child Race: American Indian or Alaska Native | K4: Child Race: Declined | L4: Child Race: Unknown | M4: Program Start Date | N4: Program End Date | O4: Was this child open during the report period? | P4: Date Child Specific Prevention Plan Start (Year One) | Q4: Date Child Specific Prevention Plan Ended (Year One) | R4: Date Child Specific Prevention Plan Start (Year Two) | S4: Date Child Specific Prevention Plan Ended (Year Two) | T4: Months open at end of the report period | U4: Did this case close during the report period? | V4: If the case is closed, how many visits (as defined by the BSFT model) did the youth receive? | W4: Did this youth exhibit clinical improvement in the social functioning subset? | X4: Did this youth demonstrate clinical improvement on the family functioning subset? | Y4: Did this youth show clinical improvement in the behavioral and emotional needs domain? | Z4: Did this youth have a reduction in association with antisocial peers? | AA4: Did this youth show clinical improvement in the conduct and socialized aggression subset? | AB4: Did the parents demonstrate reduced alcohol use on the addiction severity index? | AC4: Did the parents move out of the non-clinical range on the parenting practices questionnaire? | AD4: Did the family have a significant reduction on the general family assessment device subscale?
L5: =IF(COUNTIF(F6:K6, "Yes")>0, "No", "Yes") -> Yes | O5: =IF(OR(A5="", M5=""), "", IF(AND( M5 <= 'County Names to hide (2)'!$D$2, OR(N5="", N5 >= 'County Names to hide (2)'!$C$2) ), "Yes", "No" ) ) | T5: =IF(Outcomes!M5="","", IF(AND(Outcomes!N5<>"",Outcomes!N5<'County Names to hide (2)'!$C$2),0, ROUND((MIN(IF(Outcomes!N5="", 'County Names to hide (2)'!$D$2, Outcomes!N5),'County Names to hide (2)'!$D$2)-Outcomes!M5)/30,1))) | U5: =IF(OR(A5="", M5="", N5=""), "", IF(AND( N5 >= 'County Names to hide (2)'!$C$2, N5 <= 'County Names to hide (2)'!$D$2 ), "Yes", "No" ) )
L6: =IF(COUNTIF(F7:K7, "Yes")>0, "No", "Yes") -> Yes | O6: =IF(OR(A6="", M6=""), "", IF(AND( M6 <= 'County Names to hide (2)'!$D$2, OR(N6="", N6 >= 'County Names to hide (2)'!$C$2) ), "Yes", "No" ) ) | T6: =IF(Outcomes!M6="","", IF(AND(Outcomes!N6<>"",Outcomes!N6<'County Names to hide (2)'!$C$2),0, ROUND((MIN(IF(Outcomes!N6="", 'County Names to hide (2)'!$D$2, Outcomes!N6),'County Names to hide (2)'!$D$2)-Outcomes!M6)/30,1))) | U6: =IF(OR(Outcomes!M6="",Outcomes!M6>'County Names to hide (2)'!$D$2),"", IF(Outcomes!N6="","No", IF(AND(Outcomes!N6>'County Names to hide (2)'!$C$2, Outcomes!N6<'County Names to hide (2)'!$D$2), "Yes","No")))
L7: =IF(COUNTIF(F8:K8, "Yes")>0, "No", "Yes") -> Yes | O7: =IF(OR(A7="", M7=""), "", IF(AND( M7 <= 'County Names to hide (2)'!$D$2, OR(N7="", N7 >= 'County Names to hide (2)'!$C$2) ), "Yes", "No" ) ) | T7: =IF(Outcomes!M7="","", IF(AND(Outcomes!N7<>"",Outcomes!N7<'County Names to hide (2)'!$C$2),0, ROUND((MIN(IF(Outcomes!N7="", 'County Names to hide (2)'!$D$2, Outcomes!N7),'County Names to hide (2)'!$D$2)-Outcomes!M7)/30,1)))
L8: =IF(COUNTIF(F9:K9, "Yes")>0, "No", "Yes") -> Yes | O8: =IF(OR(A8="", M8=""), "", IF(AND( M8 <= 'County Names to hide (2)'!$D$2, OR(N8="", N8 >= 'County Names to hide (2)'!$C$2) ), "Yes", "No" ) ) | T8: =IF(Outcomes!M8="","", IF(AND(Outcomes!N8<>"",Outcomes!N8<'County Names to hide (2)'!$C$2),0, ROUND((MIN(IF(Outcomes!N8="", 'County Names to hide (2)'!$D$2, Outcomes!N8),'County Names to hide (2)'!$D$2)-Outcomes!M8)/30,1)))
L9: =IF(COUNTIF(F10:K10, "Yes")>0, "No", "Yes") -> Yes | O9: =IF(OR(A9="", M9=""), "", IF(AND( M9 <= 'County Names to hide (2)'!$D$2, OR(N9="", N9 >= 'County Names to hide (2)'!$C$2) ), "Yes", "No" ) ) | T9: =IF(Outcomes!M9="","", IF(AND(Outcomes!N9<>"",Outcomes!N9<'County Names to hide (2)'!$C$2),0, ROUND((MIN(IF(Outcomes!N9="", 'County Names to hide (2)'!$D$2, Outcomes!N9),'County Names to hide (2)'!$D$2)-Outcomes!M9)/30,1)))
L10: =IF(COUNTIF(F11:K11, "Yes")>0, "No", "Yes") -> Yes | O10: =IF(OR(A10="", M10=""), "", IF(AND( M10 <= 'County Names to hide (2)'!$D$2, OR(N10="", N10 >= 'County Names to hide (2)'!$C$2) ), "Yes", "No" ) ) | T10: =IF(Outcomes!M10="","", IF(AND(Outcomes!N10<>"",Outcomes!N10<'County Names to hide (2)'!$C$2),0, ROUND((MIN(IF(Outcomes!N10="", 'County Names to hide (2)'!$D$2, Outcomes!N10),'County Names to hide (2)'!$D$2)-Outcomes!M10)/30,1)))
L11: =IF(COUNTIF(F12:K12, "Yes")>0, "No", "Yes") -> Yes | O11: =IF(OR(A11="", M11=""), "", IF(AND( M11 <= 'County Names to hide (2)'!$D$2, OR(N11="", N11 >= 'County Names to hide (2)'!$C$2) ), "Yes", "No" ) ) | T11: =IF(Outcomes!M11="","", IF(AND(Outcomes!N11<>"",Outcomes!N11<'County Names to hide (2)'!$C$2),0, ROUND((MIN(IF(Outcomes!N11="", 'County Names to hide (2)'!$D$2, Outcomes!N11),'County Names to hide (2)'!$D$2)-Outcomes!M11)/30,1)))
L12: =IF(COUNTIF(F13:K13, "Yes")>0, "No", "Yes") -> Yes | O12: =IF(OR(A12="", M12=""), "", IF(AND( M12 <= 'County Names to hide (2)'!$D$2, OR(N12="", N12 >= 'County Names to hide (2)'!$C$2) ), "Yes", "No" ) ) | T12: =IF(Outcomes!M12="","", IF(AND(Outcomes!N12<>"",Outcomes!N12<'County Names to hide (2)'!$C$2),0, ROUND((MIN(IF(Outcomes!N12="", 'County Names to hide (2)'!$D$2, Outcomes!N12),'County Names to hide (2)'!$D$2)-Outcomes!M12)/30,1)))
L13: =IF(COUNTIF(F14:K14, "Yes")>0, "No", "Yes") -> Yes | O13: =IF(OR(A13="", M13=""), "", IF(AND( M13 <= 'County Names to hide (2)'!$D$2, OR(N13="", N13 >= 'County Names to hide (2)'!$C$2) ), "Yes", "No" ) ) | T13: =IF(Outcomes!M13="","", IF(AND(Outcomes!N13<>"",Outcomes!N13<'County Names to hide (2)'!$C$2),0, ROUND((MIN(IF(Outcomes!N13="", 'County Names to hide (2)'!$D$2, Outcomes!N13),'County Names to hide (2)'!$D$2)-Outcomes!M13)/30,1)))
L14: =IF(COUNTIF(F15:K15, "Yes")>0, "No", "Yes") -> Yes | O14: =IF(OR(A14="", M14=""), "", IF(AND( M14 <= 'County Names to hide (2)'!$D$2, OR(N14="", N14 >= 'County Names to hide (2)'!$C$2) ), "Yes", "No" ) ) | T14: =IF(Outcomes!M14="","", IF(AND(Outcomes!N14<>"",Outcomes!N14<'County Names to hide (2)'!$C$2),0, ROUND((MIN(IF(Outcomes!N14="", 'County Names to hide (2)'!$D$2, Outcomes!N14),'County Names to hide (2)'!$D$2)-Outcomes!M14)/30,1)))
L15: =IF(COUNTIF(F16:K16, "Yes")>0, "No", "Yes") -> Yes | O15: =IF(OR(A15="", M15=""), "", IF(AND( M15 <= 'County Names to hide (2)'!$D$2, OR(N15="", N15 >= 'County Names to hide (2)'!$C$2) ), "Yes", "No" ) ) | T15: =IF(Outcomes!M15="","", IF(AND(Outcomes!N15<>"",Outcomes!N15<'County Names to hide (2)'!$C$2),0, ROUND((MIN(IF(Outcomes!N15="", 'County Names to hide (2)'!$D$2, Outcomes!N15),'County Names to hide (2)'!$D$2)-Outcomes!M15)/30,1)))
L16: =IF(COUNTIF(F17:K17, "Yes")>0, "No", "Yes") -> Yes | O16: =IF(OR(A16="", M16=""), "", IF(AND( M16 <= 'County Names to hide (2)'!$D$2, OR(N16="", N16 >= 'County Names to hide (2)'!$C$2) ), "Yes", "No" ) ) | T16: =IF(Outcomes!M16="","", IF(AND(Outcomes!N16<>"",Outcomes!N16<'County Names to hide (2)'!$C$2),0, ROUND((MIN(IF(Outcomes!N16="", 'County Names to hide (2)'!$D$2, Outcomes!N16),'County Names to hide (2)'!$D$2)-Outcomes!M16)/30,1)))
L17: =IF(COUNTIF(F18:K18, "Yes")>0, "No", "Yes") -> Yes | O17: =IF(OR(A17="", M17=""), "", IF(AND( M17 <= 'County Names to hide (2)'!$D$2, OR(N17="", N17 >= 'County Names to hide (2)'!$C$2) ), "Yes", "No" ) ) | T17: =IF(Outcomes!M17="","", IF(AND(Outcomes!N17<>"",Outcomes!N17<'County Names to hide (2)'!$C$2),0, ROUND((MIN(IF(Outcomes!N17="", 'County Names to hide (2)'!$D$2, Outcomes!N17),'County Names to hide (2)'!$D$2)-Outcomes!M17)/30,1)))
L18: =IF(COUNTIF(F19:K19, "Yes")>0, "No", "Yes") -> Yes | O18: =IF(OR(A18="", M18=""), "", IF(AND( M18 <= 'County Names to hide (2)'!$D$2, OR(N18="", N18 >= 'County Names to hide (2)'!$C$2) ), "Yes", "No" ) ) | T18: =IF(Outcomes!M18="","", IF(AND(Outcomes!N18<>"",Outcomes!N18<'County Names to hide (2)'!$C$2),0, ROUND((MIN(IF(Outcomes!N18="", 'County Names to hide (2)'!$D$2, Outcomes!N18),'County Names to hide (2)'!$D$2)-Outcomes!M18)/30,1)))
... L500: =IF(COUNTIF(F501:K501, "Yes")>0, "No", "Yes") -> Yes | O500: =IF(OR(A500="", M500=""), "", IF(AND( M500 <= 'County Names to hide (2)'!$D$2, OR(N500="", N500 >= 'County Names to hide (2)'!$C$2) ), "Yes", "No" ) ) | T500: =IF(Outcomes!M500="","", IF(AND(Outcomes!N500<>"",Outcomes!N500<'County Names to hide (2)'!$C$2),0, ROUND((MIN(IF(Outcomes!N500="", 'County Names to hide (2)'!$D$2, Outcomes!N500),'County Names to hide (2)'!$D$2)-Outcomes!M500)/30,1)))

Sheet Fidelity_Aggregate
A1: This sheet will populate automatically based on the data entered in the "Fidelity-Therapist Info" and "Fidelity-Supervisor Info" spreadsheets. Be sure to choose the correct reporting period on the Cover Sheet tab. If you encounter any issues with formatting or dropdown selections, reach out to the CDSS FFPS team for assistance: FFPSApreventionservices@dss.ca.gov. To keep a copy of your aggregate fidelity data for each reporting period, save a copy of this sheet and "Outcomes_Aggregate". These sheets will overwrite whenever you add new data. Reminder: The Required CWS-CARES Fidelity & Outcomes Reports are completed every six months. Providers are responsible for uploading their own model fidelity and outcomes documentation via the FFPSA portal in CARES. To prepare the Required CWS-CARES Fidelity & Outcomes Report: 1. For data due in March: Set the reporting period to begin September 01 of the prior year and end February 28th, (29th on leap years) of the current year. 2. For data due in October: Set the reporting period to begin March 01 of the current year and end August 31st, of the current year. 3. Use the numbers in the "Percent" columns on this spreadsheet for the fidelity metrics on the Required CWS-CARES Fidelity & Outcomes Report.
A2: Fidelity Measures
A3: Measure | B3: Indicator | C3: Target | D3: N | E3: Percent
A4: Provider Received and Maintained Required Training | B4: Percent of therapists who have completed Training Workshop #1 | C4: 1 | D4: =COUNTIF(Table1[Was this therapist employed by your agency during the report period?], "Yes") -> 0 | E4: =IFERROR(COUNTIFS(Table1[Was this therapist employed by your agency during the report period?],"Yes", Table1[Has this therapist completed training workshop 1?], "Yes")/COUNTIF(Table1[Was this therapist employed by your agency during the report period?],"Yes"),"NA") -> NA
B5: Percent of therapists who have completed Training Workshop #2 | C5: 1 | D5: =COUNTIF(Table1[Was this therapist employed by your agency during the report period?], "Yes") -> 0 | E5: =IFERROR(COUNTIFS(Table1[Was this therapist employed by your agency during the report period?],"Yes", Table1[Has this therapist completed training workshop 2?], "Yes")/COUNTIF(Table1[Was this therapist employed by your agency during the report period?],"Yes"),"NA") -> NA
B6: Percent of therapists who have completed Training Workshop #3 | C6: 1 | D6: =COUNTIF(Table1[Was this therapist employed by your agency during the report period?], "Yes") -> 0 | E6: =IFERROR(COUNTIFS(Table1[Was this therapist employed by your agency during the report period?],"Yes", Table1[Has this therapist completed training workshop 3?], "Yes")/COUNTIF(Table1[Was this therapist employed by your agency during the report period?],"Yes"),"NA") -> NA
B7: Percent of supervisors who have completed supervisor training and have had a minimum of 1 year of fidelity adherence | C7: 1 | D7: =COUNTIFS( Table2[Was this supervisor employed by your agency during the report period?], "Yes", Table2[Has this supervisor completed supervisor training?], "Yes", Table2[Date this supervisor completed the supervisor training], "<=" & EDATE('County Names to hide (2)'!$D$2, -12) ) -> 0 | E7: =IFERROR( COUNTIFS( Table2[Was this supervisor employed by your agency during the report period?], "Yes", Table2[Has this supervisor completed supervisor training?], "Yes", Table2[Date this supervisor completed the supervisor training], "<=" & EDATE('County Names to hide (2)'!$D$2, -12), Table2[Does the supervisor have a minimum of one year of fidelity adherence?], "Yes" ) / COUNTIFS( Table2[Was this supervisor employed by your agency during the report period?], "Yes", Table2[Has this supervisor completed supervisor training?], "Yes", Table2[Date this supervisor completed the supervisor training], "<=" & EDATE('County Names to hide (2)'!$D$2, -12) ), "NA" ) -> NA
A8: Meets Staffing Qualification Requirements | B8: Percent of therapists who have at least a master’s degree in mental health, social work, marriage and family therapy, or a related field, or a bachelor’s degree plus 5 years of clinical experience | C8: 1 | D8: =COUNTIF(Table1[Was this therapist employed by your agency during the report period?], "Yes") -> 0 | E8: =IFERROR(COUNTIFS(Table1[Was this therapist employed by your agency during the report period?],"Yes", Table1[Does this therapist have a master''s degree or higher in mental health, social work, or marriage and family therapy?], "Yes")/COUNTIF(Table1[Was this therapist employed by your agency during the report period?],"Yes"),"NA") -> NA
B9: Percent of supervisors who have at least a master’s degree in mental health, social work, marriage and family therapy, or a related field | C9: 1 | D9: =COUNTIF(Table2[Was this supervisor employed by your agency during the report period?], "Yes") -> 0 | E9: =IFERROR(COUNTIFS(Table2[Was this supervisor employed by your agency during the report period?],"Yes", Table2[Does this supervisor have a master''s degree or higher in mental health, social work, or marriage and family therapy?], "Yes")/COUNTIF(Table2[Was this supervisor employed by your agency during the report period?],"Yes"),"NA") -> NA
A10: Ongoing Completion of the BSFT Adherence Certification Checklist | B10: Percent of therapists who score at least a 3.8 on the BSFT Adherence Certification Checklist at the end of their first year | C10: 1 | D10: =COUNTIFS( Table1[Was this therapist employed by your agency during the report period?], "Yes", Table1[How many months has this therapist been participating in BSFT''s Adherence/Fidelity program?], "<>Has not started yet", Table1[How many months has this therapist been participating in BSFT''s Adherence/Fidelity program?], "<>Less than 12 months" ) -> 0 | E10: =IFERROR( COUNTIFS( Table1[Was this therapist employed by your agency during the report period?], "Yes", Table1[How many months has this therapist been participating in BSFT''s Adherence/Fidelity program?], "<>Has not started yet", Table1[How many months has this therapist been participating in BSFT''s Adherence/Fidelity program?], "<>Less than 12 months", Table1[Did the therapist score at least a 3.8 on the BSFT adherence certification checklist at the end of their first year?], "Yes" ) / COUNTIFS( Table1[Was this therapist employed by your agency during the report period?], "Yes", Table1[How many months has this therapist been participating in BSFT''s Adherence/Fidelity program?], "<>Has not started yet", Table1[How many months has this therapist been participating in BSFT''s Adherence/Fidelity program?], "<>Less than 12 months" ), "NA" ) -> NA
B11: Percent of therapists who score at least a 3.8 on the BSFT Adherence Certification Checklist at the end of their second year | C11: 1 | D11: =COUNTIFS( Table1[Was this therapist employed by your agency during the report period?], "Yes", Table1[How many months has this therapist been participating in BSFT''s Adherence/Fidelity program?], "<>Has not started yet", Table1[How many months has this therapist been participating in BSFT''s Adherence/Fidelity program?], "<>Less than 12 months", Table1[How many months has this therapist been participating in BSFT''s Adherence/Fidelity program?], "<>More than 12 months but less than 24 months" ) -> 0 | E11: =IFERROR( COUNTIFS( Table1[Was this therapist employed by your agency during the report period?], "Yes", Table1[How many months has this therapist been participating in BSFT''s Adherence/Fidelity program?], "<>Has not started yet", Table1[How many months has this therapist been participating in BSFT''s Adherence/Fidelity program?], "<>Less than 12 months", Table1[How many months has this therapist been participating in BSFT''s Adherence/Fidelity program?], "<>More than 12 months but less than 24 months", Table1[Did the therapist score at least a 3.8 on the BSFT adherence certification checklist at the end of their second year?], "Yes" ) / COUNTIFS( Table1[Was this therapist employed by your agency during the report period?], "Yes", Table1[How many months has this therapist been participating in BSFT''s Adherence/Fidelity program?], "<>Has not started yet", Table1[How many months has this therapist been participating in BSFT''s Adherence/Fidelity program?], "<>Less than 12 months", Table1[How many months has this therapist been participating in BSFT''s Adherence/Fidelity program?], "<>More than 12 months but less than 24 months" ), "NA" ) -> NA
B12: Percent of therapists who score at least a 3.8 on the BSFT Adherence Certification Checklist at the end of their third year | C12: 1 | D12: =COUNTIFS( Table1[Was this therapist employed by your agency during the report period?], "Yes", Table1[How many months has this therapist been participating in BSFT''s Adherence/Fidelity program?], "Has completed the program") -> 0 | E12: =IFERROR( COUNTIFS( Table1[Was this therapist employed by your agency during the report period?], "Yes", Table1[How many months has this therapist been participating in BSFT''s Adherence/Fidelity program?], "Has completed the program", Table1[Did the therapist score at least a 3.8 on the BSFT adherence certification checklist at the end of their third year?], "Yes" ) / COUNTIFS( Table1[Was this therapist employed by your agency during the report period?], "Yes", Table1[How many months has this therapist been participating in BSFT''s Adherence/Fidelity program?], "Has completed the program"), "NA" ) -> NA

Sheet Outcomes_Aggregate
A1: This sheet will populate automatically based on the data entered in the "Outcomes" spreadsheet. Be sure to choose the correct reporting period on the Cover Sheet tab. Please review the notes in the "n" columns which describe who the n refers to. If you encounter any issues with formatting or dropdown selections, reach out to the CDSS FFPS team for assistance: FFPSApreventionservices@dss.ca.gov. To keep a copy of your aggregate data for each reporting period, save a copy of this sheet and "Fidelity Aggregate". These sheets will overwrite whenever you add new data. Reminder: The Required CWS-CARES Fidelity & Outcomes Reports are completed every six months. Providers are responsible for uploading their own model fidelity and outcomes documentation via the FFPSA portal in CARES. To prepare the Required CWS-CARES Fidelity & Outcomes Report: 1. For data due in March: Set the reporting period to begin September 01 of the prior year and end February 28th, (29th on leap years) of the current year. 2. For data due in October: Set the reporting period to begin March 01 of the current year and end August 31st, of the current year. 3. Use the numbers in the "Total" columns on this spreadsheet for the outcomes on the Required CWS-CARES Fidelity & Outcomes Report.
B2: Outcome Measures
A3: Measure | B3: Indicator | D3: Total | F3: Hispanic | H3: White | J3: Black or African American | L3: Asian | N3: Native Hawaiian or Other Pacific Islander | P3: American Indian or Alaska Native
C4: Target | D4: N | E4: % | F4: N | G4: % | H4: N | I4: % | J4: N | K4: % | L4: N | M4: % | N4: N | O4: % | P4: N | Q4: %
A5: Improved child behavioral functioning | B5: % of youth with clinical improvement in the Social Functioning Subset | C5: 0.7 | D5: =COUNTIF(Table4[Did this case close during the report period?], "Yes") -> 0 | E5: =IFERROR( COUNTIFS( Table4[Did this case close during the report period?],"Yes", Table4[Did this case close during the report period?], "Yes", Table4[Did this youth exhibit clinical improvement in the social functioning subset?],"Yes") / COUNTIF( Table4[Did this case close during the report period?],"Yes"), "NA") -> NA | F5: =COUNTIFS(Table4[Child Hispanic or Latino Ethnicity], "Yes", Table4[Did this case close during the report period?], "Yes") -> 0 | G5: =IFERROR( COUNTIFS(Table4[Child Hispanic or Latino Ethnicity],"Yes", Table4[Did this case close during the report period?],"Yes", Table4[Did this youth exhibit clinical improvement in the social functioning subset?],"Yes") / COUNTIFS(Table4[Child Hispanic or Latino Ethnicity],"Yes", Table4[Did this case close during the report period?],"Yes"), "NA") -> NA | H5: =COUNTIFS(Table4[Child Race: White], "Yes", Table4[Did this case close during the report period?], "Yes") -> 0 | I5: =IFERROR( COUNTIFS(Table4[Child Race: White],"Yes", Table4[Did this case close during the report period?],"Yes", Table4[Did this youth exhibit clinical improvement in the social functioning subset?],"Yes") / COUNTIFS(Table4[Child Race: White],"Yes", Table4[Did this case close during the report period?],"Yes"), "NA") -> NA | J5: =COUNTIFS(Table4[Child Race: Black or African American], "Yes", Table4[Did this case close during the report period?], "Yes") -> 0 | K5: =IFERROR( COUNTIFS(Table4[Child Race: Black or African American],"Yes", Table4[Did this case close during the report period?],"Yes", Table4[Did this youth exhibit clinical improvement in the social functioning subset?],"Yes") / COUNTIFS(Table4[Child Race: Black or African American],"Yes", Table4[Did this case close during the report period?],"Yes"), "NA") -> NA | L5: =COUNTIFS(Table4[Child Race: Asian], "Yes", Table4[Did this case close during the report period?], "Yes") -> 0 | M5: =IFERROR( COUNTIFS(Table4[Child Race: Asian],"Yes", Table4[Did this case close during the report period?],"Yes", Table4[Did this youth exhibit clinical improvement in the social functioning subset?],"Yes") / COUNTIFS(Table4[Child Race: Asian],"Yes", Table4[Did this case close during the report period?],"Yes"), "NA") -> NA | N5: =COUNTIFS(Table4[Child Race: Native Hawaiian or Other Pacific Islander], "Yes", Table4[Did this case close during the report period?], "Yes") -> 0 | O5: =IFERROR( COUNTIFS(Table4[Child Race: Native Hawaiian or Other Pacific Islander],"Yes", Table4[Did this case close during the report period?],"Yes", Table4[Did this youth exhibit clinical improvement in the social functioning subset?],"Yes") / COUNTIFS(Table4[Child Race: Native Hawaiian or Other Pacific Islander],"Yes", Table4[Did this case close during the report period?],"Yes"), "NA") -> NA | P5: =COUNTIFS(Table4[Child Race: American Indian or Alaska Native], "Yes", Table4[Did this case close during the report period?], "Yes") -> 0 | Q5: =IFERROR( COUNTIFS(Table4[Child Race: American Indian or Alaska Native],"Yes", Table4[Did this case close during the report period?],"Yes", Table4[Did this youth exhibit clinical improvement in the social functioning subset?],"Yes") / COUNTIFS(Table4[Child Race: American Indian or Alaska Native],"Yes", Table4[Did this case close during the report period?],"Yes"), "NA") -> NA
B6: % of youth with clinical improvement in the Family Functioning Subset | C6: 0.65 | D6: =COUNTIF(Table4[Did this case close during the report period?], "Yes") -> 0 | E6: =IFERROR( COUNTIFS( Table4[Did this case close during the report period?],"Yes", Table4[Did this case close during the report period?], "Yes", Table4[Did this youth demonstrate clinical improvement on the family functioning subset?],"Yes") / COUNTIF( Table4[Did this case close during the report period?],"Yes"), "NA") -> NA | F6: =COUNTIFS(Table4[Child Hispanic or Latino Ethnicity], "Yes", Table4[Did this case close during the report period?], "Yes") -> 0 | G6: =IFERROR( COUNTIFS(Table4[Child Hispanic or Latino Ethnicity],"Yes", Table4[Did this case close during the report period?],"Yes", Table4[Did this youth demonstrate clinical improvement on the family functioning subset?],"Yes") / COUNTIFS(Table4[Child Hispanic or Latino Ethnicity],"Yes", Table4[Did this case close during the report period?],"Yes"), "NA") -> NA | H6: =COUNTIFS(Table4[Child Race: White], "Yes", Table4[Did this case close during the report period?], "Yes") -> 0 | I6: =IFERROR( COUNTIFS(Table4[Child Race: White],"Yes", Table4[Did this case close during the report period?],"Yes", Table4[Did this youth demonstrate clinical improvement on the family functioning subset?],"Yes") / COUNTIFS(Table4[Child Race: White],"Yes", Table4[Did this case close during the report period?],"Yes"), "NA") -> NA | J6: =COUNTIFS(Table4[Child Race: Black or African American], "Yes", Table4[Did this case close during the report period?], "Yes") -> 0 | K6: =IFERROR( COUNTIFS(Table4[Child Race: Black or African American],"Yes", Table4[Did this case close during the report period?],"Yes", Table4[Did this youth demonstrate clinical improvement on the family functioning subset?],"Yes") / COUNTIFS(Table4[Child Race: Black or African American],"Yes", Table4[Did this case close during the report period?],"Yes"), "NA") -> NA | L6: =COUNTIFS(Table4[Child Race: Asian], "Yes", Table4[Did this case close during the report period?], "Yes") -> 0 | M6: =IFERROR( COUNTIFS(Table4[Child Race: Asian],"Yes", Table4[Did this case close during the report period?],"Yes", Table4[Did this youth demonstrate clinical improvement on the family functioning subset?],"Yes") / COUNTIFS(Table4[Child Race: Asian],"Yes", Table4[Did this case close during the report period?],"Yes"), "NA") -> NA | N6: =COUNTIFS(Table4[Child Race: Native Hawaiian or Other Pacific Islander], "Yes", Table4[Did this case close during the report period?], "Yes") -> 0 | O6: =IFERROR( COUNTIFS(Table4[Child Race: Native Hawaiian or Other Pacific Islander],"Yes", Table4[Did this case close during the report period?],"Yes", Table4[Did this youth demonstrate clinical improvement on the family functioning subset?],"Yes") / COUNTIFS(Table4[Child Race: Native Hawaiian or Other Pacific Islander],"Yes", Table4[Did this case close during the report period?],"Yes"), "NA") -> NA | P6: =COUNTIFS(Table4[Child Race: American Indian or Alaska Native], "Yes", Table4[Did this case close during the report period?], "Yes") -> 0 | Q6: =IFERROR( COUNTIFS(Table4[Child Race: American Indian or Alaska Native],"Yes", Table4[Did this case close during the report period?],"Yes", Table4[Did this youth demonstrate clinical improvement on the family functioning subset?],"Yes") / COUNTIFS(Table4[Child Race: American Indian or Alaska Native],"Yes", Table4[Did this case close during the report period?],"Yes"), "NA") -> NA
A7: Improved child emotional functioning | B7: % of youth with clinical improvement in the Behavioral/Emotional Needs Domain | C7: 0.7 | D7: =COUNTIF(Table4[Did this case close during the report period?], "Yes") -> 0 | E7: =IFERROR( COUNTIFS( Table4[Did this case close during the report period?],"Yes", Table4[Did this youth show clinical improvement in the behavioral and emotional needs domain?],"Yes") / COUNTIF( Table4[Did this case close during the report period?],"Yes"), "NA") -> NA | F7: =COUNTIFS(Table4[Child Hispanic or Latino Ethnicity], "Yes", Table4[Did this case close during the report period?], "Yes") -> 0 | G7: =IFERROR( COUNTIFS(Table4[Child Hispanic or Latino Ethnicity],"Yes", Table4[Did this case close during the report period?],"Yes", Table4[Did this youth show clinical improvement in the behavioral and emotional needs domain?],"Yes") / COUNTIFS(Table4[Child Hispanic or Latino Ethnicity],"Yes", Table4[Did this case close during the report period?],"Yes"), "NA") -> NA | H7: =COUNTIFS(Table4[Child Race: White], "Yes", Table4[Did this case close during the report period?], "Yes") -> 0 | I7: =IFERROR( COUNTIFS(Table4[Child Race: White],"Yes", Table4[Did this case close during the report period?],"Yes", Table4[Did this youth show clinical improvement in the behavioral and emotional needs domain?],"Yes") / COUNTIFS(Table4[Child Race: White],"Yes", Table4[Did this case close during the report period?],"Yes"), "NA") -> NA | J7: =COUNTIFS(Table4[Child Race: Black or African American], "Yes", Table4[Did this case close during the report period?], "Yes") -> 0 | K7: =IFERROR( COUNTIFS(Table4[Child Race: Black or African American],"Yes", Table4[Did this case close during the report period?],"Yes", Table4[Did this youth show clinical improvement in the behavioral and emotional needs domain?],"Yes") / COUNTIFS(Table4[Child Race: Black or African American],"Yes", Table4[Did this case close during the report period?],"Yes"), "NA") -> NA | L7: =COUNTIFS(Table4[Child Race: Asian], "Yes", Table4[Did this case close during the report period?], "Yes") -> 0 | M7: =IFERROR( COUNTIFS(Table4[Child Race: Asian],"Yes", Table4[Did this case close during the report period?],"Yes", Table4[Did this youth show clinical improvement in the behavioral and emotional needs domain?],"Yes") / COUNTIFS(Table4[Child Race: Asian],"Yes", Table4[Did this case close during the report period?],"Yes"), "NA") -> NA | N7: =COUNTIFS(Table4[Child Race: Native Hawaiian or Other Pacific Islander], "Yes", Table4[Did this case close during the report period?], "Yes") -> 0 | O7: =IFERROR( COUNTIFS(Table4[Child Race: Native Hawaiian or Other Pacific Islander],"Yes", Table4[Did this case close during the report period?],"Yes", Table4[Did this youth show clinical improvement in the behavioral and emotional needs domain?],"Yes") / COUNTIFS(Table4[Child Race: Native Hawaiian or Other Pacific Islander],"Yes", Table4[Did this case close during the report period?],"Yes"), "NA") -> NA | P7: =COUNTIFS(Table4[Child Race: American Indian or Alaska Native], "Yes", Table4[Did this case close during the report period?], "Yes") -> 0 | Q7: =IFERROR( COUNTIFS(Table4[Child Race: American Indian or Alaska Native],"Yes", Table4[Did this case close during the report period?],"Yes", Table4[Did this youth show clinical improvement in the behavioral and emotional needs domain?],"Yes") / COUNTIFS(Table4[Child Race: American Indian or Alaska Native],"Yes", Table4[Did this case close during the report period?],"Yes"), "NA") -> NA
A8: Decrease in youth delinquent behavior | B8: % of youth with reduction in association with antisocial peers | C8: 0.6 | D8: =COUNTIF(Table4[Did this case close during the report period?], "Yes") -> 0 | E8: =IFERROR( COUNTIFS( Table4[Did this case close during the report period?],"Yes", Table4[Did this youth have a reduction in association with antisocial peers?],"Yes") / COUNTIF( Table4[Did this case close during the report period?],"Yes"), "NA") -> NA | F8: =COUNTIFS(Table4[Child Hispanic or Latino Ethnicity], "Yes", Table4[Did this case close during the report period?], "Yes") -> 0 | G8: =IFERROR( COUNTIFS(Table4[Child Hispanic or Latino Ethnicity],"Yes", Table4[Did this case close during the report period?],"Yes", Table4[Did this youth have a reduction in association with antisocial peers?],"Yes") / COUNTIFS(Table4[Child Hispanic or Latino Ethnicity],"Yes", Table4[Did this case close during the report period?],"Yes"), "NA") -> NA | H8: =COUNTIFS(Table4[Child Race: White], "Yes", Table4[Did this case close during the report period?], "Yes") -> 0 | I8: =IFERROR( COUNTIFS(Table4[Child Race: White],"Yes", Table4[Did this case close during the report period?],"Yes", Table4[Did this youth have a reduction in association with antisocial peers?],"Yes") / COUNTIFS(Table4[Child Race: White],"Yes", Table4[Did this case close during the report period?],"Yes"), "NA") -> NA | J8: =COUNTIFS(Table4[Child Race: Black or African American], "Yes", Table4[Did this case close during the report period?], "Yes") -> 0 | K8: =IFERROR( COUNTIFS(Table4[Child Race: Black or African American],"Yes", Table4[Did this case close during the report period?],"Yes", Table4[Did this youth have a reduction in association with antisocial peers?],"Yes") / COUNTIFS(Table4[Child Race: Black or African American],"Yes", Table4[Did this case close during the report period?],"Yes"), "NA") -> NA | L8: =COUNTIFS(Table4[Child Race: Asian], "Yes", Table4[Did this case close during the report period?], "Yes") -> 0 | M8: =IFERROR( COUNTIFS(Table4[Child Race: Asian],"Yes", Table4[Did this case close during the report period?],"Yes", Table4[Did this youth have a reduction in association with antisocial peers?],"Yes") / COUNTIFS(Table4[Child Race: Asian],"Yes", Table4[Did this case close during the report period?],"Yes"), "NA") -> NA | N8: =COUNTIFS(Table4[Child Race: Native Hawaiian or Other Pacific Islander], "Yes", Table4[Did this case close during the report period?], "Yes") -> 0 | O8: =IFERROR( COUNTIFS(Table4[Child Race: Native Hawaiian or Other Pacific Islander],"Yes", Table4[Did this case close during the report period?],"Yes", Table4[Did this youth have a reduction in association with antisocial peers?],"Yes") / COUNTIFS(Table4[Child Race: Native Hawaiian or Other Pacific Islander],"Yes", Table4[Did this case close during the report period?],"Yes"), "NA") -> NA | P8: =COUNTIFS(Table4[Child Race: American Indian or Alaska Native], "Yes", Table4[Did this case close during the report period?], "Yes") -> 0 | Q8: =IFERROR( COUNTIFS(Table4[Child Race: American Indian or Alaska Native],"Yes", Table4[Did this case close during the report period?],"Yes", Table4[Did this youth have a reduction in association with antisocial peers?],"Yes") / COUNTIFS(Table4[Child Race: American Indian or Alaska Native],"Yes", Table4[Did this case close during the report period?],"Yes"), "NA") -> NA
B9: % of youth with clinical improvement in the Conduct and Socialized Agreed Subset | C9: 0.6 | D9: =COUNTIF(Table4[Did this case close during the report period?], "Yes") -> 0 | E9: =IFERROR( COUNTIFS( Table4[Did this case close during the report period?],"Yes", Table4[Did this youth show clinical improvement in the conduct and socialized aggression subset?],"Yes") / COUNTIF( Table4[Did this case close during the report period?],"Yes"), "NA") -> NA | F9: =COUNTIFS(Table4[Child Hispanic or Latino Ethnicity], "Yes", Table4[Did this case close during the report period?], "Yes") -> 0 | G9: =IFERROR( COUNTIFS(Table4[Child Hispanic or Latino Ethnicity],"Yes", Table4[Did this case close during the report period?],"Yes", Table4[Did this youth show clinical improvement in the conduct and socialized aggression subset?],"Yes") / COUNTIFS(Table4[Child Hispanic or Latino Ethnicity],"Yes", Table4[Did this case close during the report period?],"Yes"), "NA") -> NA | H9: =COUNTIFS(Table4[Child Race: White], "Yes", Table4[Did this case close during the report period?], "Yes") -> 0 | I9: =IFERROR( COUNTIFS(Table4[Child Race: White],"Yes", Table4[Did this case close during the report period?],"Yes", Table4[Did this youth show clinical improvement in the conduct and socialized aggression subset?],"Yes") / COUNTIFS(Table4[Child Race: White],"Yes", Table4[Did this case close during the report period?],"Yes"), "NA") -> NA | J9: =COUNTIFS(Table4[Child Race: Black or African American], "Yes", Table4[Did this case close during the report period?], "Yes") -> 0 | K9: =IFERROR( COUNTIFS(Table4[Child Race: Black or African American],"Yes", Table4[Did this case close during the report period?],"Yes", Table4[Did this youth show clinical improvement in the conduct and socialized aggression subset?],"Yes") / COUNTIFS(Table4[Child Race: Black or African American],"Yes", Table4[Did this case close during the report period?],"Yes"), "NA") -> NA | L9: =COUNTIFS(Table4[Child Race: Asian], "Yes", Table4[Did this case close during the report period?], "Yes") -> 0 | M9: =IFERROR( COUNTIFS(Table4[Child Race: Asian],"Yes", Table4[Did this case close during the report period?],"Yes", Table4[Did this youth show clinical improvement in the conduct and socialized aggression subset?],"Yes") / COUNTIFS(Table4[Child Race: Asian],"Yes", Table4[Did this case close during the report period?],"Yes"), "NA") -> NA | N9: =COUNTIFS(Table4[Child Race: Native Hawaiian or Other Pacific Islander], "Yes", Table4[Did this case close during the report period?], "Yes") -> 0 | O9: =IFERROR( COUNTIFS(Table4[Child Race: Native Hawaiian or Other Pacific Islander],"Yes", Table4[Did this case close during the report period?],"Yes", Table4[Did this youth show clinical improvement in the conduct and socialized aggression subset?],"Yes") / COUNTIFS(Table4[Child Race: Native Hawaiian or Other Pacific Islander],"Yes", Table4[Did this case close during the report period?],"Yes"), "NA") -> NA | P9: =COUNTIFS(Table4[Child Race: American Indian or Alaska Native], "Yes", Table4[Did this case close during the report period?], "Yes") -> 0 | Q9: =IFERROR( COUNTIFS(Table4[Child Race: American Indian or Alaska Native],"Yes", Table4[Did this case close during the report period?],"Yes", Table4[Did this youth show clinical improvement in the conduct and socialized aggression subset?],"Yes") / COUNTIFS(Table4[Child Race: American Indian or Alaska Native],"Yes", Table4[Did this case close during the report period?],"Yes"), "NA") -> NA
A10: Decrease in parent/caregiver substance use | B10: % of parents with reduced alcohol use | C10: 0.65 | D10: =COUNTIF(Table4[Did this case close during the report period?], "Yes") -> 0 | E10: =IFERROR( COUNTIFS( Table4[Did this case close during the report period?],"Yes", Table4[Did the parents demonstrate reduced alcohol use on the addiction severity index?],"Yes") / COUNTIF( Table4[Did this case close during the report period?],"Yes"), "NA") -> NA | F10: =COUNTIFS(Table4[Child Hispanic or Latino Ethnicity], "Yes", Table4[Did this case close during the report period?], "Yes") -> 0 | G10: =IFERROR( COUNTIFS(Table4[Child Hispanic or Latino Ethnicity],"Yes", Table4[Did this case close during the report period?],"Yes", Table4[Did the parents demonstrate reduced alcohol use on the addiction severity index?],"Yes") / COUNTIFS(Table4[Child Hispanic or Latino Ethnicity],"Yes", Table4[Did this case close during the report period?],"Yes"), "NA") -> NA | H10: =COUNTIFS(Table4[Child Race: White], "Yes", Table4[Did this case close during the report period?], "Yes") -> 0 | I10: =IFERROR( COUNTIFS(Table4[Child Race: White],"Yes", Table4[Did this case close during the report period?],"Yes", Table4[Did the parents demonstrate reduced alcohol use on the addiction severity index?],"Yes") / COUNTIFS(Table4[Child Race: White],"Yes", Table4[Did this case close during the report period?],"Yes"), "NA") -> NA | J10: =COUNTIFS(Table4[Child Race: Black or African American], "Yes", Table4[Did this case close during the report period?], "Yes") -> 0 | K10: =IFERROR( COUNTIFS(Table4[Child Race: Black or African American],"Yes", Table4[Did this case close during the report period?],"Yes", Table4[Did the parents demonstrate reduced alcohol use on the addiction severity index?],"Yes") / COUNTIFS(Table4[Child Race: Black or African American],"Yes", Table4[Did this case close during the report period?],"Yes"), "NA") -> NA | L10: =COUNTIFS(Table4[Child Race: Asian], "Yes", Table4[Did this case close during the report period?], "Yes") -> 0 | M10: =IFERROR( COUNTIFS(Table4[Child Race: Asian],"Yes", Table4[Did this case close during the report period?],"Yes", Table4[Did the parents demonstrate reduced alcohol use on the addiction severity index?],"Yes") / COUNTIFS(Table4[Child Race: Asian],"Yes", Table4[Did this case close during the report period?],"Yes"), "NA") -> NA | N10: =COUNTIFS(Table4[Child Race: Native Hawaiian or Other Pacific Islander], "Yes", Table4[Did this case close during the report period?], "Yes") -> 0 | O10: =IFERROR( COUNTIFS(Table4[Child Race: Native Hawaiian or Other Pacific Islander],"Yes", Table4[Did this case close during the report period?],"Yes", Table4[Did the parents demonstrate reduced alcohol use on the addiction severity index?],"Yes") / COUNTIFS(Table4[Child Race: Native Hawaiian or Other Pacific Islander],"Yes", Table4[Did this case close during the report period?],"Yes"), "NA") -> NA | P10: =COUNTIFS(Table4[Child Race: American Indian or Alaska Native], "Yes", Table4[Did this case close during the report period?], "Yes") -> 0 | Q10: =IFERROR( COUNTIFS(Table4[Child Race: American Indian or Alaska Native],"Yes", Table4[Did this case close during the report period?],"Yes", Table4[Did the parents demonstrate reduced alcohol use on the addiction severity index?],"Yes") / COUNTIFS(Table4[Child Race: American Indian or Alaska Native],"Yes", Table4[Did this case close during the report period?],"Yes"), "NA") -> NA
A11: Effective parenting practices | B11: % of parents who move out of the 'non-clinical' range on the Parenting Practices Questionnaire | C11: 0.75 | D11: =COUNTIF(Table4[Did this case close during the report period?], "Yes") -> 0 | E11: =IFERROR( COUNTIFS( Table4[Did this case close during the report period?],"Yes", Table4[Did the parents move out of the non-clinical range on the parenting practices questionnaire?],"Yes") / COUNTIF( Table4[Did this case close during the report period?],"Yes"), "NA") -> NA | F11: =COUNTIFS(Table4[Child Hispanic or Latino Ethnicity], "Yes", Table4[Did this case close during the report period?], "Yes") -> 0 | G11: =IFERROR( COUNTIFS(Table4[Child Hispanic or Latino Ethnicity],"Yes", Table4[Did this case close during the report period?],"Yes", Table4[Did the parents move out of the non-clinical range on the parenting practices questionnaire?],"Yes") / COUNTIFS(Table4[Child Hispanic or Latino Ethnicity],"Yes", Table4[Did this case close during the report period?],"Yes"), "NA") -> NA | H11: =COUNTIFS(Table4[Child Race: White], "Yes", Table4[Did this case close during the report period?], "Yes") -> 0 | I11: =IFERROR( COUNTIFS(Table4[Child Race: White],"Yes", Table4[Did this case close during the report period?],"Yes", Table4[Did the parents move out of the non-clinical range on the parenting practices questionnaire?],"Yes") / COUNTIFS(Table4[Child Race: White],"Yes", Table4[Did this case close during the report period?],"Yes"), "NA") -> NA | J11: =COUNTIFS(Table4[Child Race: Black or African American], "Yes", Table4[Did this case close during the report period?], "Yes") -> 0 | K11: =IFERROR( COUNTIFS(Table4[Child Race: Black or African American],"Yes", Table4[Did this case close during the report period?],"Yes", Table4[Did the parents move out of the non-clinical range on the parenting practices questionnaire?],"Yes") / COUNTIFS(Table4[Child Race: Black or African American],"Yes", Table4[Did this case close during the report period?],"Yes"), "NA") -> NA | L11: =COUNTIFS(Table4[Child Race: Asian], "Yes", Table4[Did this case close during the report period?], "Yes") -> 0 | M11: =IFERROR( COUNTIFS(Table4[Child Race: Asian],"Yes", Table4[Did this case close during the report period?],"Yes", Table4[Did the parents move out of the non-clinical range on the parenting practices questionnaire?],"Yes") / COUNTIFS(Table4[Child Race: Asian],"Yes", Table4[Did this case close during the report period?],"Yes"), "NA") -> NA | N11: =COUNTIFS(Table4[Child Race: Native Hawaiian or Other Pacific Islander], "Yes", Table4[Did this case close during the report period?], "Yes") -> 0 | O11: =IFERROR( COUNTIFS(Table4[Child Race: Native Hawaiian or Other Pacific Islander],"Yes", Table4[Did this case close during the report period?],"Yes", Table4[Did the parents move out of the non-clinical range on the parenting practices questionnaire?],"Yes") / COUNTIFS(Table4[Child Race: Native Hawaiian or Other Pacific Islander],"Yes", Table4[Did this case close during the report period?],"Yes"), "NA") -> NA | P11: =COUNTIFS(Table4[Child Race: American Indian or Alaska Native], "Yes", Table4[Did this case close during the report period?], "Yes") -> 0 | Q11: =IFERROR( COUNTIFS(Table4[Child Race: American Indian or Alaska Native],"Yes", Table4[Did this case close during the report period?],"Yes", Table4[Did the parents move out of the non-clinical range on the parenting practices questionnaire?],"Yes") / COUNTIFS(Table4[Child Race: American Indian or Alaska Native],"Yes", Table4[Did this case close during the report period?],"Yes"), "NA") -> NA
A12: Overall family functioning | B12: % of families who have a significant reduction on the general Family Assessment Devise subscales | C12: 0.75 | D12: =COUNTIF(Table4[Did this case close during the report period?], "Yes") -> 0 | E12: =IFERROR( COUNTIFS( Table4[Did this case close during the report period?],"Yes", Table4[Did the family have a significant reduction on the general family assessment device subscale?],"Yes") / COUNTIF( Table4[Did this case close during the report period?],"Yes"), "NA") -> NA | F12: =COUNTIFS(Table4[Child Hispanic or Latino Ethnicity], "Yes", Table4[Did this case close during the report period?], "Yes") -> 0 | G12: =IFERROR( COUNTIFS(Table4[Child Hispanic or Latino Ethnicity],"Yes", Table4[Did this case close during the report period?],"Yes", Table4[Did the family have a significant reduction on the general family assessment device subscale?],"Yes") / COUNTIFS(Table4[Child Hispanic or Latino Ethnicity],"Yes", Table4[Did this case close during the report period?],"Yes"), "NA") -> NA | H12: =COUNTIFS(Table4[Child Race: White], "Yes", Table4[Did this case close during the report period?], "Yes") -> 0 | I12: =IFERROR( COUNTIFS(Table4[Child Race: White],"Yes", Table4[Did this case close during the report period?],"Yes", Table4[Did the family have a significant reduction on the general family assessment device subscale?],"Yes") / COUNTIFS(Table4[Child Race: White],"Yes", Table4[Did this case close during the report period?],"Yes"), "NA") -> NA | J12: =COUNTIFS(Table4[Child Race: Black or African American], "Yes", Table4[Did this case close during the report period?], "Yes") -> 0 | K12: =IFERROR( COUNTIFS(Table4[Child Race: Black or African American],"Yes", Table4[Did this case close during the report period?],"Yes", Table4[Did the family have a significant reduction on the general family assessment device subscale?],"Yes") / COUNTIFS(Table4[Child Race: Black or African American],"Yes", Table4[Did this case close during the report period?],"Yes"), "NA") -> NA | L12: =COUNTIFS(Table4[Child Race: Asian], "Yes", Table4[Did this case close during the report period?], "Yes") -> 0 | M12: =IFERROR( COUNTIFS(Table4[Child Race: Asian],"Yes", Table4[Did this case close during the report period?],"Yes", Table4[Did the family have a significant reduction on the general family assessment device subscale?],"Yes") / COUNTIFS(Table4[Child Race: Asian],"Yes", Table4[Did this case close during the report period?],"Yes"), "NA") -> NA | N12: =COUNTIFS(Table4[Child Race: Native Hawaiian or Other Pacific Islander], "Yes", Table4[Did this case close during the report period?], "Yes") -> 0 | O12: =IFERROR( COUNTIFS(Table4[Child Race: Native Hawaiian or Other Pacific Islander],"Yes", Table4[Did this case close during the report period?],"Yes", Table4[Did the family have a significant reduction on the general family assessment device subscale?],"Yes") / COUNTIFS(Table4[Child Race: Native Hawaiian or Other Pacific Islander],"Yes", Table4[Did this case close during the report period?],"Yes"), "NA") -> NA | P12: =COUNTIFS(Table4[Child Race: American Indian or Alaska Native], "Yes", Table4[Did this case close during the report period?], "Yes") -> 0 | Q12: =IFERROR( COUNTIFS(Table4[Child Race: American Indian or Alaska Native],"Yes", Table4[Did this case close during the report period?],"Yes", Table4[Did the family have a significant reduction on the general family assessment device subscale?],"Yes") / COUNTIFS(Table4[Child Race: American Indian or Alaska Native],"Yes", Table4[Did this case close during the report period?],"Yes"), "NA") -> NA

Sheet County Names to hide
A1: Counties | B1: Today's Date | C1: Start of Quarter | D1: End of Quarter
A2: Alameda | B2: =TODAY() -> 46307 | C2: =DATE(#REF!, CHOOSE(MATCH(#REF!, {"January-March","April-June","July-September","October-December"}, 0), 1, 4, 7, 10), 1) -> #REF! | D2: =EOMONTH(DATE(#REF!, CHOOSE(MATCH(#REF!, {"January-March","April-June","July-September","October-December"}, 0), 3, 6, 9, 12), 1), 0) -> #REF!
A3: Alpine
A4: Amador
A5: Butte
A6: Calaveras
A7: Colusa
A8: Contra Costa
A9: Del Norte
A10: El Dorado
A11: Fresno
A12: Glenn
A13: Humboldt
A14: Imperial
... A59: Yuba
