Workbook
Name HomeVisitorsFilteredList: #REF!
Name HV_FilteredList: #REF!

Sheet County Names to hide (2)
A1: Counties | B1: Today's Date | C1: Start of Reporting Period | D1: End of Reporting Period
A2: Alameda | B2: =TODAY() -> 46307 | C2: =Cover_Sheet2!H3 -> 46296 | D2: =Cover_Sheet2!I3 -> 46326 | E2: =EDATE('County Names to hide (2)'!$C$2,-6) -> 46113
A3: Alpine
A4: Amador
A5: Butte
A6: Calaveras
A7: Colusa
A8: Contra Costa
A9: Del Norte
A10: El Dorado
A11: Fresno
A12: Glenn
A13: Humboldt
A14: Imperial
... A61: Yurok Tribe

Sheet Cover_Sheet2
A1: Instructions for Completing the Spreadsheet Each report period, one person from the county or community-based organization should complete row 3 of this cover sheet. Fill in every column. Update the Report Type, month you want the report period to start in, and year you want the report period to start in, each time you report to keep the aggregate outcome and fidelity data accurate. Do not add more rows to this sheet. If you encounter any issues with formatting or dropdown selections, reach out to the CDSS FFPS team for assistance: FFPSApreventionservices@dss.ca.gov. To keep a copy of your aggregate data for each reporting period, save a copy of the "Outcomes Aggregate" and "Fidelity Aggregate" sheets. These sheets will overwrite whenever you add new data. County CQI Teams may review aggregare fidelity and outcome data on a quarterly basis. Use columns E, F, and G below to select the appropriate quarter in advance of the team meetings. Reminder: The Required CWS-CARES Fidelity & Outcomes Reports are completed every six months. Providers are responsible for uploading their own model fidelity and outcomes documentation via the Provider Portal in CWS-CARES. To prepare the Required CWS-CARES Fidelity & Outcomes Reports: 1. For data due in March: Set the reporting period to begin September 01 of the prior year and end February 28th, (29th on leap years) of the current year. 2. For data due in October: Set the reporting period to begin March 01 of the current year and end August 31st, of the current year. Updated October 12, 2026
A2: County Name | B2: Name of EBP Model | C2: Name of agency providing FCU to FFPSA candidates | D2: Name of site providing FCU to FFPSA candidates | E2: Report Type | F2: What month do you want the report period to start in? | G2: What year do you want the report period to start in? | H2: Reporting Period Start Date | I2: Reporting Period End Date | J2: Fiscal Year | K2: Does this site have an onsite certified supervisor trainer? | L2: Did this site participate in an annual check-in with the model developer/purveyor? | M2: Report Completed By | N2: Email Address
A3: Alameda | B3: FCU | E3: Monthly | F3: October | G3: 2026 | H3: =DATE(G3, MONTH(DATEVALUE("1 "&F3)), 1) -> 46296 | I3: {=_xlfn.IFS( E3="Monthly", EOMONTH(H3,0), E3="Quarterly", EOMONTH(H3,2), E3="Biannual", EOMONTH(H3,5), E3="Yearly", EOMONTH(H3,11) )} -> 46326 | J3: 2027

Sheet Fidelity
A1: Instructions for Completing the Spreadsheet Please enter all staff names and employment dates here. Use the dropdown menus where provided to ensure consistent responses and hover over cells to view notes for specific guidance on each field. Follow the flow of the spreadsheet, ensuring that cells dependent on a prior answer are completed appropriately. If a cell does not apply based on the answer to the previous cell, leave it blank and move to the next applicable field. Conditional formatting has been applied to some cells. If you encounter any issues with formatting or dropdown selections, reach out to the CDSS FFPS team for assistance: FFPSApreventionservices@dss.ca.gov
A3: Agency Name: | C3: Site Name:
A4: Provider First Name | B4: Provider Last Name | C4: Employment Start Date | D4: Employment End Date | E4: Was this provider employed by your agency during the report period? | F4: Has this provider completed all required eLearning courses? | G4: Has this provider completed interactive skills training? | H4: Does this provider use core materials with the family? | I4: Does the provider's COACH fidelity rating fall into the "competent range"? (Range of 4 to 9)
E5: =IF(OR(A5="", C5=""), "", IF(AND( C5 <= 'County Names to hide (2)'!$D$2, OR(D5="", D5 >= 'County Names to hide (2)'!$C$2) ), "Yes", "No" ) )
E6: =IF(OR(A6="", C6=""), "", IF(AND( C6 <= 'County Names to hide (2)'!$D$2, OR(D6="", D6 >= 'County Names to hide (2)'!$C$2) ), "Yes", "No" ) )
E7: =IF(OR(A7="", C7=""), "", IF(AND( C7 <= 'County Names to hide (2)'!$D$2, OR(D7="", D7 >= 'County Names to hide (2)'!$C$2) ), "Yes", "No" ) )
E8: =IF(OR(A8="", C8=""), "", IF(AND( C8 <= 'County Names to hide (2)'!$D$2, OR(D8="", D8 >= 'County Names to hide (2)'!$C$2) ), "Yes", "No" ) )
E9: =IF(OR(A9="", C9=""), "", IF(AND( C9 <= 'County Names to hide (2)'!$D$2, OR(D9="", D9 >= 'County Names to hide (2)'!$C$2) ), "Yes", "No" ) )
E10: =IF(OR(A10="", C10=""), "", IF(AND( C10 <= 'County Names to hide (2)'!$D$2, OR(D10="", D10 >= 'County Names to hide (2)'!$C$2) ), "Yes", "No" ) )
E11: =IF(OR(A11="", C11=""), "", IF(AND( C11 <= 'County Names to hide (2)'!$D$2, OR(D11="", D11 >= 'County Names to hide (2)'!$C$2) ), "Yes", "No" ) )
E12: =IF(OR(A12="", C12=""), "", IF(AND( C12 <= 'County Names to hide (2)'!$D$2, OR(D12="", D12 >= 'County Names to hide (2)'!$C$2) ), "Yes", "No" ) )
E13: =IF(OR(A13="", C13=""), "", IF(AND( C13 <= 'County Names to hide (2)'!$D$2, OR(D13="", D13 >= 'County Names to hide (2)'!$C$2) ), "Yes", "No" ) )
E14: =IF(OR(A14="", C14=""), "", IF(AND( C14 <= 'County Names to hide (2)'!$D$2, OR(D14="", D14 >= 'County Names to hide (2)'!$C$2) ), "Yes", "No" ) )
E15: =IF(OR(A15="", C15=""), "", IF(AND( C15 <= 'County Names to hide (2)'!$D$2, OR(D15="", D15 >= 'County Names to hide (2)'!$C$2) ), "Yes", "No" ) )
E16: =IF(OR(A16="", C16=""), "", IF(AND( C16 <= 'County Names to hide (2)'!$D$2, OR(D16="", D16 >= 'County Names to hide (2)'!$C$2) ), "Yes", "No" ) )
... E100: =IF(OR(A100="", C100=""), "", IF(AND( C100 <= 'County Names to hide (2)'!$D$2, OR(D100="", D100 >= 'County Names to hide (2)'!$C$2) ), "Yes", "No" ) )

Sheet Outcomes
A1: Instructions for Completing the Spreadsheet Please enter all staff names and employment dates here. Use the dropdown menus where provided to ensure consistent responses and hover over cells to view notes for specific guidance on each field. Follow the flow of the spreadsheet, ensuring that cells dependent on a prior answer are completed appropriately. If a cell does not apply based on the answer to the previous cell, leave it blank and move to the next applicable field. Conditional formatting has been applied to some cells. If you encounter any issues with formatting or dropdown selections, reach out to the CDSS FFPS team for assistance: FFPSApreventionservices@dss.ca.gov
A3: Agency Name: | E3: Site Name:
A4: Child Identifier | M4: Program Start and End Dates
A5: DCFS/Probation Unique Identifier | B5: FCU Model Child ID | C5: Child Date of Birth | D5: Child Sex | E5: Child Hispanic or Latino Ethnicity | F5: Child Race: White | G5: Child Race: Black or African American | H5: Child Race: Asian | I5: Child Race: Native Hawaiian or Other Pacific Islander | J5: Child Race: American Indian or Alaska Native | K5: Child Race: Declined | L5: Child Race: Unknown | M5: Program Start Date | N5: Program End Date | O5: Was this child open during the report period? | P5: Date Child Specific Prevention Plan Start (Year One) | Q5: Date Child Specific Prevention Plan Ended (Year One) | R5: Date Child Specific Prevention Plan Start (Year Two) | S5: Date Child Specific Prevention Plan Ended (Year Two) | T5: Total Number of Visits (as defined by the FCU model) by the End of the Report Quarter | U5: Months Open at End of the Report Period | V5: Child Age at End of the Report Period in Months | W5: Did this case close this report period? | X5: At service completion, did this child have improved scores on items related to child behavioral functioning on the Youth Adjustment Domain? | Y5: At service completion, did this child have improved scores on items related to child emotional functioning on the Youth Adjustment Domain? | Z5: At service completion, did the caregiver have improved scores on items related to positive parenting practices in the Parenting and Family Management Domain?
L6: =IF(COUNTIF(F6:K6, "Yes")>0, "No", "Yes") -> Yes | O6: =IF(OR(M6="", M6=""), "", IF(AND( M6 <= 'County Names to hide (2)'!$D$2, OR(N6 ="", N6 >= 'County Names to hide (2)'!$C$2) ), "Yes", "No" ) ) | U6: =IF(Outcomes!M6="","", IF(AND(Outcomes!N6<>"",Outcomes!N6<'County Names to hide (2)'!$C$2),0, ROUND((MIN(IF(Outcomes!N6="", 'County Names to hide (2)'!$D$2, Outcomes!N6),'County Names to hide (2)'!$D$2)-Outcomes!M6)/30,1))) | V6: =IF(Outcomes!C6="", "", DATEDIF(Outcomes!C6,#REF!, "y")) | W6: =IF(OR(A6 ="", M6 ="", N6 =""), "", IF(AND( N6 >= 'County Names to hide (2)'!$C$2, N6 <= 'County Names to hide (2)'!$D$2 ), "Yes", "No" ) )
L7: =IF(COUNTIF(F7:K7, "Yes")>0, "No", "Yes") -> Yes | O7: =IF(OR(M7="", M7=""), "", IF(AND( M7 <= 'County Names to hide (2)'!$D$2, OR(N7 ="", N7 >= 'County Names to hide (2)'!$C$2) ), "Yes", "No" ) ) | U7: =IF(Outcomes!M7="","", IF(AND(Outcomes!N7<>"",Outcomes!N7<'County Names to hide (2)'!$C$2),0, ROUND((MIN(IF(Outcomes!N7="", 'County Names to hide (2)'!$D$2, Outcomes!N7),'County Names to hide (2)'!$D$2)-Outcomes!M7)/30,1))) | V7: =IF(Outcomes!C7="", "", DATEDIF(Outcomes!C7,#REF!, "y")) | W7: =IF(OR(A7 ="", M7 ="", N7 =""), "", IF(AND( N7 >= 'County Names to hide (2)'!$C$2, N7 <= 'County Names to hide (2)'!$D$2 ), "Yes", "No" ) )
L8: =IF(COUNTIF(F8:K8, "Yes")>0, "No", "Yes") -> Yes | O8: =IF(OR(M8="", M8=""), "", IF(AND( M8 <= 'County Names to hide (2)'!$D$2, OR(N8 ="", N8 >= 'County Names to hide (2)'!$C$2) ), "Yes", "No" ) ) | U8: =IF(Outcomes!M8="","", IF(AND(Outcomes!N8<>"",Outcomes!N8<'County Names to hide (2)'!$C$2),0, ROUND((MIN(IF(Outcomes!N8="", 'County Names to hide (2)'!$D$2, Outcomes!N8),'County Names to hide (2)'!$D$2)-Outcomes!M8)/30,1))) | V8: =IF(Outcomes!C8="", "", DATEDIF(Outcomes!C8,#REF!, "y")) | W8: =IF(OR(A8 ="", M8 ="", N8 =""), "", IF(AND( N8 >= 'County Names to hide (2)'!$C$2, N8 <= 'County Names to hide (2)'!$D$2 ), "Yes", "No" ) )
L9: =IF(COUNTIF(F9:K9, "Yes")>0, "No", "Yes") -> Yes | O9: =IF(OR(M9="", M9=""), "", IF(AND( M9 <= 'County Names to hide (2)'!$D$2, OR(N9 ="", N9 >= 'County Names to hide (2)'!$C$2) ), "Yes", "No" ) ) | U9: =IF(Outcomes!M9="","", IF(AND(Outcomes!N9<>"",Outcomes!N9<'County Names to hide (2)'!$C$2),0, ROUND((MIN(IF(Outcomes!N9="", 'County Names to hide (2)'!$D$2, Outcomes!N9),'County Names to hide (2)'!$D$2)-Outcomes!M9)/30,1))) | V9: =IF(Outcomes!C9="", "", DATEDIF(Outcomes!C9,#REF!, "y")) | W9: =IF(OR(A9 ="", M9 ="", N9 =""), "", IF(AND( N9 >= 'County Names to hide (2)'!$C$2, N9 <= 'County Names to hide (2)'!$D$2 ), "Yes", "No" ) )
L10: =IF(COUNTIF(F10:K10, "Yes")>0, "No", "Yes") -> Yes | O10: =IF(OR(M10="", M10=""), "", IF(AND( M10 <= 'County Names to hide (2)'!$D$2, OR(N10 ="", N10 >= 'County Names to hide (2)'!$C$2) ), "Yes", "No" ) ) | U10: =IF(Outcomes!M10="","", IF(AND(Outcomes!N10<>"",Outcomes!N10<'County Names to hide (2)'!$C$2),0, ROUND((MIN(IF(Outcomes!N10="", 'County Names to hide (2)'!$D$2, Outcomes!N10),'County Names to hide (2)'!$D$2)-Outcomes!M10)/30,1))) | V10: =IF(Outcomes!C10="", "", DATEDIF(Outcomes!C10,#REF!, "y")) | W10: =IF(OR(A10 ="", M10 ="", N10 =""), "", IF(AND( N10 >= 'County Names to hide (2)'!$C$2, N10 <= 'County Names to hide (2)'!$D$2 ), "Yes", "No" ) )
L11: =IF(COUNTIF(F11:K11, "Yes")>0, "No", "Yes") -> Yes | O11: =IF(OR(M11="", M11=""), "", IF(AND( M11 <= 'County Names to hide (2)'!$D$2, OR(N11 ="", N11 >= 'County Names to hide (2)'!$C$2) ), "Yes", "No" ) ) | U11: =IF(Outcomes!M11="","", IF(AND(Outcomes!N11<>"",Outcomes!N11<'County Names to hide (2)'!$C$2),0, ROUND((MIN(IF(Outcomes!N11="", 'County Names to hide (2)'!$D$2, Outcomes!N11),'County Names to hide (2)'!$D$2)-Outcomes!M11)/30,1))) | V11: =IF(Outcomes!C11="", "", DATEDIF(Outcomes!C11,#REF!, "y")) | W11: =IF(OR(A11 ="", M11 ="", N11 =""), "", IF(AND( N11 >= 'County Names to hide (2)'!$C$2, N11 <= 'County Names to hide (2)'!$D$2 ), "Yes", "No" ) )
L12: =IF(COUNTIF(F12:K12, "Yes")>0, "No", "Yes") -> Yes | O12: =IF(OR(M12="", M12=""), "", IF(AND( M12 <= 'County Names to hide (2)'!$D$2, OR(N12 ="", N12 >= 'County Names to hide (2)'!$C$2) ), "Yes", "No" ) ) | U12: =IF(Outcomes!M12="","", IF(AND(Outcomes!N12<>"",Outcomes!N12<'County Names to hide (2)'!$C$2),0, ROUND((MIN(IF(Outcomes!N12="", 'County Names to hide (2)'!$D$2, Outcomes!N12),'County Names to hide (2)'!$D$2)-Outcomes!M12)/30,1))) | V12: =IF(Outcomes!C12="", "", DATEDIF(Outcomes!C12,#REF!, "y")) | W12: =IF(OR(A12 ="", M12 ="", N12 =""), "", IF(AND( N12 >= 'County Names to hide (2)'!$C$2, N12 <= 'County Names to hide (2)'!$D$2 ), "Yes", "No" ) )
L13: =IF(COUNTIF(F13:K13, "Yes")>0, "No", "Yes") -> Yes | O13: =IF(OR(M13="", M13=""), "", IF(AND( M13 <= 'County Names to hide (2)'!$D$2, OR(N13 ="", N13 >= 'County Names to hide (2)'!$C$2) ), "Yes", "No" ) ) | U13: =IF(Outcomes!M13="","", IF(AND(Outcomes!N13<>"",Outcomes!N13<'County Names to hide (2)'!$C$2),0, ROUND((MIN(IF(Outcomes!N13="", 'County Names to hide (2)'!$D$2, Outcomes!N13),'County Names to hide (2)'!$D$2)-Outcomes!M13)/30,1))) | V13: =IF(Outcomes!C13="", "", DATEDIF(Outcomes!C13,#REF!, "y")) | W13: =IF(OR(A13 ="", M13 ="", N13 =""), "", IF(AND( N13 >= 'County Names to hide (2)'!$C$2, N13 <= 'County Names to hide (2)'!$D$2 ), "Yes", "No" ) )
L14: =IF(COUNTIF(F14:K14, "Yes")>0, "No", "Yes") -> Yes | O14: =IF(OR(M14="", M14=""), "", IF(AND( M14 <= 'County Names to hide (2)'!$D$2, OR(N14 ="", N14 >= 'County Names to hide (2)'!$C$2) ), "Yes", "No" ) ) | U14: =IF(Outcomes!M14="","", IF(AND(Outcomes!N14<>"",Outcomes!N14<'County Names to hide (2)'!$C$2),0, ROUND((MIN(IF(Outcomes!N14="", 'County Names to hide (2)'!$D$2, Outcomes!N14),'County Names to hide (2)'!$D$2)-Outcomes!M14)/30,1))) | V14: =IF(Outcomes!C14="", "", DATEDIF(Outcomes!C14,#REF!, "y")) | W14: =IF(OR(A14 ="", M14 ="", N14 =""), "", IF(AND( N14 >= 'County Names to hide (2)'!$C$2, N14 <= 'County Names to hide (2)'!$D$2 ), "Yes", "No" ) )
L15: =IF(COUNTIF(F15:K15, "Yes")>0, "No", "Yes") -> Yes | O15: =IF(OR(M15="", M15=""), "", IF(AND( M15 <= 'County Names to hide (2)'!$D$2, OR(N15 ="", N15 >= 'County Names to hide (2)'!$C$2) ), "Yes", "No" ) ) | U15: =IF(Outcomes!M15="","", IF(AND(Outcomes!N15<>"",Outcomes!N15<'County Names to hide (2)'!$C$2),0, ROUND((MIN(IF(Outcomes!N15="", 'County Names to hide (2)'!$D$2, Outcomes!N15),'County Names to hide (2)'!$D$2)-Outcomes!M15)/30,1))) | V15: =IF(Outcomes!C15="", "", DATEDIF(Outcomes!C15,#REF!, "y")) | W15: =IF(OR(A15 ="", M15 ="", N15 =""), "", IF(AND( N15 >= 'County Names to hide (2)'!$C$2, N15 <= 'County Names to hide (2)'!$D$2 ), "Yes", "No" ) )
L16: =IF(COUNTIF(F16:K16, "Yes")>0, "No", "Yes") -> Yes | O16: =IF(OR(M16="", M16=""), "", IF(AND( M16 <= 'County Names to hide (2)'!$D$2, OR(N16 ="", N16 >= 'County Names to hide (2)'!$C$2) ), "Yes", "No" ) ) | U16: =IF(Outcomes!M16="","", IF(AND(Outcomes!N16<>"",Outcomes!N16<'County Names to hide (2)'!$C$2),0, ROUND((MIN(IF(Outcomes!N16="", 'County Names to hide (2)'!$D$2, Outcomes!N16),'County Names to hide (2)'!$D$2)-Outcomes!M16)/30,1))) | V16: =IF(Outcomes!C16="", "", DATEDIF(Outcomes!C16,#REF!, "y")) | W16: =IF(OR(A16 ="", M16 ="", N16 =""), "", IF(AND( N16 >= 'County Names to hide (2)'!$C$2, N16 <= 'County Names to hide (2)'!$D$2 ), "Yes", "No" ) )
L17: =IF(COUNTIF(F17:K17, "Yes")>0, "No", "Yes") -> Yes | O17: =IF(OR(M17="", M17=""), "", IF(AND( M17 <= 'County Names to hide (2)'!$D$2, OR(N17 ="", N17 >= 'County Names to hide (2)'!$C$2) ), "Yes", "No" ) ) | U17: =IF(Outcomes!M17="","", IF(AND(Outcomes!N17<>"",Outcomes!N17<'County Names to hide (2)'!$C$2),0, ROUND((MIN(IF(Outcomes!N17="", 'County Names to hide (2)'!$D$2, Outcomes!N17),'County Names to hide (2)'!$D$2)-Outcomes!M17)/30,1))) | V17: =IF(Outcomes!C17="", "", DATEDIF(Outcomes!C17,#REF!, "y")) | W17: =IF(OR(A17 ="", M17 ="", N17 =""), "", IF(AND( N17 >= 'County Names to hide (2)'!$C$2, N17 <= 'County Names to hide (2)'!$D$2 ), "Yes", "No" ) )
... L500: =IF(COUNTIF(F500:K500, "Yes")>0, "No", "Yes") -> Yes | O500: =IF(OR(M500="", M500=""), "", IF(AND( M500 <= 'County Names to hide (2)'!$D$2, OR(N500 ="", N500 >= 'County Names to hide (2)'!$C$2) ), "Yes", "No" ) ) | U500: =IF(Outcomes!M500="","", IF(AND(Outcomes!N500<>"",Outcomes!N500<'County Names to hide (2)'!$C$2),0, ROUND((MIN(IF(Outcomes!N500="", 'County Names to hide (2)'!$D$2, Outcomes!N500),'County Names to hide (2)'!$D$2)-Outcomes!M500)/30,1))) | V500: =IF(Outcomes!C500="", "", DATEDIF(Outcomes!C500,#REF!, "y")) | W500: =IF(OR(A500 ="", M500 ="", N500 =""), "", IF(AND( N500 >= 'County Names to hide (2)'!$C$2, N500 <= 'County Names to hide (2)'!$D$2 ), "Yes", "No" ) )

Sheet Fidelity Aggregate
A1: This sheet will populate automatically based on the data entered in the "Fidelity" spreadsheet. Be sure to choose the correct reporting period on the Cover Sheet tab. If you encounter any issues with formatting or dropdown selections, reach out to the CDSS FFPS team for assistance: FFPSApreventionservices@dss.ca.gov. To keep a copy of your aggregate fidelity data for each reporting period, save a copy of this sheet and "Outcomes_Aggregate". These sheets will overwrite whenever you add new data. Reminder: The Required CWS-CARES Fidelity & Outcomes Reports are completed every six months. Providers are responsible for uploading their own model fidelity and outcomes documentation via the Provider Portal in CWS-CARES. To prepare the Required CWS-CARES Fidelity & Outcomes Report: 1. For data due in March: Set the reporting period to begin September 01 of the prior year and end February 28th, (29th on leap years) of the current year. 2. For data due in October: Set the reporting period to begin March 01 of the current year and end August 31st, of the current year. 3. Use the numbers in the "Percent" columns on this spreadsheet for the outcomes on the biannual template.
A2: Fidelity Measures
A3: Measure | B3: Indicator | C3: Target | D3: N | E3: Percent
A4: Provider Received & Maintained Required Training | B4: Percent of providers who have completed all required eLearning courses. | C4: 1 | D4: =COUNTIF(Table2[Was this provider employed by your agency during the report period?], "Yes") -> 0 | E4: =IFERROR(COUNTIFS(Table2[Was this provider employed by your agency during the report period?], "Yes", Table2[Has this provider completed all required eLearning courses?], "Yes")/COUNTIF(Table2[Was this provider employed by your agency during the report period?], "Yes"), "NA") -> NA
B5: Percent of providers who have completed interactive skills training. | C5: 1 | D5: =COUNTIF(Table2[Was this provider employed by your agency during the report period?], "Yes") -> 0 | E5: =IFERROR(COUNTIFS(Table2[Was this provider employed by your agency during the report period?], "Yes", Table2[Has this provider completed interactive skills training?], "Yes")/COUNTIF(Table2[Was this provider employed by your agency during the report period?], "Yes"), "NA") -> NA
A6: Meets Staffing Qualification Requirements | B6: Percent of FCU sites that have an onsite certified supervisor trainer. For the purposes of this report, note that this spreadsheet captures whether the site has an onsite certified supervisor trainer. | C6: 1 | D6: NA | E6: =Cover_Sheet2!K3 -> 0
A7: Consistent Use of Core Tools for Implementing the FCU Model | B7: Percent of providers who use core materials with the family. | C7: 1 | D7: =COUNTIF(Table2[Was this provider employed by your agency during the report period?], "Yes") -> 0 | E7: =IFERROR(COUNTIFS(Table2[Was this provider employed by your agency during the report period?], "Yes", Table2[Does this provider use core materials with the family? ], "Yes")/COUNTIF(Table2[Was this provider employed by your agency during the report period?], "Yes"), "NA") -> NA
A8: Use of the COACH Rating Form | B8: Percent of provider's COACH fidelity rating falls into the "competent work" range. | C8: 0.9 | D8: =COUNTIF(Table2[Was this provider employed by your agency during the report period?], "Yes") -> 0 | E8: =IFERROR(COUNTIFS(Table2[Was this provider employed by your agency during the report period?], "Yes", Table2[Does the provider''s COACH fidelity rating fall into the "competent range"? (Range of 4 to 9)], "Yes")/COUNTIF(Table2[Was this provider employed by your agency during the report period?], "Yes"), "NA") -> NA
A9: Sites Complete Annual Check-In | B9: Percent of FCU sites that participate in an annual check-in with the model developer/purveyor. For the purposes of this report, note that this spreadsheet captures whether the site has participated in an annually check-in with the model developer/purveyor. | C9: 1 | D9: NA | E9: =Cover_Sheet2!L3 -> 0

Sheet Outcomes Aggregate
A1: This sheet will populate automatically based on the data entered in the "Outcomes" spreadsheet. Be sure to choose the correct reporting period on the Cover Sheet tab. Please review the notes in the "n" columns which describe who the n refers to. If you encounter any issues with formatting or dropdown selections, reach out to the CDSS FFPS team for assistance: FFPSApreventionservices@dss.ca.gov. To keep a copy of your aggregate data for each reporting period, save a copy of this sheet and "Fidelity Aggregate". These sheets will overwrite whenever you add new data. Reminder: The Required CWS-CARES Fidelity & Outcomes Reports are completed every six months. Providers are responsible for uploading their own model fidelity and outcomes documentation via Provider Portal in CWS-CARES. To prepare the Required CWS-CARES Fidelity & Outcomes Report: 1. For data due in March: Set the reporting period to begin September 01 of the prior year and end February 28th, (29th on leap years) of the current year. 2. For data due in October: Set the reporting period to begin March 01 of the current year and end August 31st, of the current year. 3. Use the numbers in the "Total" columns on this spreadsheet for the outcomes on the biannual template.
A2: Outcome Measures
A3: Measure | B3: Indicator | C3: Target | D3: Total | F3: Hispanic | H3: White | J3: Black or African American | L3: Asian | N3: Native Hawaiian or Other Pacific Islander | P3: American Indian or Alaska Native
D4: N | E4: % | F4: N | G4: % | H4: N | I4: % | J4: N | K4: % | L4: N | M4: % | N4: N | O4: % | P4: N | Q4: %
A5: Improved Child Behavioral Functioning | B5: At service completion, % of cases with improved scores on items related to child behavioral functioning on the Youth Adjustment Domain. | C5: 0.85 | D5: =COUNTIFS(Table1[Was this child open during the report period?], "Yes", Table1[Did this case close this report period?], "Yes") -> 0 | E5: =IFERROR(COUNTIFS(Table1[Was this child open during the report period?], "Yes", Table1[Did this case close this report period?], "Yes", Table1[At service completion, did this child have improved scores on items related to child behavioral functioning on the Youth Adjustment Domain?], "Yes")/COUNTIFS(Table1[Was this child open during the report period?], "Yes", Table1[Did this case close this report period?], "Yes"), "NA") -> NA | F5: =COUNTIFS(Table1[Child Hispanic or Latino Ethnicity],"Yes", Table1[Was this child open during the report period?],"Yes", Table1[Did this case close this report period?],"Yes") -> 0 | G5: =IFERROR(COUNTIFS(Table1[Child Hispanic or Latino Ethnicity],"Yes", Table1[Was this child open during the report period?],"Yes", Table1[Did this case close this report period?],"Yes", Table1[At service completion, did this child have improved scores on items related to child behavioral functioning on the Youth Adjustment Domain?],"Yes") / COUNTIFS(Table1[Child Hispanic or Latino Ethnicity],"Yes", Table1[Was this child open during the report period?],"Yes", Table1[Did this case close this report period?],"Yes"),"NA") -> NA | H5: =COUNTIFS(Table1[Child Race: White],"Yes", Table1[Was this child open during the report period?],"Yes", Table1[Did this case close this report period?],"Yes") -> 0 | I5: =IFERROR(COUNTIFS(Table1[Child Race: White],"Yes", Table1[Was this child open during the report period?],"Yes", Table1[Did this case close this report period?],"Yes", Table1[At service completion, did this child have improved scores on items related to child behavioral functioning on the Youth Adjustment Domain?],"Yes") / COUNTIFS(Table1[Child Race: White],"Yes", Table1[Was this child open during the report period?],"Yes", Table1[Did this case close this report period?],"Yes"),"NA") -> NA | J5: =COUNTIFS(Table1[Child Race: Black or African American],"Yes", Table1[Was this child open during the report period?],"Yes", Table1[Did this case close this report period?],"Yes") -> 0 | K5: =IFERROR(COUNTIFS(Table1[Child Race: Black or African American],"Yes", Table1[Was this child open during the report period?],"Yes", Table1[Did this case close this report period?],"Yes", Table1[At service completion, did this child have improved scores on items related to child behavioral functioning on the Youth Adjustment Domain?],"Yes") / COUNTIFS(Table1[Child Race: Black or African American],"Yes", Table1[Was this child open during the report period?],"Yes", Table1[Did this case close this report period?],"Yes"),"NA") -> NA | L5: =COUNTIFS(Table1[Child Race: Asian],"Yes", Table1[Was this child open during the report period?],"Yes", Table1[Did this case close this report period?],"Yes") -> 0 | M5: =IFERROR(COUNTIFS(Table1[Child Race: Asian],"Yes", Table1[Was this child open during the report period?],"Yes", Table1[Did this case close this report period?],"Yes", Table1[At service completion, did this child have improved scores on items related to child behavioral functioning on the Youth Adjustment Domain?],"Yes") / COUNTIFS(Table1[Child Race: Asian],"Yes", Table1[Was this child open during the report period?],"Yes", Table1[Did this case close this report period?],"Yes"),"NA") -> NA | N5: =COUNTIFS(Table1[Child Race: Native Hawaiian or Other Pacific Islander],"Yes", Table1[Was this child open during the report period?],"Yes", Table1[Did this case close this report period?],"Yes") -> 0 | O5: =IFERROR(COUNTIFS(Table1[Child Race: Native Hawaiian or Other Pacific Islander],"Yes", Table1[Was this child open during the report period?],"Yes", Table1[Did this case close this report period?],"Yes", Table1[At service completion, did this child have improved scores on items related to child behavioral functioning on the Youth Adjustment Domain?],"Yes") / COUNTIFS(Table1[Child Race: Native Hawaiian or Other Pacific Islander],"Yes", Table1[Was this child open during the report period?],"Yes", Table1[Did this case close this report period?],"Yes"),"NA") -> NA | P5: =COUNTIFS(Table1[Child Race: American Indian or Alaska Native],"Yes", Table1[Was this child open during the report period?],"Yes", Table1[Did this case close this report period?],"Yes") -> 0 | Q5: =IFERROR(COUNTIFS(Table1[Child Race: American Indian or Alaska Native],"Yes", Table1[Was this child open during the report period?],"Yes", Table1[Did this case close this report period?],"Yes", Table1[At service completion, did this child have improved scores on items related to child behavioral functioning on the Youth Adjustment Domain?],"Yes") / COUNTIFS(Table1[Child Race: American Indian or Alaska Native],"Yes", Table1[Was this child open during the report period?],"Yes", Table1[Did this case close this report period?],"Yes"),"NA") -> NA
A6: Improved Child Emotional Functioning | B6: At service completion, % of cases with improved scores on items related to child emotional functioning on the Youth Adjustment Domain. | C6: 0.85 | D6: =COUNTIFS(Table1[Was this child open during the report period?], "Yes", Table1[Did this case close this report period?], "Yes") -> 0 | E6: =IFERROR(COUNTIFS(Table1[Was this child open during the report period?], "Yes", Table1[Did this case close this report period?], "Yes", Table1[At service completion, did this child have improved scores on items related to child emotional functioning on the Youth Adjustment Domain?], "Yes")/COUNTIFS(Table1[Was this child open during the report period?], "Yes", Table1[Did this case close this report period?], "Yes"), "NA") -> NA | F6: =COUNTIFS(Table1[Child Hispanic or Latino Ethnicity],"Yes", Table1[Was this child open during the report period?],"Yes", Table1[Did this case close this report period?],"Yes") -> 0 | G6: =IFERROR(COUNTIFS(Table1[Child Hispanic or Latino Ethnicity],"Yes", Table1[Was this child open during the report period?],"Yes", Table1[Did this case close this report period?],"Yes", Table1[At service completion, did this child have improved scores on items related to child emotional functioning on the Youth Adjustment Domain?],"Yes") / COUNTIFS(Table1[Child Hispanic or Latino Ethnicity],"Yes", Table1[Was this child open during the report period?],"Yes", Table1[Did this case close this report period?],"Yes"),"NA") -> NA | H6: =COUNTIFS(Table1[Child Race: White],"Yes", Table1[Was this child open during the report period?],"Yes", Table1[Did this case close this report period?],"Yes") -> 0 | I6: =IFERROR(COUNTIFS(Table1[Child Race: White],"Yes", Table1[Was this child open during the report period?],"Yes", Table1[Did this case close this report period?],"Yes", Table1[At service completion, did this child have improved scores on items related to child emotional functioning on the Youth Adjustment Domain?],"Yes") / COUNTIFS(Table1[Child Race: White],"Yes", Table1[Was this child open during the report period?],"Yes", Table1[Did this case close this report period?],"Yes"),"NA") -> NA | J6: =COUNTIFS(Table1[Child Race: Black or African American],"Yes", Table1[Was this child open during the report period?],"Yes", Table1[Did this case close this report period?],"Yes") -> 0 | K6: =IFERROR(COUNTIFS(Table1[Child Race: Black or African American],"Yes", Table1[Was this child open during the report period?],"Yes", Table1[Did this case close this report period?],"Yes", Table1[At service completion, did this child have improved scores on items related to child emotional functioning on the Youth Adjustment Domain?],"Yes") / COUNTIFS(Table1[Child Race: Black or African American],"Yes", Table1[Was this child open during the report period?],"Yes", Table1[Did this case close this report period?],"Yes"),"NA") -> NA | L6: =COUNTIFS(Table1[Child Race: Asian],"Yes", Table1[Was this child open during the report period?],"Yes", Table1[Did this case close this report period?],"Yes") -> 0 | M6: =IFERROR(COUNTIFS(Table1[Child Race: Asian],"Yes", Table1[Was this child open during the report period?],"Yes", Table1[Did this case close this report period?],"Yes", Table1[At service completion, did this child have improved scores on items related to child emotional functioning on the Youth Adjustment Domain?],"Yes") / COUNTIFS(Table1[Child Race: Asian],"Yes", Table1[Was this child open during the report period?],"Yes", Table1[Did this case close this report period?],"Yes"),"NA") -> NA | N6: =COUNTIFS(Table1[Child Race: Native Hawaiian or Other Pacific Islander],"Yes", Table1[Was this child open during the report period?],"Yes", Table1[Did this case close this report period?],"Yes") -> 0 | O6: =IFERROR(COUNTIFS(Table1[Child Race: Native Hawaiian or Other Pacific Islander],"Yes", Table1[Was this child open during the report period?],"Yes", Table1[Did this case close this report period?],"Yes", Table1[At service completion, did this child have improved scores on items related to child emotional functioning on the Youth Adjustment Domain?],"Yes") / COUNTIFS(Table1[Child Race: Native Hawaiian or Other Pacific Islander],"Yes", Table1[Was this child open during the report period?],"Yes", Table1[Did this case close this report period?],"Yes"),"NA") -> NA | P6: =COUNTIFS(Table1[Child Race: American Indian or Alaska Native],"Yes", Table1[Was this child open during the report period?],"Yes", Table1[Did this case close this report period?],"Yes") -> 0 | Q6: =IFERROR(COUNTIFS(Table1[Child Race: American Indian or Alaska Native],"Yes", Table1[Was this child open during the report period?],"Yes", Table1[Did this case close this report period?],"Yes", Table1[At service completion, did this child have improved scores on items related to child emotional functioning on the Youth Adjustment Domain?],"Yes") / COUNTIFS(Table1[Child Race: American Indian or Alaska Native],"Yes", Table1[Was this child open during the report period?],"Yes", Table1[Did this case close this report period?],"Yes"),"NA") -> NA
A7: Increased Positive Parenting Practices | B7: At service completion, % of cases with improved scores on items related to positive parenting practices in the Parenting and Family Management Domain. | C7: 0.85 | D7: =COUNTIFS(Table1[Was this child open during the report period?], "Yes", Table1[Did this case close this report period?], "Yes") -> 0 | E7: =IFERROR(COUNTIFS(Table1[Was this child open during the report period?], "Yes", Table1[Did this case close this report period?], "Yes", Table1[At service completion, did the caregiver have improved scores on items related to positive parenting practices in the Parenting and Family Management Domain? ], "Yes")/COUNTIFS(Table1[Was this child open during the report period?], "Yes", Table1[Did this case close this report period?], "Yes"), "NA") -> NA | F7: =COUNTIFS(Table1[Child Hispanic or Latino Ethnicity],"Yes", Table1[Was this child open during the report period?],"Yes", Table1[Did this case close this report period?],"Yes") -> 0 | G7: =IFERROR(COUNTIFS(Table1[Child Hispanic or Latino Ethnicity],"Yes", Table1[Was this child open during the report period?],"Yes", Table1[Did this case close this report period?],"Yes", Table1[At service completion, did the caregiver have improved scores on items related to positive parenting practices in the Parenting and Family Management Domain? ],"Yes") / COUNTIFS(Table1[Child Hispanic or Latino Ethnicity],"Yes", Table1[Was this child open during the report period?],"Yes", Table1[Did this case close this report period?],"Yes"),"NA") -> NA | H7: =COUNTIFS(Table1[Child Race: White],"Yes", Table1[Was this child open during the report period?],"Yes", Table1[Did this case close this report period?],"Yes") -> 0 | I7: =IFERROR(COUNTIFS(Table1[Child Race: White],"Yes", Table1[Was this child open during the report period?],"Yes", Table1[Did this case close this report period?],"Yes", Table1[At service completion, did the caregiver have improved scores on items related to positive parenting practices in the Parenting and Family Management Domain? ],"Yes") / COUNTIFS(Table1[Child Race: White],"Yes", Table1[Was this child open during the report period?],"Yes", Table1[Did this case close this report period?],"Yes"),"NA") -> NA | J7: =COUNTIFS(Table1[Child Race: Black or African American],"Yes", Table1[Was this child open during the report period?],"Yes", Table1[Did this case close this report period?],"Yes") -> 0 | K7: =IFERROR(COUNTIFS(Table1[Child Race: Black or African American],"Yes", Table1[Was this child open during the report period?],"Yes", Table1[Did this case close this report period?],"Yes", Table1[At service completion, did the caregiver have improved scores on items related to positive parenting practices in the Parenting and Family Management Domain? ],"Yes") / COUNTIFS(Table1[Child Race: Black or African American],"Yes", Table1[Was this child open during the report period?],"Yes", Table1[Did this case close this report period?],"Yes"),"NA") -> NA | L7: =COUNTIFS(Table1[Child Race: Asian],"Yes", Table1[Was this child open during the report period?],"Yes", Table1[Did this case close this report period?],"Yes") -> 0 | M7: =IFERROR(COUNTIFS(Table1[Child Race: Asian],"Yes", Table1[Was this child open during the report period?],"Yes", Table1[Did this case close this report period?],"Yes", Table1[At service completion, did the caregiver have improved scores on items related to positive parenting practices in the Parenting and Family Management Domain? ],"Yes") / COUNTIFS(Table1[Child Race: Asian],"Yes", Table1[Was this child open during the report period?],"Yes", Table1[Did this case close this report period?],"Yes"),"NA") -> NA | N7: =COUNTIFS(Table1[Child Race: Native Hawaiian or Other Pacific Islander],"Yes", Table1[Was this child open during the report period?],"Yes", Table1[Did this case close this report period?],"Yes") -> 0 | O7: =IFERROR(COUNTIFS(Table1[Child Race: Native Hawaiian or Other Pacific Islander],"Yes", Table1[Was this child open during the report period?],"Yes", Table1[Did this case close this report period?],"Yes", Table1[At service completion, did the caregiver have improved scores on items related to positive parenting practices in the Parenting and Family Management Domain? ],"Yes") / COUNTIFS(Table1[Child Race: Native Hawaiian or Other Pacific Islander],"Yes", Table1[Was this child open during the report period?],"Yes", Table1[Did this case close this report period?],"Yes"),"NA") -> NA | P7: =COUNTIFS(Table1[Child Race: American Indian or Alaska Native],"Yes", Table1[Was this child open during the report period?],"Yes", Table1[Did this case close this report period?],"Yes") -> 0 | Q7: =IFERROR(COUNTIFS(Table1[Child Race: American Indian or Alaska Native],"Yes", Table1[Was this child open during the report period?],"Yes", Table1[Did this case close this report period?],"Yes", Table1[At service completion, did the caregiver have improved scores on items related to positive parenting practices in the Parenting and Family Management Domain? ],"Yes") / COUNTIFS(Table1[Child Race: American Indian or Alaska Native],"Yes", Table1[Was this child open during the report period?],"Yes", Table1[Did this case close this report period?],"Yes"),"NA") -> NA
