Workbook
Name HomeVisitorsFilteredList: 'County Names to hide (2)'!$C$2
Name HomeVisitorsFilteredList: #REF!
Name HomeVisitorsFilteredList: 'County Names to hide'!$C$2
Name HV_FilteredList: 'County Names to hide (2)'!$C$2:$C$1001
Name HV_FilteredList: #REF!
Name HV_FilteredList: 'County Names to hide'!$C$2:$C$1000

Sheet Cover_Sheet2
A1: Instructions for Completing the Spreadsheet Each report period, one person from the county or community-based organization should complete row 3 of this cover sheet. Fill in every column. Update the Report Type, month you want the report period to start in, and year you want the report period to start in, each time you report to keep the aggregate outcome and fidelity data accurate. Do not add more rows to this sheet. If you encounter any issues with formatting or dropdown selections, reach out to the CDSS FFPS team for assistance: FFPSApreventionservices@dss.ca.gov. To keep a copy of your aggregate data for each reporting period, save a copy of the "Outcomes Aggregate" and "Fidelity Aggregate". These sheets will overwrite whenever you add new data. County CQI workgroups may review aggregate fidelity and outcome data on a quarterly basis. Use columns E,F,and G below to select the appropriate quarter in advance of the workgroup. Reminder: The Required CWS-CARES Fidelity & Outcomes Report are completed every six months. Providers are responsible for uploading their own model fidelity and outcomes documentation via the FFPSA portal in CARES. To prepare the Required CWS-CARES Fidelity & Outcomes Report: 1. For data due in March: Set the reporting period to begin September 01 of the prior year and end February 28th, (29th on leap years) of the current year. 2. For data due in October: Set the reporting period to begin March 01 of the current year and end August 31st, of the current year. Updated October 12, 2026
A2: County Name | B2: Name of EBP Model | C2: Name of agency providing HFA to FFPSA candidates | D2: Name of site providing HFA to FFPSA candidates | E2: Report Type | F2: What month do you want the report period to start in? | G2: What year do you want the report period to start in? | H2: Reporting Period Start Date | I2: Reporting Period End Date | J2: Fiscal Year | K2: Report Completed By | L2: Email Address
A3: Alameda | B3: HFA | E3: Biannual | F3: December | G3: 2026 | H3: =DATE(G3, MONTH(DATEVALUE("1 "&F3)), 1) -> 46357 | I3: {=_xlfn.IFS( E3="Monthly", EOMONTH(H3,0), E3="Quarterly", EOMONTH(H3,2), E3="Biannual", EOMONTH(H3,5), E3="Yearly", EOMONTH(H3,11) )} -> 46538 | J3: 2027

Sheet County Names to hide (2)
A1: Counties | B1: Today's Date | C1: Start of Reporting Period | D1: End of Reporting Period
A2: Alameda | B2: =TODAY() -> 46307 | C2: =Cover_Sheet2!$H$3 -> 46357 | D2: =Cover_Sheet2!$I$3 -> 46538 | E2: =EDATE('County Names to hide (2)'!$C$2,-6) -> 46174
A3: Alpine
A4: Amador
A5: Butte
A6: Calaveras
A7: Colusa
A8: Contra Costa
A9: Del Norte
A10: El Dorado
A11: Fresno
A12: Glenn
A13: Humboldt
A14: Imperial
... A61: Yurok Tribe

Sheet Fidelity
A1: Instructions for Completing the Spreadsheet Please enter all staff names and employment dates here. Use the dropdown menus where provided to ensure consistent responses and hover over cells to view notes for specific guidance on each field. Follow the flow of the spreadsheet, ensuring that cells dependent on a prior answer are completed appropriately. If a cell does not apply based on the answer to the previous cell, leave it blank and move to the next applicable field. Conditional formatting has been applied to some cells. If you encounter any issues with formatting or dropdown selections, reach out to the CDSS FFPS team for assistance: FFPSApreventionservices@dss.ca.gov
A2: Agency Name: | E2: Site Name:
A3: Fidelity | I3: Provider Received and Maintained Required Training | L3: Meets Staffing Qualification Requirements
A4: Staff Name | B4: Employment Start Date | C4: Employment End Date | D4: Was this staff member employed during the report period? | E4: Select the role of the home visiting staff member | F4: Indicate this staff member’s Full-Time Equivalent (FTE) as a decimal (e.g., 1.0 = full-time, 0.75 = ¾-time, 0.5 = half-time). | G4: How many months has this staff member been employed by this agency by the end of the report period? | H4: Date the staff member completed intensive HFA core foundations training by an HFA-certified trainer | I4: Did the staff member receive intensive HFA core foundations training by an HFA-certified trainer within 6 months of hire? | J4: If the staff member was hired more than 12 months ago, have they received ongoing, annual training? | K4: Does this staff member have the required qualifications? | L4: Does the Direct Service Staff receive weekly supervision?
D5: =IF(OR(A5="", B5=""), "", IF(AND( B5 <= 'County Names to hide (2)'!$D$2, OR(C5="", C5 >= 'County Names to hide (2)'!$C$2) ), "Yes", "No" ) ) | G5: =IF(D5<>"Yes","", ROUND( (MIN(IF(C5="", 'County Names to hide (2)'!$D$2, C5), 'County Names to hide (2)'!$D$2) - B5) / 365 * 12, 1) ) | I5: =IF(OR(G5<6, B5=""), "", IF(AND(H5>=B5, H5<=EDATE(B5,6)), "Yes", "No" ) )
D6: =IF(OR(A6="", B6=""), "", IF(AND( B6 <= 'County Names to hide (2)'!$D$2, OR(C6="", C6 >= 'County Names to hide (2)'!$C$2) ), "Yes", "No" ) ) | G6: =IF(D6<>"Yes","", ROUND( (MIN(IF(C6="", 'County Names to hide (2)'!$D$2, C6), 'County Names to hide (2)'!$D$2) - B6) / 365 * 12, 1) ) | I6: =IF(OR(G6<6, B6=""), "", IF(AND(H6>=B6, H6<=EDATE(B6,6)), "Yes", "No" ) )
D7: =IF(OR(A7="", B7=""), "", IF(AND( B7 <= 'County Names to hide (2)'!$D$2, OR(C7="", C7 >= 'County Names to hide (2)'!$C$2) ), "Yes", "No" ) ) | G7: =IF(D7<>"Yes","", ROUND( (MIN(IF(C7="", 'County Names to hide (2)'!$D$2, C7), 'County Names to hide (2)'!$D$2) - B7) / 365 * 12, 1) ) | I7: =IF(OR(G7<6, B7=""), "", IF(AND(H7>=B7, H7<=EDATE(B7,6)), "Yes", "No" ) )
D8: =IF(OR(A8="", B8=""), "", IF(AND( B8 <= 'County Names to hide (2)'!$D$2, OR(C8="", C8 >= 'County Names to hide (2)'!$C$2) ), "Yes", "No" ) ) | G8: =IF(D8<>"Yes","", ROUND( (MIN(IF(C8="", 'County Names to hide (2)'!$D$2, C8), 'County Names to hide (2)'!$D$2) - B8) / 365 * 12, 1) ) | I8: =IF(OR(G8<6, B8=""), "", IF(AND(H8>=B8, H8<=EDATE(B8,6)), "Yes", "No" ) )
D9: =IF(OR(A9="", B9=""), "", IF(AND( B9 <= 'County Names to hide (2)'!$D$2, OR(C9="", C9 >= 'County Names to hide (2)'!$C$2) ), "Yes", "No" ) ) | G9: =IF(D9<>"Yes","", ROUND( (MIN(IF(C9="", 'County Names to hide (2)'!$D$2, C9), 'County Names to hide (2)'!$D$2) - B9) / 365 * 12, 1) ) | I9: =IF(OR(G9<6, B9=""), "", IF(AND(H9>=B9, H9<=EDATE(B9,6)), "Yes", "No" ) )
D10: =IF(OR(A10="", B10=""), "", IF(AND( B10 <= 'County Names to hide (2)'!$D$2, OR(C10="", C10 >= 'County Names to hide (2)'!$C$2) ), "Yes", "No" ) ) | G10: =IF(D10<>"Yes","", ROUND( (MIN(IF(C10="", 'County Names to hide (2)'!$D$2, C10), 'County Names to hide (2)'!$D$2) - B10) / 365 * 12, 1) ) | I10: =IF(OR(G10<6, B10=""), "", IF(AND(H10>=B10, H10<=EDATE(B10,6)), "Yes", "No" ) )
D11: =IF(OR(A11="", B11=""), "", IF(AND( B11 <= 'County Names to hide (2)'!$D$2, OR(C11="", C11 >= 'County Names to hide (2)'!$C$2) ), "Yes", "No" ) ) | G11: =IF(D11<>"Yes","", ROUND( (MIN(IF(C11="", 'County Names to hide (2)'!$D$2, C11), 'County Names to hide (2)'!$D$2) - B11) / 365 * 12, 1) ) | I11: =IF(OR(G11<6, B11=""), "", IF(AND(H11>=B11, H11<=EDATE(B11,6)), "Yes", "No" ) )
D12: =IF(OR(A12="", B12=""), "", IF(AND( B12 <= 'County Names to hide (2)'!$D$2, OR(C12="", C12 >= 'County Names to hide (2)'!$C$2) ), "Yes", "No" ) ) | G12: =IF(D12<>"Yes","", ROUND( (MIN(IF(C12="", 'County Names to hide (2)'!$D$2, C12), 'County Names to hide (2)'!$D$2) - B12) / 365 * 12, 1) ) | I12: =IF(OR(G12<6, B12=""), "", IF(AND(H12>=B12, H12<=EDATE(B12,6)), "Yes", "No" ) )
D13: =IF(OR(A13="", B13=""), "", IF(AND( B13 <= 'County Names to hide (2)'!$D$2, OR(C13="", C13 >= 'County Names to hide (2)'!$C$2) ), "Yes", "No" ) ) | G13: =IF(D13<>"Yes","", ROUND( (MIN(IF(C13="", 'County Names to hide (2)'!$D$2, C13), 'County Names to hide (2)'!$D$2) - B13) / 365 * 12, 1) ) | I13: =IF(OR(G13<6, B13=""), "", IF(AND(H13>=B13, H13<=EDATE(B13,6)), "Yes", "No" ) )
D14: =IF(OR(A14="", B14=""), "", IF(AND( B14 <= 'County Names to hide (2)'!$D$2, OR(C14="", C14 >= 'County Names to hide (2)'!$C$2) ), "Yes", "No" ) ) | G14: =IF(D14<>"Yes","", ROUND( (MIN(IF(C14="", 'County Names to hide (2)'!$D$2, C14), 'County Names to hide (2)'!$D$2) - B14) / 365 * 12, 1) ) | I14: =IF(OR(G14<6, B14=""), "", IF(AND(H14>=B14, H14<=EDATE(B14,6)), "Yes", "No" ) )
D15: =IF(OR(A15="", B15=""), "", IF(AND( B15 <= 'County Names to hide (2)'!$D$2, OR(C15="", C15 >= 'County Names to hide (2)'!$C$2) ), "Yes", "No" ) ) | G15: =IF(D15<>"Yes","", ROUND( (MIN(IF(C15="", 'County Names to hide (2)'!$D$2, C15), 'County Names to hide (2)'!$D$2) - B15) / 365 * 12, 1) ) | I15: =IF(OR(G15<6, B15=""), "", IF(AND(H15>=B15, H15<=EDATE(B15,6)), "Yes", "No" ) )
D16: =IF(OR(A16="", B16=""), "", IF(AND( B16 <= 'County Names to hide (2)'!$D$2, OR(C16="", C16 >= 'County Names to hide (2)'!$C$2) ), "Yes", "No" ) ) | G16: =IF(D16<>"Yes","", ROUND( (MIN(IF(C16="", 'County Names to hide (2)'!$D$2, C16), 'County Names to hide (2)'!$D$2) - B16) / 365 * 12, 1) ) | I16: =IF(OR(G16<6, B16=""), "", IF(AND(H16>=B16, H16<=EDATE(B16,6)), "Yes", "No" ) )
... D100: =IF(OR(A100="", B100=""), "", IF(AND( B100 <= 'County Names to hide (2)'!$D$2, OR(C100="", C100 >= 'County Names to hide (2)'!$C$2) ), "Yes", "No" ) ) | G100: =IF(D100<>"Yes","", ROUND( (MIN(IF(C100="", 'County Names to hide (2)'!$D$2, C100), 'County Names to hide (2)'!$D$2) - B100) / 365 * 12, 1) ) | I100: =IF(OR(G100<6, B100=""), "", IF(AND(H100>=B100, H100<=EDATE(B100,6)), "Yes", "No" ) )

Sheet Outcomes
A1: Instructions for Completing the Spreadsheet (For Family First Title IV-E children/families only) Use the dropdown menus where provided to ensure consistent responses and hover over cells to view notes for specific guidance on each field. Follow the flow of the spreadsheet, ensuring that cells dependent on a prior answer are completed appropriately. If a cell does not apply based on the answer to the previous cell, leave it blank and move to the next applicable field. Conditional formatting has been applied to some cells. If you encounter any issues with formatting or dropdown selections, reach out to the CDSS FFPS team for assistance: FFPSApreventionservices@dss.ca.gov.
A3: Agency Name: | E3: Site Name:
A4: Child Identifier | M4: Program Start and End Dates | Z4: Increased Positive Parenting Practices | AA4: Improved Pregnancy Outcomes | AC4: Improved Child Health and Development | AF4: Improved Caregiver Health | AJ4: Fidelity: Timely Completion of Home Visits
A5: DCFS/Probation Unique Identifier | B5: HFA Model Child ID | C5: Child Date of Birth | D5: Child Sex | E5: Child Hispanic or Latino Ethnicity | F5: Child Race: White | G5: Child Race: Black or African American | H5: Child Race: Asian | I5: Child Race: Native Hawaiian or Other Pacific Islander | J5: Child Race: American Indian or Alaska Native | K5: Child Race: Declined | L5: Child Race: Unknown | M5: Program Start Date | N5: Program End Date | O5: Was this child engaged in services during the report period? | P5: Date Child Specific Prevention Plan Start (Year One) | Q5: Date Child Specific Prevention Plan Ended (Year One) | R5: Date Child Specific Prevention Plan Start (Year Two) | S5: Date Child Specific Prevention Plan Ended (Year Two) | T5: Total Number of Visits (as defined by the HFA model) by the End of the Report Period | U5: Months Open at End of the Report Period | V5: Child Age at End of the Report Period (in months) | W5: Name of the home visitor working with the family when the family was discharged | X5: Was a new home visitor assigned to this family this quarter? | Y5: If "Yes," what is the name of the new home visitor working with the family? | Z5: Was the caregiver-child interaction assessed using a validated tool? | AA5: Was the child's mother enrolled in the home visiting program prenatally before 37 weeks? | AB5: If "Yes," was the child born preterm following enrollment in the home visiting program? | AC5: Did the child receive a timely screen for developmental delays using the Ages & Stages (ASQ-3) at least twice annually (if age birth to 3), or once annually (if older than 3)? | AD5: Did the child have a positive screen for developmental delays? | AE5: If "Yes, did the child receive services in a timely manner following the screen? | AF5: Has the child been enrolled in home visiting for at least 3 months? | AG5: If "Yes," was the child's primary caregiver screened for depression within 3 months of enrollment or 3 months of delivery (for those enrolled prenatally)? | AH5: If "Yes," did the child's primary caregiver have a positive screen for depression? | AI5: If "Yes," did the primary caregiver receive one or more service contacts? | AJ5: Did the family use the HFA Standard Model? | AK5: If "Yes," did the family receive their first home visit within 3 months after the birth of their baby? | AL5: Was the family referred by child welfare using the Child Welfare Protocol? | AM5: If "Yes," did the family receive their first home visit by the time their child was 24 months of age?
L6: =IF(COUNTIF(F6:K6, "Yes")>0, "No", "Yes") -> Yes | O6: =IF(OR(A6="", M6=""), "", IF(AND( M6 <= 'County Names to hide (2)'!$D$2, OR(N6="", N6 >= 'County Names to hide (2)'!$C$2) ), "Yes", "No" ) ) | U6: =IF(M6="","", ROUND( (MIN(IF(N6="", 'County Names to hide (2)'!$D$2, N6), 'County Names to hide (2)'!$D$2) - M6) / 365 * 12, 1) ) | V6: =IF(C6="","", ROUND(('County Names to hide (2)'!$D$2 - C6) / 365 * 12, 1) ) | AF6: =IF(LEN(U6)=0,"",IF(U6>=3,"Yes","No"))
L7: =IF(COUNTIF(F7:K7, "Yes")>0, "No", "Yes") -> Yes | O7: =IF(OR(A7="", M7=""), "", IF(AND( M7 <= 'County Names to hide (2)'!$D$2, OR(N7="", N7 >= 'County Names to hide (2)'!$C$2) ), "Yes", "No" ) ) | U7: =IF(M7="","", ROUND( (MIN(IF(N7="", 'County Names to hide (2)'!$D$2, N7), 'County Names to hide (2)'!$D$2) - M7) / 365 * 12, 1) ) | V7: =IF(C7="","", ROUND(('County Names to hide (2)'!$D$2 - C7) / 365 * 12, 1) ) | AF7: =IF(LEN(U7)=0,"",IF(U7>=3,"Yes","No"))
L8: =IF(COUNTIF(F8:K8, "Yes")>0, "No", "Yes") -> Yes | O8: =IF(OR(A8="", M8=""), "", IF(AND( M8 <= 'County Names to hide (2)'!$D$2, OR(N8="", N8 >= 'County Names to hide (2)'!$C$2) ), "Yes", "No" ) ) | U8: =IF(M8="","", ROUND( (MIN(IF(N8="", 'County Names to hide (2)'!$D$2, N8), 'County Names to hide (2)'!$D$2) - M8) / 365 * 12, 1) ) | V8: =IF(C8="","", ROUND(('County Names to hide (2)'!$D$2 - C8) / 365 * 12, 1) ) | AF8: =IF(LEN(U8)=0,"",IF(U8>=3,"Yes","No"))
L9: =IF(COUNTIF(F9:K9, "Yes")>0, "No", "Yes") -> Yes | O9: =IF(OR(A9="", M9=""), "", IF(AND( M9 <= 'County Names to hide (2)'!$D$2, OR(N9="", N9 >= 'County Names to hide (2)'!$C$2) ), "Yes", "No" ) ) | U9: =IF(M9="","", ROUND( (MIN(IF(N9="", 'County Names to hide (2)'!$D$2, N9), 'County Names to hide (2)'!$D$2) - M9) / 365 * 12, 1) ) | V9: =IF(C9="","", ROUND(('County Names to hide (2)'!$D$2 - C9) / 365 * 12, 1) ) | AF9: =IF(LEN(U9)=0,"",IF(U9>=3,"Yes","No"))
L10: =IF(COUNTIF(F10:K10, "Yes")>0, "No", "Yes") -> Yes | O10: =IF(OR(A10="", M10=""), "", IF(AND( M10 <= 'County Names to hide (2)'!$D$2, OR(N10="", N10 >= 'County Names to hide (2)'!$C$2) ), "Yes", "No" ) ) | U10: =IF(M10="","", ROUND( (MIN(IF(N10="", 'County Names to hide (2)'!$D$2, N10), 'County Names to hide (2)'!$D$2) - M10) / 365 * 12, 1) ) | V10: =IF(C10="","", ROUND(('County Names to hide (2)'!$D$2 - C10) / 365 * 12, 1) ) | AF10: =IF(LEN(U10)=0,"",IF(U10>=3,"Yes","No"))
L11: =IF(COUNTIF(F11:K11, "Yes")>0, "No", "Yes") -> Yes | O11: =IF(OR(A11="", M11=""), "", IF(AND( M11 <= 'County Names to hide (2)'!$D$2, OR(N11="", N11 >= 'County Names to hide (2)'!$C$2) ), "Yes", "No" ) ) | U11: =IF(M11="","", ROUND( (MIN(IF(N11="", 'County Names to hide (2)'!$D$2, N11), 'County Names to hide (2)'!$D$2) - M11) / 365 * 12, 1) ) | V11: =IF(C11="","", ROUND(('County Names to hide (2)'!$D$2 - C11) / 365 * 12, 1) ) | AF11: =IF(LEN(U11)=0,"",IF(U11>=3,"Yes","No"))
L12: =IF(COUNTIF(F12:K12, "Yes")>0, "No", "Yes") -> Yes | O12: =IF(OR(A12="", M12=""), "", IF(AND( M12 <= 'County Names to hide (2)'!$D$2, OR(N12="", N12 >= 'County Names to hide (2)'!$C$2) ), "Yes", "No" ) ) | U12: =IF(M12="","", ROUND( (MIN(IF(N12="", 'County Names to hide (2)'!$D$2, N12), 'County Names to hide (2)'!$D$2) - M12) / 365 * 12, 1) ) | V12: =IF(C12="","", ROUND(('County Names to hide (2)'!$D$2 - C12) / 365 * 12, 1) ) | AF12: =IF(LEN(U12)=0,"",IF(U12>=3,"Yes","No"))
L13: =IF(COUNTIF(F13:K13, "Yes")>0, "No", "Yes") -> Yes | O13: =IF(OR(A13="", M13=""), "", IF(AND( M13 <= 'County Names to hide (2)'!$D$2, OR(N13="", N13 >= 'County Names to hide (2)'!$C$2) ), "Yes", "No" ) ) | U13: =IF(M13="","", ROUND( (MIN(IF(N13="", 'County Names to hide (2)'!$D$2, N13), 'County Names to hide (2)'!$D$2) - M13) / 365 * 12, 1) ) | V13: =IF(C13="","", ROUND(('County Names to hide (2)'!$D$2 - C13) / 365 * 12, 1) ) | AF13: =IF(LEN(U13)=0,"",IF(U13>=3,"Yes","No"))
L14: =IF(COUNTIF(F14:K14, "Yes")>0, "No", "Yes") -> Yes | O14: =IF(OR(A14="", M14=""), "", IF(AND( M14 <= 'County Names to hide (2)'!$D$2, OR(N14="", N14 >= 'County Names to hide (2)'!$C$2) ), "Yes", "No" ) ) | U14: =IF(M14="","", ROUND( (MIN(IF(N14="", 'County Names to hide (2)'!$D$2, N14), 'County Names to hide (2)'!$D$2) - M14) / 365 * 12, 1) ) | V14: =IF(C14="","", ROUND(('County Names to hide (2)'!$D$2 - C14) / 365 * 12, 1) ) | AF14: =IF(LEN(U14)=0,"",IF(U14>=3,"Yes","No"))
L15: =IF(COUNTIF(F15:K15, "Yes")>0, "No", "Yes") -> Yes | O15: =IF(OR(A15="", M15=""), "", IF(AND( M15 <= 'County Names to hide (2)'!$D$2, OR(N15="", N15 >= 'County Names to hide (2)'!$C$2) ), "Yes", "No" ) ) | U15: =IF(M15="","", ROUND( (MIN(IF(N15="", 'County Names to hide (2)'!$D$2, N15), 'County Names to hide (2)'!$D$2) - M15) / 365 * 12, 1) ) | V15: =IF(C15="","", ROUND(('County Names to hide (2)'!$D$2 - C15) / 365 * 12, 1) ) | AF15: =IF(LEN(U15)=0,"",IF(U15>=3,"Yes","No"))
L16: =IF(COUNTIF(F16:K16, "Yes")>0, "No", "Yes") -> Yes | O16: =IF(OR(A16="", M16=""), "", IF(AND( M16 <= 'County Names to hide (2)'!$D$2, OR(N16="", N16 >= 'County Names to hide (2)'!$C$2) ), "Yes", "No" ) ) | U16: =IF(M16="","", ROUND( (MIN(IF(N16="", 'County Names to hide (2)'!$D$2, N16), 'County Names to hide (2)'!$D$2) - M16) / 365 * 12, 1) ) | V16: =IF(C16="","", ROUND(('County Names to hide (2)'!$D$2 - C16) / 365 * 12, 1) ) | AF16: =IF(LEN(U16)=0,"",IF(U16>=3,"Yes","No"))
L17: =IF(COUNTIF(F17:K17, "Yes")>0, "No", "Yes") -> Yes | O17: =IF(OR(A17="", M17=""), "", IF(AND( M17 <= 'County Names to hide (2)'!$D$2, OR(N17="", N17 >= 'County Names to hide (2)'!$C$2) ), "Yes", "No" ) ) | U17: =IF(M17="","", ROUND( (MIN(IF(N17="", 'County Names to hide (2)'!$D$2, N17), 'County Names to hide (2)'!$D$2) - M17) / 365 * 12, 1) ) | V17: =IF(C17="","", ROUND(('County Names to hide (2)'!$D$2 - C17) / 365 * 12, 1) ) | AF17: =IF(LEN(U17)=0,"",IF(U17>=3,"Yes","No"))
... L500: =IF(COUNTIF(F500:K500, "Yes")>0, "No", "Yes") -> Yes | O500: =IF(OR(A500="", M500=""), "", IF(AND( M500 <= 'County Names to hide (2)'!$D$2, OR(N500="", N500 >= 'County Names to hide (2)'!$C$2) ), "Yes", "No" ) ) | U500: =IF(M500="","", ROUND( (MIN(IF(N500="", 'County Names to hide (2)'!$D$2, N500), 'County Names to hide (2)'!$D$2) - M500) / 365 * 12, 1) ) | V500: =IF(C500="","", ROUND(('County Names to hide (2)'!$D$2 - C500) / 365 * 12, 1) ) | AF500: =IF(LEN(U500)=0,"",IF(U500>=3,"Yes","No"))

Sheet Fidelity Aggregate
A1: This sheet will populate automatically based on the data entered in the "Fidelity" tab. Be sure to choose the correct reporting period on the Cover Sheet tab. If you encounter any issues with formatting or dropdown selections, reach out to the CDSS FFPS team for assistance: FFPSApreventionservices@dss.ca.gov. To keep a copy of your aggregate fidelity data for each reporting period, save a copy of this sheet and "Outcomes Aggregate". These sheets will overwrite whenever you add new data. Reminder: The Required CWS-CARES Fidelity & Outcomes Reports are completed every six months. Providers are responsible for uploading their own model fidelity and outcomes documentation via the FFPSA portal in CARES. To prepare the Required CWS-CARES Fidelity & Outcomes Report: 1. For data due in March: Set the reporting period to begin September 01 of the prior year and end February 28th, (29th on leap years) of the current year. 2. For data due in October: Set the reporting period to begin March 01 of the current year and end August 31st, of the current year. 3. Use the numbers in the "Percent" columns on this spreadsheet for the outcomes on the Required CWS-CARES Fidelity & Outcomes Report.
A2: Fidelity Measures
A3: Measure | B3: Indicator | C3: Target | D3: N | E3: Percent
A4: Provider Received and Maintained Required Training | B4: Percent of staff (direct service staff, supervisors, program managers) who received intensive HFA core foundations training by an HFA-certified trainer within 6 months of hire | C4: 1 | D4: =COUNTIFS(Table3[Was this staff member employed during the report period?], "Yes", Table3[How many months has this staff member been employed by this agency by the end of the report period? ], ">6") -> 0 | E4: =IFERROR(COUNTIFS(Table3[Was this staff member employed during the report period?], "Yes", Table3[How many months has this staff member been employed by this agency by the end of the report period? ], ">6", Table3[Did the staff member receive intensive HFA core foundations training by an HFA-certified trainer within 6 months of hire? ], "Yes")/ COUNTIFS(Table3[Was this staff member employed during the report period?], "Yes", Table3[How many months has this staff member been employed by this agency by the end of the report period? ], ">6"), "NA") -> NA
B5: Percent of staff (direct service staff, supervisors, program managers) hired more than 12 months ago who have received ongoing annual training | C5: 1 | D5: =COUNTIFS(Table3[Was this staff member employed during the report period?], "Yes", Table3[How many months has this staff member been employed by this agency by the end of the report period? ], ">12") -> 0 | E5: =IFERROR(COUNTIFS(Table3[Was this staff member employed during the report period?], "Yes", Table3[How many months has this staff member been employed by this agency by the end of the report period? ], ">12", Table3[If the staff member was hired more than 12 months ago, have they received ongoing, annual training? ], "Yes")/ COUNTIFS(Table3[Was this staff member employed during the report period?], "Yes", Table3[How many months has this staff member been employed by this agency by the end of the report period? ], ">12"), "NA") -> NA
A6: Meet Staffing Qualifications Requirements | B6: Percent of program managers who have required qualifications | C6: 1 | D6: =COUNTIFS(Table3[Was this staff member employed during the report period?], "Yes", Table3[Select the role of the home visiting staff member], "Program Manager") -> 0 | E6: =IFERROR(COUNTIFS(Table3[Was this staff member employed during the report period?], "Yes", Table3[Select the role of the home visiting staff member], "Program Manager", Table3[Does this staff member have the required qualifications? ], "Yes")/ COUNTIFS(Table3[Was this staff member employed during the report period?], "Yes", Table3[Select the role of the home visiting staff member], "Program Manager"), "NA") -> NA
B7: Percent of supervisors who have required qualifications | C7: 1 | D7: =COUNTIFS(Table3[Was this staff member employed during the report period?], "Yes", Table3[Select the role of the home visiting staff member], "Supervisor") -> 0 | E7: =IFERROR(COUNTIFS(Table3[Was this staff member employed during the report period?], "Yes", Table3[Select the role of the home visiting staff member], "Supervisor", Table3[Does this staff member have the required qualifications? ], "Yes")/ COUNTIFS(Table3[Was this staff member employed during the report period?], "Yes", Table3[Select the role of the home visiting staff member], "Supervisor"), "NA") -> NA
B8: Percent of direct service staff who have required qualifications | C8: 1 | D8: =COUNTIFS(Table3[Was this staff member employed during the report period?], "Yes", Table3[Select the role of the home visiting staff member], "Direct Service Staff") -> 0 | E8: =IFERROR(COUNTIFS(Table3[Was this staff member employed during the report period?], "Yes", Table3[Select the role of the home visiting staff member], "Direct Service Staff", Table3[Does this staff member have the required qualifications? ], "Yes")/ COUNTIFS(Table3[Was this staff member employed during the report period?], "Yes", Table3[Select the role of the home visiting staff member], "Direct Service Staff"), "NA") -> NA
A9: Meet Supervision Frequency Requirements | B9: Percent of direct service staff who receive weekly supervision | C9: 1 | D9: =COUNTIFS(Table3[Was this staff member employed during the report period?], "Yes", Table3[Select the role of the home visiting staff member], "Direct Service Staff") -> 0 | E9: =IFERROR(COUNTIFS(Table3[Was this staff member employed during the report period?], "Yes", Table3[Select the role of the home visiting staff member], "Direct Service Staff", Table3[Does the Direct Service Staff receive weekly supervision? ], "Yes")/ COUNTIFS(Table3[Was this staff member employed during the report period?], "Yes", Table3[Select the role of the home visiting staff member], "Direct Service Staff"), "NA") -> NA
B10: Ratio of supervisors to direct service staff is 1 to 6 | C10: YES | D10: NA | E10: =IFERROR( IF(ROUND('County Names to hide'!$E$2,4) >= 0.1667, "YES", "No"), "NA" ) -> NA
A11: Timely Completion of Home Visits | B11: Percent of families using the HFA Standard Model who receive their first home visit within 3 months after the birth of the baby | C11: 0.8 | D11: =COUNTIFS(Table2[Was this child engaged in services during the report period?],"Yes", Table2[Did the family use the HFA Standard Model?],"Yes", Table2[Child Age at End of the Report Period (in months)],">=3") -> 0 | E11: =IFERROR( COUNTIFS( Table2[Was this child engaged in services during the report period?],"Yes", Table2[Did the family use the HFA Standard Model?],"Yes", Table2[Child Age at End of the Report Period (in months)],">=3", Table2[If "Yes," did the family receive their first home visit within 3 months after the birth of their baby?],"Yes" ) /COUNTIFS( Table2[Was this child engaged in services during the report period?],"Yes", Table2[Did the family use the HFA Standard Model?],"Yes", Table2[Child Age at End of the Report Period (in months)],">=3" ), "NA") -> NA
B12: Percent of families referred by Child Welfare using the Child Welfare Protocol who receive their first home visit by the time their child is 24 months of age | C12: 0.8 | D12: =COUNTIFS(Table2[Was this child engaged in services during the report period?],"Yes", Table2[Child Age at End of the Report Period (in months)],">=24") -> 0 | E12: =IFERROR( COUNTIFS( Table2[Was this child engaged in services during the report period?],"Yes", Table2[Was the family referred by child welfare using the Child Welfare Protocol?],"Yes", Table2[Child Age at End of the Report Period (in months)],">=24", Table2[If "Yes," did the family receive their first home visit by the time their child was 24 months of age?],"Yes" ) /COUNTIFS( Table2[Was this child engaged in services during the report period?],"Yes", Table2[Was the family referred by child welfare using the Child Welfare Protocol?],"Yes", Table2[Child Age at End of the Report Period (in months)],">=24" ), "NA") -> NA

Sheet Outcomes Aggregate
A1: This sheet will populate automatically based on the data entered in the "Outcomes" spreadsheet. Be sure to choose the correct reporting period on the Cover Sheet tab. Please review the notes in the "n" columns which describe who the n refers to. If you encounter any issues with formatting or dropdown selections, reach out to the CDSS FFPS team for assistance: FFPSApreventionservices@dss.ca.gov. To keep a copy of your aggregate data for each reporting period, save a copy of this sheet and "Fidelity Aggregate". These sheets will overwrite whenever you add new data. Reminder: The Required CWS-CARES Fidelity & Outcomes Report are completed every six months. Providers are responsible for uploading their own model fidelity and outcomes documentation via the FFPSA portal in CARES. To prepare the Required CWS-CARES Fidelity & Outcomes Report: 1. For data due in March: Set the reporting period to begin September 01 of the prior year and end February 28th, (29th on leap years) of the current year. 2. For data due in October: Set the reporting period to begin March 01 of the current year and end August 31st, of the current year. 3. Use the numbers in the "Total" "%" column on this spreadsheet for the outcomes on the Required CWS-CARES Fidelity & Outcomes Report.
A2: Outcome Measures
A3: Measure | B3: Indicator | C3: Target | D3: Total | F3: Hispanic | H3: White | J3: Black or African American | L3: Asian | N3: Native Hawaiian or Other Pacific Islander | P3: American Indian or Alaska Native
D4: N | E4: % | F4: N | G4: % | H4: N | I4: % | J4: N | K4: % | L4: N | M4: % | N4: N | O4: % | P4: N | Q4: %
A5: Increased Positive Parenting Practices | B5: % of primary caregivers with children in the target level age range whose caregiver-child interaction was assessed using a validated tool. | C5: 0.9 | D5: =COUNTIF(Table2[Was this child engaged in services during the report period?], "Yes") -> 0 | E5: =IFERROR(COUNTIFS(Table2[Was this child engaged in services during the report period?], "Yes", Table2[Was the caregiver-child interaction assessed using a validated tool?], "Yes")/COUNTIF(Table2[Was this child engaged in services during the report period?], "Yes"), "NA") -> NA | F5: =COUNTIFS(Table2[Was this child engaged in services during the report period?], "Yes", Table2[Child Hispanic or Latino Ethnicity], "Yes") -> 0 | G5: =IFERROR(COUNTIFS(Table2[Was this child engaged in services during the report period?], "Yes", Table2[Child Hispanic or Latino Ethnicity], "Yes", Table2[Was the caregiver-child interaction assessed using a validated tool?], "Yes")/ COUNTIFS(Table2[Was this child engaged in services during the report period?], "Yes", Table2[Child Hispanic or Latino Ethnicity], "Yes"), "NA") -> NA | H5: =COUNTIFS(Table2[Was this child engaged in services during the report period?], "Yes", Table2[Child Race: White], "Yes") -> 0 | I5: =IFERROR(COUNTIFS(Table2[Was this child engaged in services during the report period?], "Yes", Table2[Child Race: White], "Yes", Table2[Was the caregiver-child interaction assessed using a validated tool?], "Yes")/ COUNTIFS(Table2[Was this child engaged in services during the report period?], "Yes", Table2[Child Race: White], "Yes"), "NA") -> NA | J5: =COUNTIFS(Table2[Was this child engaged in services during the report period?], "Yes", Table2[Child Race: Black or African American], "Yes") -> 0 | K5: =IFERROR(COUNTIFS(Table2[Was this child engaged in services during the report period?], "Yes", Table2[Child Race: Black or African American], "Yes", Table2[Was the caregiver-child interaction assessed using a validated tool?], "Yes")/ COUNTIFS(Table2[Was this child engaged in services during the report period?], "Yes", Table2[Child Race: Black or African American], "Yes"), "NA") -> NA | L5: =COUNTIFS(Table2[Was this child engaged in services during the report period?], "Yes", Table2[Child Race: Asian], "Yes") -> 0 | M5: =IFERROR(COUNTIFS(Table2[Was this child engaged in services during the report period?], "Yes", Table2[Child Race: Asian], "Yes", Table2[Was the caregiver-child interaction assessed using a validated tool?], "Yes")/ COUNTIFS(Table2[Was this child engaged in services during the report period?], "Yes", Table2[Child Race: Asian], "Yes"), "NA") -> NA | N5: =COUNTIFS(Table2[Was this child engaged in services during the report period?], "Yes", Table2[Child Race: Native Hawaiian or Other Pacific Islander], "Yes") -> 0 | O5: =IFERROR(COUNTIFS(Table2[Was this child engaged in services during the report period?], "Yes", Table2[Child Race: Native Hawaiian or Other Pacific Islander], "Yes", Table2[Was the caregiver-child interaction assessed using a validated tool?], "Yes")/ COUNTIFS(Table2[Was this child engaged in services during the report period?], "Yes", Table2[Child Race: Native Hawaiian or Other Pacific Islander], "Yes"), "NA") -> NA | P5: =COUNTIFS(Table2[Was this child engaged in services during the report period?], "Yes", Table2[Child Race: American Indian or Alaska Native], "Yes") -> 0 | Q5: =IFERROR(COUNTIFS(Table2[Was this child engaged in services during the report period?], "Yes", Table2[Child Race: American Indian or Alaska Native], "Yes", Table2[Was the caregiver-child interaction assessed using a validated tool?], "Yes")/ COUNTIFS(Table2[Was this child engaged in services during the report period?], "Yes", Table2[Child Race: American Indian or Alaska Native], "Yes"), "NA") -> NA
A6: Improved Pregnancy Outcomes | B6: % of infants (among mothers who enrolled in home visiting prenatally before 37 weeks) who are born preterm following program enrollment.​ | C6: <15% | D6: =COUNTIFS(Table2[Was this child engaged in services during the report period?], "Yes", Table2[Was the child''s mother enrolled in the home visiting program prenatally before 37 weeks? ], "Yes") -> 0 | E6: =IFERROR(COUNTIFS( Table2[Was this child engaged in services during the report period?], "Yes", Table2[Was the child''s mother enrolled in the home visiting program prenatally before 37 weeks? ], "Yes", Table2[If "Yes," was the child born preterm following enrollment in the home visiting program?], "Yes") / COUNTIFS( Table2[Was this child engaged in services during the report period?], "Yes", Table2[Was the child''s mother enrolled in the home visiting program prenatally before 37 weeks? ], "Yes" ),"NA") -> NA | F6: =COUNTIFS(Table2[Was this child engaged in services during the report period?], "Yes", Table2[Child Hispanic or Latino Ethnicity], "Yes", Table2[Was the child''s mother enrolled in the home visiting program prenatally before 37 weeks? ], "Yes") -> 0 | G6: =IFERROR(COUNTIFS( Table2[Was this child engaged in services during the report period?], "Yes", Table2[Child Hispanic or Latino Ethnicity], "Yes", Table2[Was the child''s mother enrolled in the home visiting program prenatally before 37 weeks? ], "Yes", Table2[If "Yes," was the child born preterm following enrollment in the home visiting program?], "Yes") / COUNTIFS( Table2[Child Hispanic or Latino Ethnicity], "Yes", Table2[Was this child engaged in services during the report period?], "Yes", Table2[Was the child''s mother enrolled in the home visiting program prenatally before 37 weeks? ], "Yes" ),"NA") -> NA | H6: =COUNTIFS(Table2[Was this child engaged in services during the report period?], "Yes", Table2[Child Race: White], "Yes", Table2[Was the child''s mother enrolled in the home visiting program prenatally before 37 weeks? ], "Yes") -> 0 | I6: =IFERROR(COUNTIFS( Table2[Was this child engaged in services during the report period?], "Yes", Table2[Child Race: White], "Yes", Table2[Was the child''s mother enrolled in the home visiting program prenatally before 37 weeks? ], "Yes", Table2[If "Yes," was the child born preterm following enrollment in the home visiting program?], "Yes") / COUNTIFS( Table2[Child Race: White], "Yes", Table2[Was this child engaged in services during the report period?], "Yes", Table2[Was the child''s mother enrolled in the home visiting program prenatally before 37 weeks? ], "Yes" ),"NA") -> NA | J6: =COUNTIFS(Table2[Was this child engaged in services during the report period?], "Yes", Table2[Child Race: Black or African American], "Yes", Table2[Was the child''s mother enrolled in the home visiting program prenatally before 37 weeks? ], "Yes") -> 0 | K6: =IFERROR(COUNTIFS( Table2[Was this child engaged in services during the report period?], "Yes", Table2[Child Race: Black or African American], "Yes", Table2[Was the child''s mother enrolled in the home visiting program prenatally before 37 weeks? ], "Yes", Table2[If "Yes," was the child born preterm following enrollment in the home visiting program?], "Yes") / COUNTIFS( Table2[Child Race: Black or African American], "Yes", Table2[Was this child engaged in services during the report period?], "Yes", Table2[Was the child''s mother enrolled in the home visiting program prenatally before 37 weeks? ], "Yes" ),"NA") -> NA | L6: =COUNTIFS(Table2[Was this child engaged in services during the report period?], "Yes", Table2[Child Race: Asian], "Yes", Table2[Was the child''s mother enrolled in the home visiting program prenatally before 37 weeks? ], "Yes") -> 0 | M6: =IFERROR(COUNTIFS( Table2[Was this child engaged in services during the report period?], "Yes", Table2[Child Race: Asian], "Yes", Table2[Was the child''s mother enrolled in the home visiting program prenatally before 37 weeks? ], "Yes", Table2[If "Yes," was the child born preterm following enrollment in the home visiting program?], "Yes") / COUNTIFS( Table2[Child Race: Asian], "Yes", Table2[Was this child engaged in services during the report period?], "Yes", Table2[Was the child''s mother enrolled in the home visiting program prenatally before 37 weeks? ], "Yes" ),"NA") -> NA | N6: =COUNTIFS(Table2[Was this child engaged in services during the report period?], "Yes", Table2[Child Race: Native Hawaiian or Other Pacific Islander], "Yes", Table2[Was the child''s mother enrolled in the home visiting program prenatally before 37 weeks? ], "Yes") -> 0 | O6: =IFERROR(COUNTIFS( Table2[Was this child engaged in services during the report period?], "Yes", Table2[Child Race: Native Hawaiian or Other Pacific Islander], "Yes", Table2[Was the child''s mother enrolled in the home visiting program prenatally before 37 weeks? ], "Yes", Table2[If "Yes," was the child born preterm following enrollment in the home visiting program?], "Yes") / COUNTIFS( Table2[Child Race: Native Hawaiian or Other Pacific Islander], "Yes", Table2[Was this child engaged in services during the report period?], "Yes", Table2[Was the child''s mother enrolled in the home visiting program prenatally before 37 weeks? ], "Yes" ),"NA") -> NA | P6: =COUNTIFS(Table2[Was this child engaged in services during the report period?], "Yes", Table2[Child Race: American Indian or Alaska Native], "Yes", Table2[Was the child''s mother enrolled in the home visiting program prenatally before 37 weeks? ], "Yes") -> 0 | Q6: =IFERROR(COUNTIFS( Table2[Was this child engaged in services during the report period?], "Yes", Table2[Child Race: American Indian or Alaska Native], "Yes", Table2[Was the child''s mother enrolled in the home visiting program prenatally before 37 weeks? ], "Yes", Table2[If "Yes," was the child born preterm following enrollment in the home visiting program?], "Yes") / COUNTIFS( Table2[Child Race: American Indian or Alaska Native], "Yes", Table2[Was this child engaged in services during the report period?], "Yes", Table2[Was the child''s mother enrolled in the home visiting program prenatally before 37 weeks? ], "Yes" ),"NA") -> NA
A7: Improved Child Health & Development | B7: % of children enrolled in home visiting with a timely screen for developmental delays using a validated parent-completed tool. | C7: 0.9 | D7: =COUNTIF(Table2[Was this child engaged in services during the report period?], "Yes") -> 0 | E7: =IFERROR(COUNTIFS(Table2[Was this child engaged in services during the report period?],"Yes", Table2[Did the child receive a timely screen for developmental delays using the Ages & Stages (ASQ-3) at least twice annually (if age birth to 3), or once annually (if older than 3)?],"Yes")/COUNTIF(Table2[Was this child engaged in services during the report period?],"Yes"),"NA") -> NA | F7: =COUNTIFS(Table2[Was this child engaged in services during the report period?],"Yes",Table2[Child Hispanic or Latino Ethnicity],"Yes") -> 0 | G7: =IFERROR(COUNTIFS(Table2[Was this child engaged in services during the report period?],"Yes",Table2[Did the child receive a timely screen for developmental delays using the Ages & Stages (ASQ-3) at least twice annually (if age birth to 3), or once annually (if older than 3)?],"Yes",Table2[Child Hispanic or Latino Ethnicity],"Yes")/COUNTIFS(Table2[Was this child engaged in services during the report period?],"Yes",Table2[Child Hispanic or Latino Ethnicity],"Yes"),"NA") -> NA | H7: =COUNTIFS(Table2[Was this child engaged in services during the report period?],"Yes",Table2[Child Race: White],"Yes") -> 0 | I7: =IFERROR(COUNTIFS(Table2[Was this child engaged in services during the report period?],"Yes",Table2[Did the child receive a timely screen for developmental delays using the Ages & Stages (ASQ-3) at least twice annually (if age birth to 3), or once annually (if older than 3)?],"Yes",Table2[Child Race: White],"Yes")/COUNTIFS(Table2[Was this child engaged in services during the report period?],"Yes",Table2[Child Race: White],"Yes"),"NA") -> NA | J7: =COUNTIFS(Table2[Was this child engaged in services during the report period?],"Yes",Table2[Child Race: Black or African American],"Yes") -> 0 | K7: =IFERROR(COUNTIFS(Table2[Was this child engaged in services during the report period?],"Yes",Table2[Did the child receive a timely screen for developmental delays using the Ages & Stages (ASQ-3) at least twice annually (if age birth to 3), or once annually (if older than 3)?],"Yes",Table2[Child Race: Black or African American],"Yes")/COUNTIFS(Table2[Was this child engaged in services during the report period?],"Yes",Table2[Child Race: Black or African American],"Yes"),"NA") -> NA | L7: =COUNTIFS(Table2[Was this child engaged in services during the report period?],"Yes",Table2[Child Race: Asian],"Yes") -> 0 | M7: =IFERROR(COUNTIFS(Table2[Was this child engaged in services during the report period?],"Yes",Table2[Did the child receive a timely screen for developmental delays using the Ages & Stages (ASQ-3) at least twice annually (if age birth to 3), or once annually (if older than 3)?],"Yes",Table2[Child Race: Asian],"Yes")/COUNTIFS(Table2[Was this child engaged in services during the report period?],"Yes",Table2[Child Race: Asian],"Yes"),"NA") -> NA | N7: =COUNTIFS(Table2[Was this child engaged in services during the report period?],"Yes",Table2[Child Race: Native Hawaiian or Other Pacific Islander],"Yes") -> 0 | O7: =IFERROR(COUNTIFS(Table2[Was this child engaged in services during the report period?],"Yes",Table2[Did the child receive a timely screen for developmental delays using the Ages & Stages (ASQ-3) at least twice annually (if age birth to 3), or once annually (if older than 3)?],"Yes",Table2[Child Race: Native Hawaiian or Other Pacific Islander],"Yes")/COUNTIFS(Table2[Was this child engaged in services during the report period?],"Yes",Table2[Child Race: Native Hawaiian or Other Pacific Islander],"Yes"),"NA") -> NA | P7: =COUNTIFS(Table2[Was this child engaged in services during the report period?],"Yes",Table2[Child Race: American Indian or Alaska Native],"Yes") -> 0 | Q7: =IFERROR(COUNTIFS(Table2[Was this child engaged in services during the report period?],"Yes",Table2[Did the child receive a timely screen for developmental delays using the Ages & Stages (ASQ-3) at least twice annually (if age birth to 3), or once annually (if older than 3)?],"Yes",Table2[Child Race: American Indian or Alaska Native],"Yes")/COUNTIFS(Table2[Was this child engaged in services during the report period?],"Yes",Table2[Child Race: American Indian or Alaska Native],"Yes"),"NA") -> NA
B8: % of children enrolled in home visiting referred for services for a positive screen for developmental delays (measured using a validated tool) who receive services in a timely manner. | C8: 0.9 | D8: =COUNTIFS(Table2[Was this child engaged in services during the report period?],"Yes", Table2[Did the child have a positive screen for developmental delays?],"Yes") -> 0 | E8: =IFERROR(COUNTIFS(Table2[Was this child engaged in services during the report period?],"Yes",Table2[Did the child have a positive screen for developmental delays?],"Yes",Table2[If "Yes, did the child receive services in a timely manner following the screen?],"Yes")/COUNTIFS(Table2[Was this child engaged in services during the report period?],"Yes",Table2[Did the child have a positive screen for developmental delays?],"Yes"),"NA") -> NA | F8: =COUNTIFS(Table2[Was this child engaged in services during the report period?],"Yes",Table2[Did the child have a positive screen for developmental delays?],"Yes",Table2[Child Hispanic or Latino Ethnicity],"Yes") -> 0 | G8: =IFERROR(COUNTIFS(Table2[Was this child engaged in services during the report period?],"Yes",Table2[Did the child have a positive screen for developmental delays?],"Yes",Table2[If "Yes, did the child receive services in a timely manner following the screen?],"Yes", Table2[Child Hispanic or Latino Ethnicity],"Yes")/COUNTIFS(Table2[Was this child engaged in services during the report period?],"Yes",Table2[Did the child have a positive screen for developmental delays?],"Yes",Table2[Child Hispanic or Latino Ethnicity],"Yes"),"NA") -> NA | H8: =COUNTIFS(Table2[Was this child engaged in services during the report period?],"Yes",Table2[Did the child have a positive screen for developmental delays?],"Yes",Table2[Child Race: White],"Yes") -> 0 | I8: =IFERROR(COUNTIFS(Table2[Was this child engaged in services during the report period?],"Yes",Table2[Did the child have a positive screen for developmental delays?],"Yes",Table2[If "Yes, did the child receive services in a timely manner following the screen?],"Yes", Table2[Child Race: White],"Yes")/COUNTIFS(Table2[Was this child engaged in services during the report period?],"Yes",Table2[Did the child have a positive screen for developmental delays?],"Yes",Table2[Child Race: White],"Yes"),"NA") -> NA | J8: =COUNTIFS(Table2[Was this child engaged in services during the report period?],"Yes",Table2[Did the child have a positive screen for developmental delays?],"Yes",Table2[Child Race: Black or African American],"Yes") -> 0 | K8: =IFERROR(COUNTIFS(Table2[Was this child engaged in services during the report period?],"Yes",Table2[Did the child have a positive screen for developmental delays?],"Yes",Table2[If "Yes, did the child receive services in a timely manner following the screen?],"Yes", Table2[Child Race: Black or African American],"Yes")/COUNTIFS(Table2[Was this child engaged in services during the report period?],"Yes",Table2[Did the child have a positive screen for developmental delays?],"Yes",Table2[Child Race: Black or African American],"Yes"),"NA") -> NA | L8: =COUNTIFS(Table2[Was this child engaged in services during the report period?],"Yes",Table2[Did the child have a positive screen for developmental delays?],"Yes",Table2[Child Race: Asian],"Yes") -> 0 | M8: =IFERROR(COUNTIFS(Table2[Was this child engaged in services during the report period?],"Yes",Table2[Did the child have a positive screen for developmental delays?],"Yes",Table2[If "Yes, did the child receive services in a timely manner following the screen?],"Yes", Table2[Child Race: Asian],"Yes")/COUNTIFS(Table2[Was this child engaged in services during the report period?],"Yes",Table2[Did the child have a positive screen for developmental delays?],"Yes",Table2[Child Race: Asian],"Yes"),"NA") -> NA | N8: =COUNTIFS(Table2[Was this child engaged in services during the report period?],"Yes",Table2[Did the child have a positive screen for developmental delays?],"Yes",Table2[Child Race: Native Hawaiian or Other Pacific Islander],"Yes") -> 0 | O8: =IFERROR(COUNTIFS(Table2[Was this child engaged in services during the report period?],"Yes",Table2[Did the child have a positive screen for developmental delays?],"Yes",Table2[If "Yes, did the child receive services in a timely manner following the screen?],"Yes", Table2[Child Race: Native Hawaiian or Other Pacific Islander],"Yes")/COUNTIFS(Table2[Was this child engaged in services during the report period?],"Yes",Table2[Did the child have a positive screen for developmental delays?],"Yes",Table2[Child Race: Native Hawaiian or Other Pacific Islander],"Yes"),"NA") -> NA | P8: =COUNTIFS(Table2[Was this child engaged in services during the report period?],"Yes",Table2[Did the child have a positive screen for developmental delays?],"Yes",Table2[Child Race: American Indian or Alaska Native],"Yes") -> 0 | Q8: =IFERROR(COUNTIFS(Table2[Was this child engaged in services during the report period?],"Yes",Table2[Did the child have a positive screen for developmental delays?],"Yes",Table2[If "Yes, did the child receive services in a timely manner following the screen?],"Yes", Table2[Child Race: American Indian or Alaska Native],"Yes")/COUNTIFS(Table2[Was this child engaged in services during the report period?],"Yes",Table2[Did the child have a positive screen for developmental delays?],"Yes",Table2[Child Race: American Indian or Alaska Native],"Yes"),"NA") -> NA
A9: Improved Caregiver Health | B9: % of primary caregivers enrolled in home visiting for at least three months who were screened for depression within 3 months of enrollment OR 3 months of delivery (for those enrolled prenatally). | C9: 0.8 | D9: =COUNTIFS(Table2[Was this child engaged in services during the report period?], "Yes", Table2[Has the child been enrolled in home visiting for at least 3 months?], "Yes") -> 0 | E9: =IFERROR(COUNTIFS( Table2[Was this child engaged in services during the report period?], "Yes", Table2[Has the child been enrolled in home visiting for at least 3 months?], "Yes", Table2[If "Yes," was the child''s primary caregiver screened for depression within 3 months of enrollment or 3 months of delivery (for those enrolled prenatally)?], "Yes")/ COUNTIFS(Table2[Was this child engaged in services during the report period?], "Yes", Table2[Has the child been enrolled in home visiting for at least 3 months?], "Yes"), "NA") -> NA | F9: =COUNTIFS( Table2[Child Hispanic or Latino Ethnicity], "Yes", Table2[Was this child engaged in services during the report period?], "Yes", Table2[Has the child been enrolled in home visiting for at least 3 months?], "Yes") -> 0 | G9: =IFERROR(COUNTIFS(Table2[Child Hispanic or Latino Ethnicity], "Yes", Table2[Was this child engaged in services during the report period?], "Yes", Table2[Has the child been enrolled in home visiting for at least 3 months?], "Yes", Table2[If "Yes," was the child''s primary caregiver screened for depression within 3 months of enrollment or 3 months of delivery (for those enrolled prenatally)?], "Yes")/ COUNTIFS(Table2[Child Hispanic or Latino Ethnicity], "Yes", Table2[Was this child engaged in services during the report period?], "Yes", Table2[Has the child been enrolled in home visiting for at least 3 months?], "Yes"), "NA") -> NA | H9: =COUNTIFS( Table2[Child Race: White], "Yes", Table2[Was this child engaged in services during the report period?], "Yes", Table2[Has the child been enrolled in home visiting for at least 3 months?], "Yes") -> 0 | I9: =IFERROR(COUNTIFS(Table2[Child Race: White], "Yes", Table2[Was this child engaged in services during the report period?], "Yes", Table2[Has the child been enrolled in home visiting for at least 3 months?], "Yes", Table2[If "Yes," was the child''s primary caregiver screened for depression within 3 months of enrollment or 3 months of delivery (for those enrolled prenatally)?], "Yes")/ COUNTIFS(Table2[Child Race: White], "Yes", Table2[Was this child engaged in services during the report period?], "Yes", Table2[Has the child been enrolled in home visiting for at least 3 months?], "Yes"), "NA") -> NA | J9: =COUNTIFS( Table2[Child Race: Black or African American], "Yes", Table2[Was this child engaged in services during the report period?], "Yes", Table2[Has the child been enrolled in home visiting for at least 3 months?], "Yes") -> 0 | K9: =IFERROR(COUNTIFS(Table2[Child Race: Black or African American], "Yes", Table2[Was this child engaged in services during the report period?], "Yes", Table2[Has the child been enrolled in home visiting for at least 3 months?], "Yes", Table2[If "Yes," was the child''s primary caregiver screened for depression within 3 months of enrollment or 3 months of delivery (for those enrolled prenatally)?], "Yes")/ COUNTIFS(Table2[Child Race: Black or African American], "Yes", Table2[Was this child engaged in services during the report period?], "Yes", Table2[Has the child been enrolled in home visiting for at least 3 months?], "Yes"), "NA") -> NA | L9: =COUNTIFS( Table2[Child Race: Asian], "Yes", Table2[Was this child engaged in services during the report period?], "Yes", Table2[Has the child been enrolled in home visiting for at least 3 months?], "Yes") -> 0 | M9: =IFERROR(COUNTIFS(Table2[Child Race: Asian], "Yes", Table2[Was this child engaged in services during the report period?], "Yes", Table2[Has the child been enrolled in home visiting for at least 3 months?], "Yes", Table2[If "Yes," was the child''s primary caregiver screened for depression within 3 months of enrollment or 3 months of delivery (for those enrolled prenatally)?], "Yes")/ COUNTIFS(Table2[Child Race: Asian], "Yes", Table2[Was this child engaged in services during the report period?], "Yes", Table2[Has the child been enrolled in home visiting for at least 3 months?], "Yes"), "NA") -> NA | N9: =COUNTIFS( Table2[Child Race: Native Hawaiian or Other Pacific Islander], "Yes", Table2[Was this child engaged in services during the report period?], "Yes", Table2[Has the child been enrolled in home visiting for at least 3 months?], "Yes") -> 0 | O9: =IFERROR(COUNTIFS(Table2[Child Race: Native Hawaiian or Other Pacific Islander], "Yes", Table2[Was this child engaged in services during the report period?], "Yes", Table2[Has the child been enrolled in home visiting for at least 3 months?], "Yes", Table2[If "Yes," was the child''s primary caregiver screened for depression within 3 months of enrollment or 3 months of delivery (for those enrolled prenatally)?], "Yes")/ COUNTIFS(Table2[Child Race: Native Hawaiian or Other Pacific Islander], "Yes", Table2[Was this child engaged in services during the report period?], "Yes", Table2[Has the child been enrolled in home visiting for at least 3 months?], "Yes"), "NA") -> NA | P9: =COUNTIFS( Table2[Child Race: American Indian or Alaska Native], "Yes", Table2[Was this child engaged in services during the report period?], "Yes", Table2[Has the child been enrolled in home visiting for at least 3 months?], "Yes") -> 0 | Q9: =IFERROR(COUNTIFS(Table2[Child Race: American Indian or Alaska Native], "Yes", Table2[Was this child engaged in services during the report period?], "Yes", Table2[Has the child been enrolled in home visiting for at least 3 months?], "Yes", Table2[If "Yes," was the child''s primary caregiver screened for depression within 3 months of enrollment or 3 months of delivery (for those enrolled prenatally)?], "Yes")/ COUNTIFS(Table2[Child Race: American Indian or Alaska Native], "Yes", Table2[Was this child engaged in services during the report period?], "Yes", Table2[Has the child been enrolled in home visiting for at least 3 months?], "Yes"), "NA") -> NA
