Workbook
Name HomeVisitorsFilteredList: 'County Names to hide (2)'!$C$2
Name HomeVisitorsFilteredList: #REF!
Name HomeVisitorsFilteredList: 'County Names to hide'!$C$2
Name HV_FilteredList: 'County Names to hide (2)'!$C$2:$C$1001
Name HV_FilteredList: #REF!
Name HV_FilteredList: 'County Names to hide'!$C$2:$C$1000

Sheet Cover_Sheet2
A1: Instructions for Completing the Spreadsheet Each report period, one person from the county or community-based organization should complete row 3 of this cover sheet. Fill in every column. Update the Report Type, month you want the report period to start in, and year you want the report period to start in, each time you report to keep the aggregate outcome and fidelity data accurate. Do not add more rows to this sheet. If you encounter any issues with formatting or dropdown selections, reach out to the CDSS FFPS team for assistance: FFPSApreventionservices@dss.ca.gov. To keep a copy of your aggregate data for each reporting period, save a copy of the "Outcomes Aggregate" and "Fidelity Aggregate" sheets. These sheets will overwrite whenever you add new data. Reminder: The Required CWS-CARES Fidelity & Outcomes Reports are completed every six months. Providers are responsible for uploading their own model fidelity and outcomes documentation via the Provider Portal in CWS-CARES. To prepare the Required CWS-CARES Fidelity & Outcomes Report: 1. For data due in March: Set the reporting period to begin September 01 of the prior year and end February 28th, (29th on leap years) of the current year. 2. For data due in October: Set the reporting period to begin March 01 of the current year and end August 31st, of the current year. Updated October 12, 2026
A2: County | B2: Name of EBP Model | C2: Name of agency providing MST to FFPSA candidates | D2: Name of site providing MST to FFPSA candidates | E2: Report Type | F2: What month do you want the report period to start in? | G2: What year do you want the report period to start in? | H2: Reporting Period Start Date | I2: Reporting Period End Date | J2: Fiscal Year | K2: How many TAM-R were due this report period? | L2: How many of these TAM-R were completed? | M2: What was the average TAM-R adherence score? | N2: Report Completed By | O2: Email Address
A3: Alpine | B3: MST | E3: Quarterly | F3: March | G3: 2026 | H3: =DATE(G3, MONTH(DATEVALUE("1 "&F3)), 1) -> 46082 | I3: {=_xlfn.IFS( E3="Monthly", EOMONTH(H3,0), E3="Quarterly", EOMONTH(H3,2), E3="Biannual", EOMONTH(H3,5), E3="Yearly", EOMONTH(H3,11) )} -> 46173 | J3: 2027

Sheet County Names to hide (2)
A1: Counties | B1: Today's Date | C1: Start of Reporting Period | D1: End of Reporting Period
A2: Alameda | B2: =TODAY() -> 46307 | C2: 46082 | D2: 46173 | E2: =EDATE('County Names to hide (2)'!$C$2,-6) -> 45901
A3: Alpine
A4: Amador
A5: Butte
A6: Calaveras
A7: Colusa
A8: Contra Costa
A9: Del Norte
A10: El Dorado
A11: Fresno
A12: Glenn
A13: Humboldt
A14: Imperial
... A61: Yurok Tribe

Sheet Cover_Sheet
A1: Instructions for Completing the Spreadsheet Each quarter, one person from the county or community-based organization should complete row 3 of this cover sheet. Fill in every column. Update the Report Quarter each time you report to keep the aggregate outcome and fidelity data accurate. Do not add more rows to this sheet. If you encounter any issues with formatting or dropdown selections, reach out to the CDSS FFPS team for assistance: FFPSApreventionservices@dss.ca.gov. To keep a copy of your aggregate data for each quarter, save a copy of the "Outcomes Aggregate" and "Fidelity Aggregate" sheets. These sheets will overwrite whenever you add new data.
A2: County Name | B2: Name of EBP Model | C2: Number of Agencies | D2: Number of Sites | E2: Report Quarter | F2: Fiscal Year | G2: Report Completed By | H2: Email Address
B3: MST | E3: July-September | F3: 2026

Sheet Fidelity
A1: Instructions for Completing the Spreadsheet Please enter all staff names and employment dates here. Use the dropdown menus where provided to ensure consistent responses and hover over cells to view notes for specific guidance on each field. Follow the flow of the spreadsheet, ensuring that cells dependent on a prior answer are completed appropriately. If a cell does not apply based on the answer to the previous cell, leave it blank and move to the next applicable field. Conditional formatting has been applied to some cells. If you encounter any issues with formatting or dropdown selections, reach out to the CDSS FFPS team for assistance: FFPSApreventionservices@dss.ca.gov
A2: Staff Name | B2: Employment Start Date | C2: Employment End Date | D2: Was this staff member employed by your agency during the report period? | E2: Staff Role | F2: Has the therapist been employed by your agency for more than 2 months? | G2: Has the therapist completed the 5-day orientation training and obtained certification in MST? | H2: Has the supervisor completed supervisor orientation training? | I2: Has the therapist participated in quarterly booster training? | J2: Does the therapist have a master’s degree in social work or counseling? | K2: Is the clinician part of a licensed MST program?
D3: =IF(ISBLANK(B3),"",IF(AND(B3<='County Names to hide (2)'!$D$2,IF(ISBLANK(C3),'County Names to hide (2)'!$D$2,C3)>='County Names to hide (2)'!$C$2),"Yes","No")) | F3: =IF(Fidelity!B3="","",IF(DATEDIF(Fidelity!B3,'County Names to hide (2)'!$D$2,"m")>=2,"Yes","No"))
D4: =IF(ISBLANK(B4),"",IF(AND(B4<='County Names to hide (2)'!$D$2,IF(ISBLANK(C4),'County Names to hide (2)'!$D$2,C4)>='County Names to hide (2)'!$C$2),"Yes","No")) | F4: =IF(Fidelity!B4="","",IF(DATEDIF(Fidelity!B4,'County Names to hide (2)'!$D$2,"m")>=2,"Yes","No"))
D5: =IF(ISBLANK(B5),"",IF(AND(B5<='County Names to hide (2)'!$D$2,IF(ISBLANK(C5),'County Names to hide (2)'!$D$2,C5)>='County Names to hide (2)'!$C$2),"Yes","No")) | F5: =IF(Fidelity!B5="","",IF(DATEDIF(Fidelity!B5,'County Names to hide (2)'!$D$2,"m")>=2,"Yes","No"))
D6: =IF(ISBLANK(B6),"",IF(AND(B6<='County Names to hide (2)'!$D$2,IF(ISBLANK(C6),'County Names to hide (2)'!$D$2,C6)>='County Names to hide (2)'!$C$2),"Yes","No")) | F6: =IF(Fidelity!B6="","",IF(DATEDIF(Fidelity!B6,'County Names to hide (2)'!$D$2,"m")>=2,"Yes","No"))
D7: =IF(ISBLANK(B7),"",IF(AND(B7<='County Names to hide (2)'!$D$2,IF(ISBLANK(C7),'County Names to hide (2)'!$D$2,C7)>='County Names to hide (2)'!$C$2),"Yes","No")) | F7: =IF(Fidelity!B7="","",IF(DATEDIF(Fidelity!B7,'County Names to hide (2)'!$D$2,"m")>=2,"Yes","No"))
D8: =IF(ISBLANK(B8),"",IF(AND(B8<='County Names to hide (2)'!$D$2,IF(ISBLANK(C8),'County Names to hide (2)'!$D$2,C8)>='County Names to hide (2)'!$C$2),"Yes","No")) | F8: =IF(Fidelity!B8="","",IF(DATEDIF(Fidelity!B8,'County Names to hide (2)'!$D$2,"m")>=2,"Yes","No"))
D9: =IF(ISBLANK(B9),"",IF(AND(B9<='County Names to hide (2)'!$D$2,IF(ISBLANK(C9),'County Names to hide (2)'!$D$2,C9)>='County Names to hide (2)'!$C$2),"Yes","No")) | F9: =IF(Fidelity!B9="","",IF(DATEDIF(Fidelity!B9,'County Names to hide (2)'!$D$2,"m")>=2,"Yes","No"))
D10: =IF(ISBLANK(B10),"",IF(AND(B10<='County Names to hide (2)'!$D$2,IF(ISBLANK(C10),'County Names to hide (2)'!$D$2,C10)>='County Names to hide (2)'!$C$2),"Yes","No")) | F10: =IF(Fidelity!B10="","",IF(DATEDIF(Fidelity!B10,'County Names to hide (2)'!$D$2,"m")>=2,"Yes","No"))
D11: =IF(ISBLANK(B11),"",IF(AND(B11<='County Names to hide (2)'!$D$2,IF(ISBLANK(C11),'County Names to hide (2)'!$D$2,C11)>='County Names to hide (2)'!$C$2),"Yes","No")) | F11: =IF(Fidelity!B11="","",IF(DATEDIF(Fidelity!B11,'County Names to hide (2)'!$D$2,"m")>=2,"Yes","No"))
D12: =IF(ISBLANK(B12),"",IF(AND(B12<='County Names to hide (2)'!$D$2,IF(ISBLANK(C12),'County Names to hide (2)'!$D$2,C12)>='County Names to hide (2)'!$C$2),"Yes","No")) | F12: =IF(Fidelity!B12="","",IF(DATEDIF(Fidelity!B12,'County Names to hide (2)'!$D$2,"m")>=2,"Yes","No"))
D13: =IF(ISBLANK(B13),"",IF(AND(B13<='County Names to hide (2)'!$D$2,IF(ISBLANK(C13),'County Names to hide (2)'!$D$2,C13)>='County Names to hide (2)'!$C$2),"Yes","No")) | F13: =IF(Fidelity!B13="","",IF(DATEDIF(Fidelity!B13,'County Names to hide (2)'!$D$2,"m")>=2,"Yes","No"))
D14: =IF(ISBLANK(B14),"",IF(AND(B14<='County Names to hide (2)'!$D$2,IF(ISBLANK(C14),'County Names to hide (2)'!$D$2,C14)>='County Names to hide (2)'!$C$2),"Yes","No")) | F14: =IF(Fidelity!B14="","",IF(DATEDIF(Fidelity!B14,'County Names to hide (2)'!$D$2,"m")>=2,"Yes","No"))
... D100: =IF(ISBLANK(B100),"",IF(AND(B100<='County Names to hide (2)'!$D$2,IF(ISBLANK(C100),'County Names to hide (2)'!$D$2,C100)>='County Names to hide (2)'!$C$2),"Yes","No")) | F100: =IF(Fidelity!B100="","",IF(DATEDIF(Fidelity!B100,'County Names to hide (2)'!$D$2,"m")>=2,"Yes","No"))
D101: =IF( AND(ISBLANK(A102), ISBLANK(B102)), "", IF( AND(NOT(ISBLANK(A102)), NOT(ISBLANK(B102)), ISBLANK(C102)), "Yes", IF( B102 > 'County Names to hide'!$D$2, "No", IF(C102 < 'County Names to hide'!$C$2, "No", "Yes") ) ) ) | F101: =IF(Fidelity!B101="","",IF(DATEDIF(Fidelity!B101,'County Names to hide (2)'!$D$2,"m")>=2,"Yes","No"))
D102: =IF( AND(ISBLANK(A103), ISBLANK(B103)), "", IF( AND(NOT(ISBLANK(A103)), NOT(ISBLANK(B103)), ISBLANK(C103)), "Yes", IF( B103 > 'County Names to hide'!$D$2, "No", IF(C103 < 'County Names to hide'!$C$2, "No", "Yes") ) ) ) | F102: =IF(Fidelity!B102="","",IF(DATEDIF(Fidelity!B102,'County Names to hide (2)'!$D$2,"m")>=2,"Yes","No"))
D103: =IF( AND(ISBLANK(A104), ISBLANK(B104)), "", IF( AND(NOT(ISBLANK(A104)), NOT(ISBLANK(B104)), ISBLANK(C104)), "Yes", IF( B104 > 'County Names to hide'!$D$2, "No", IF(C104 < 'County Names to hide'!$C$2, "No", "Yes") ) ) ) | F103: =IF(Fidelity!B103="","",IF(DATEDIF(Fidelity!B103,'County Names to hide (2)'!$D$2,"m")>=2,"Yes","No"))
D104: =IF( AND(ISBLANK(A105), ISBLANK(B105)), "", IF( AND(NOT(ISBLANK(A105)), NOT(ISBLANK(B105)), ISBLANK(C105)), "Yes", IF( B105 > 'County Names to hide'!$D$2, "No", IF(C105 < 'County Names to hide'!$C$2, "No", "Yes") ) ) ) | F104: =IF(Fidelity!B104="","",IF(DATEDIF(Fidelity!B104,'County Names to hide (2)'!$D$2,"m")>=2,"Yes","No"))
D105: =IF( AND(ISBLANK(A106), ISBLANK(B106)), "", IF( AND(NOT(ISBLANK(A106)), NOT(ISBLANK(B106)), ISBLANK(C106)), "Yes", IF( B106 > 'County Names to hide'!$D$2, "No", IF(C106 < 'County Names to hide'!$C$2, "No", "Yes") ) ) ) | F105: =IF(Fidelity!B105="","",IF(DATEDIF(Fidelity!B105,'County Names to hide (2)'!$D$2,"m")>=2,"Yes","No"))
D106: =IF( AND(ISBLANK(A107), ISBLANK(B107)), "", IF( AND(NOT(ISBLANK(A107)), NOT(ISBLANK(B107)), ISBLANK(C107)), "Yes", IF( B107 > 'County Names to hide'!$D$2, "No", IF(C107 < 'County Names to hide'!$C$2, "No", "Yes") ) ) ) | F106: =IF(Fidelity!B106="","",IF(DATEDIF(Fidelity!B106,'County Names to hide (2)'!$D$2,"m")>=2,"Yes","No"))
D107: =IF( AND(ISBLANK(A108), ISBLANK(B108)), "", IF( AND(NOT(ISBLANK(A108)), NOT(ISBLANK(B108)), ISBLANK(C108)), "Yes", IF( B108 > 'County Names to hide'!$D$2, "No", IF(C108 < 'County Names to hide'!$C$2, "No", "Yes") ) ) ) | F107: =IF(Fidelity!B107="","",IF(DATEDIF(Fidelity!B107,'County Names to hide (2)'!$D$2,"m")>=2,"Yes","No"))
D108: =IF( AND(ISBLANK(A109), ISBLANK(B109)), "", IF( AND(NOT(ISBLANK(A109)), NOT(ISBLANK(B109)), ISBLANK(C109)), "Yes", IF( B109 > 'County Names to hide'!$D$2, "No", IF(C109 < 'County Names to hide'!$C$2, "No", "Yes") ) ) ) | F108: =IF(Fidelity!B108="","",IF(DATEDIF(Fidelity!B108,'County Names to hide (2)'!$D$2,"m")>=2,"Yes","No"))
D109: =IF( AND(ISBLANK(A110), ISBLANK(B110)), "", IF( AND(NOT(ISBLANK(A110)), NOT(ISBLANK(B110)), ISBLANK(C110)), "Yes", IF( B110 > 'County Names to hide'!$D$2, "No", IF(C110 < 'County Names to hide'!$C$2, "No", "Yes") ) ) ) | F109: =IF(Fidelity!B109="","",IF(DATEDIF(Fidelity!B109,'County Names to hide (2)'!$D$2,"m")>=2,"Yes","No"))
D110: =IF( AND(ISBLANK(A111), ISBLANK(B111)), "", IF( AND(NOT(ISBLANK(A111)), NOT(ISBLANK(B111)), ISBLANK(C111)), "Yes", IF( B111 > 'County Names to hide'!$D$2, "No", IF(C111 < 'County Names to hide'!$C$2, "No", "Yes") ) ) ) | F110: =IF(Fidelity!B110="","",IF(DATEDIF(Fidelity!B110,'County Names to hide (2)'!$D$2,"m")>=2,"Yes","No"))
D111: =IF( AND(ISBLANK(A112), ISBLANK(B112)), "", IF( AND(NOT(ISBLANK(A112)), NOT(ISBLANK(B112)), ISBLANK(C112)), "Yes", IF( B112 > 'County Names to hide'!$D$2, "No", IF(C112 < 'County Names to hide'!$C$2, "No", "Yes") ) ) ) | F111: =IF(Fidelity!B111="","",IF(DATEDIF(Fidelity!B111,'County Names to hide (2)'!$D$2,"m")>=2,"Yes","No"))
D112: =IF( AND(ISBLANK(A113), ISBLANK(B113)), "", IF( AND(NOT(ISBLANK(A113)), NOT(ISBLANK(B113)), ISBLANK(C113)), "Yes", IF( B113 > 'County Names to hide'!$D$2, "No", IF(C113 < 'County Names to hide'!$C$2, "No", "Yes") ) ) ) | F112: =IF(Fidelity!B112="","",IF(DATEDIF(Fidelity!B112,'County Names to hide (2)'!$D$2,"m")>=2,"Yes","No"))

Sheet Outcomes
A1: Instructions for Completing the Spreadsheet (For Family First Title IV-E children/families only) Use the dropdown menus where provided to ensure consistent responses and hover over cells to view notes for specific guidance on each field. Follow the flow of the spreadsheet, ensuring that cells dependent on a prior answer are completed appropriately. If a cell does not apply based on the answer to the previous cell, leave it blank and move to the next applicable field. Conditional formatting has been applied to some cells. If you encounter any issues with formatting or dropdown selections, reach out to the CDSS FFPS team for assistance: FFPSApreventionservices@dss.ca.gov.
A3: Agency Name: | E3: Site Name:
A4: Child Identifier | M4: Program Start and End Dates
A5: DCFS/Probation Unique Identifier | B5: MST Model Child ID | C5: Child Date of Birth | D5: Child Sex | E5: Child Hispanic or Latino Ethnicity | F5: Child Race: White | G5: Child Race: Black or African American | H5: Child Race: Asian | I5: Child Race: Native Hawaiian or Other Pacific Islander | J5: Child Race: American Indian or Alaska Native | K5: Child Race: Declined | L5: Child Race: Unknown | M5: Program Start Date | N5: Program End Date | O5: Was this youth engaged in services during the report period? | P5: Date Child Specific Prevention Plan Start (Year One) | Q5: Date Child Specific Prevention Plan Ended (Year One) | R5: Date Child Specific Prevention Plan Start (Year Two) | S5: Date Child Specific Prevention Plan Ended (Year Two) | T5: Total Number of Visits (as defined by the MST model) by the End of the Report Quarter | U5: Months Open at End of Report Period | V5: Did this case close during the report period? | W5: At discharge, was the youth still at home? | X5: At discharge, was the youth in school or working? | Y5: At discharge, was the youth not arrested during treatment? | Z5: Did the youth have at least one TAM-R interview? | AA5: Did the youth report adherence above the threshold of 0.61?
L6: =IF(COUNTIF(F6:K6, "Yes")>0, "No", "Yes") -> Yes | O6: =IF(Outcomes!M6="","",IF(AND(Outcomes!M6<='County Names to hide (2)'!$D$2,IF(Outcomes!N6="",'County Names to hide (2)'!$D$2,Outcomes!N6)>='County Names to hide (2)'!$C$2),"Yes","No")) | U6: =IF(Outcomes!M6="","",DATEDIF(Outcomes!M6,'County Names to hide (2)'!$D$2,"m")) | V6: =IF(Outcomes!M6="","",IF(Outcomes!N6="","No",IF(AND(INT(Outcomes!N6)>='County Names to hide (2)'!$C$2,INT(Outcomes!N6)<='County Names to hide (2)'!$D$2),"Yes","No")))
L7: =IF(COUNTIF(F7:K7, "Yes")>0, "No", "Yes") -> Yes | O7: =IF(Outcomes!M7="","",IF(AND(Outcomes!M7<='County Names to hide (2)'!$D$2,IF(Outcomes!N7="",'County Names to hide (2)'!$D$2,Outcomes!N7)>='County Names to hide (2)'!$C$2),"Yes","No")) | U7: =IF(Outcomes!M7="","",DATEDIF(Outcomes!M7,'County Names to hide (2)'!$D$2,"m")) | V7: =IF(Outcomes!M7="","",IF(Outcomes!N7="","No",IF(AND(INT(Outcomes!N7)>='County Names to hide (2)'!$C$2,INT(Outcomes!N7)<='County Names to hide (2)'!$D$2),"Yes","No")))
L8: =IF(COUNTIF(F8:K8, "Yes")>0, "No", "Yes") -> Yes | O8: =IF(Outcomes!M8="","",IF(AND(Outcomes!M8<='County Names to hide (2)'!$D$2,IF(Outcomes!N8="",'County Names to hide (2)'!$D$2,Outcomes!N8)>='County Names to hide (2)'!$C$2),"Yes","No")) | U8: =IF(Outcomes!M8="","",DATEDIF(Outcomes!M8,'County Names to hide (2)'!$D$2,"m")) | V8: =IF(Outcomes!M8="","",IF(Outcomes!N8="","No",IF(AND(INT(Outcomes!N8)>='County Names to hide (2)'!$C$2,INT(Outcomes!N8)<='County Names to hide (2)'!$D$2),"Yes","No")))
L9: =IF(COUNTIF(F9:K9, "Yes")>0, "No", "Yes") -> Yes | O9: =IF(Outcomes!M9="","",IF(AND(Outcomes!M9<='County Names to hide (2)'!$D$2,IF(Outcomes!N9="",'County Names to hide (2)'!$D$2,Outcomes!N9)>='County Names to hide (2)'!$C$2),"Yes","No")) | U9: =IF(Outcomes!M9="","",DATEDIF(Outcomes!M9,'County Names to hide (2)'!$D$2,"m")) | V9: =IF(Outcomes!M9="","",IF(Outcomes!N9="","No",IF(AND(INT(Outcomes!N9)>='County Names to hide (2)'!$C$2,INT(Outcomes!N9)<='County Names to hide (2)'!$D$2),"Yes","No")))
L10: =IF(COUNTIF(F10:K10, "Yes")>0, "No", "Yes") -> Yes | O10: =IF(Outcomes!M10="","",IF(AND(Outcomes!M10<='County Names to hide (2)'!$D$2,IF(Outcomes!N10="",'County Names to hide (2)'!$D$2,Outcomes!N10)>='County Names to hide (2)'!$C$2),"Yes","No")) | U10: =IF(Outcomes!M10="","",DATEDIF(Outcomes!M10,'County Names to hide (2)'!$D$2,"m")) | V10: =IF(Outcomes!M10="","",IF(Outcomes!N10="","No",IF(AND(INT(Outcomes!N10)>='County Names to hide (2)'!$C$2,INT(Outcomes!N10)<='County Names to hide (2)'!$D$2),"Yes","No")))
L11: =IF(COUNTIF(F11:K11, "Yes")>0, "No", "Yes") -> Yes | O11: =IF(Outcomes!M11="","",IF(AND(Outcomes!M11<='County Names to hide (2)'!$D$2,IF(Outcomes!N11="",'County Names to hide (2)'!$D$2,Outcomes!N11)>='County Names to hide (2)'!$C$2),"Yes","No")) | U11: =IF(Outcomes!M11="","",DATEDIF(Outcomes!M11,'County Names to hide (2)'!$D$2,"m")) | V11: =IF(Outcomes!M11="","",IF(Outcomes!N11="","No",IF(AND(INT(Outcomes!N11)>='County Names to hide (2)'!$C$2,INT(Outcomes!N11)<='County Names to hide (2)'!$D$2),"Yes","No")))
L12: =IF(COUNTIF(F12:K12, "Yes")>0, "No", "Yes") -> Yes | O12: =IF(Outcomes!M12="","",IF(AND(Outcomes!M12<='County Names to hide (2)'!$D$2,IF(Outcomes!N12="",'County Names to hide (2)'!$D$2,Outcomes!N12)>='County Names to hide (2)'!$C$2),"Yes","No")) | U12: =IF(Outcomes!M12="","",DATEDIF(Outcomes!M12,'County Names to hide (2)'!$D$2,"m")) | V12: =IF(Outcomes!M12="","",IF(Outcomes!N12="","No",IF(AND(INT(Outcomes!N12)>='County Names to hide (2)'!$C$2,INT(Outcomes!N12)<='County Names to hide (2)'!$D$2),"Yes","No")))
L13: =IF(COUNTIF(F13:K13, "Yes")>0, "No", "Yes") -> Yes | O13: =IF(Outcomes!M13="","",IF(AND(Outcomes!M13<='County Names to hide (2)'!$D$2,IF(Outcomes!N13="",'County Names to hide (2)'!$D$2,Outcomes!N13)>='County Names to hide (2)'!$C$2),"Yes","No")) | U13: =IF(Outcomes!M13="","",DATEDIF(Outcomes!M13,'County Names to hide (2)'!$D$2,"m")) | V13: =IF(Outcomes!M13="","",IF(Outcomes!N13="","No",IF(AND(INT(Outcomes!N13)>='County Names to hide (2)'!$C$2,INT(Outcomes!N13)<='County Names to hide (2)'!$D$2),"Yes","No")))
L14: =IF(COUNTIF(F14:K14, "Yes")>0, "No", "Yes") -> Yes | O14: =IF(Outcomes!M14="","",IF(AND(Outcomes!M14<='County Names to hide (2)'!$D$2,IF(Outcomes!N14="",'County Names to hide (2)'!$D$2,Outcomes!N14)>='County Names to hide (2)'!$C$2),"Yes","No")) | U14: =IF(Outcomes!M14="","",DATEDIF(Outcomes!M14,'County Names to hide (2)'!$D$2,"m")) | V14: =IF(Outcomes!M14="","",IF(Outcomes!N14="","No",IF(AND(INT(Outcomes!N14)>='County Names to hide (2)'!$C$2,INT(Outcomes!N14)<='County Names to hide (2)'!$D$2),"Yes","No")))
L15: =IF(COUNTIF(F15:K15, "Yes")>0, "No", "Yes") -> Yes | O15: =IF(Outcomes!M15="","",IF(AND(Outcomes!M15<='County Names to hide (2)'!$D$2,IF(Outcomes!N15="",'County Names to hide (2)'!$D$2,Outcomes!N15)>='County Names to hide (2)'!$C$2),"Yes","No")) | U15: =IF(Outcomes!M15="","",DATEDIF(Outcomes!M15,'County Names to hide (2)'!$D$2,"m")) | V15: =IF(Outcomes!M15="","",IF(Outcomes!N15="","No",IF(AND(INT(Outcomes!N15)>='County Names to hide (2)'!$C$2,INT(Outcomes!N15)<='County Names to hide (2)'!$D$2),"Yes","No")))
L16: =IF(COUNTIF(F16:K16, "Yes")>0, "No", "Yes") -> Yes | O16: =IF(Outcomes!M16="","",IF(AND(Outcomes!M16<='County Names to hide (2)'!$D$2,IF(Outcomes!N16="",'County Names to hide (2)'!$D$2,Outcomes!N16)>='County Names to hide (2)'!$C$2),"Yes","No")) | U16: =IF(Outcomes!M16="","",DATEDIF(Outcomes!M16,'County Names to hide (2)'!$D$2,"m")) | V16: =IF(Outcomes!M16="","",IF(Outcomes!N16="","No",IF(AND(INT(Outcomes!N16)>='County Names to hide (2)'!$C$2,INT(Outcomes!N16)<='County Names to hide (2)'!$D$2),"Yes","No")))
L17: =IF(COUNTIF(F17:K17, "Yes")>0, "No", "Yes") -> Yes | O17: =IF(Outcomes!M17="","",IF(AND(Outcomes!M17<='County Names to hide (2)'!$D$2,IF(Outcomes!N17="",'County Names to hide (2)'!$D$2,Outcomes!N17)>='County Names to hide (2)'!$C$2),"Yes","No")) | U17: =IF(Outcomes!M17="","",DATEDIF(Outcomes!M17,'County Names to hide (2)'!$D$2,"m")) | V17: =IF(Outcomes!M17="","",IF(Outcomes!N17="","No",IF(AND(INT(Outcomes!N17)>='County Names to hide (2)'!$C$2,INT(Outcomes!N17)<='County Names to hide (2)'!$D$2),"Yes","No")))
... L500: =IF(COUNTIF(F500:K500, "Yes")>0, "No", "Yes") -> Yes | O500: =IF(Outcomes!M500="","",IF(AND(Outcomes!M500<='County Names to hide (2)'!$D$2,IF(Outcomes!N500="",'County Names to hide (2)'!$D$2,Outcomes!N500)>='County Names to hide (2)'!$C$2),"Yes","No")) | U500: =IF(Outcomes!M500="","",DATEDIF(Outcomes!M500,'County Names to hide (2)'!$D$2,"m")) | V500: =IF(Outcomes!M500="","",IF(Outcomes!N500="","No",IF(AND(INT(Outcomes!N500)>='County Names to hide (2)'!$C$2,INT(Outcomes!N500)<='County Names to hide (2)'!$D$2),"Yes","No")))

Sheet Fidelity Aggregate
A1: This sheet will populate automatically based on the data entered in the "Fidelity" spreadsheet. Be sure to choose the correct reporting period on the Cover Sheet tab. If you encounter any issues with formatting or dropdown selections, reach out to the CDSS FFPS team for assistance: FFPSApreventionservices@dss.ca.gov. To keep a copy of your aggregate fidelity data for each reporting period, save a copy of this sheet and "Outcomes_Aggregate". These sheets will overwrite whenever you add new data. Reminder: The Required CWS-CARES Fidelity & Outcomes Reports are completed every six months. Providers are responsible for uploading their own model fidelity and outcomes documentation via the Provider Portal in CWS-CARES. The purveyor will report the items highlighted in purple below. To prepare the Required CWS-CARES Fidelity & Outcomes Report: 1. For data due in March: Set the reporting period to begin September 01 of the prior year and end February 28th, (29th on leap years) of the current year. 2. For data due in October: Set the reporting period to begin March 01 of the current year and end August 31st, of the current year. 3. Use the numbers in the "Percent" columns on this spreadsheet for the outcomes on the biannual template.
A2: Fidelity Measures
A3: Measure | B3: Indicator | C3: Target | D3: N | E3: Percent
A4: Provider Received & Maintained Required Training | B4: % of therapists who have been working more than 2 months who complete the 5-day orientation training and obtain certification in MST. | C4: 1 | D4: =COUNTIFS(Table1[Was this staff member employed by your agency during the report period? ], "Yes", Table1[Staff Role], "Therapist", Table1[Has the therapist been employed by your agency for more than 2 months?], "Yes") -> 0 | E4: =IFERROR(COUNTIFS(Table1[Was this staff member employed by your agency during the report period? ], "Yes", Table1[Staff Role], "Therapist", Table1[Has the therapist been employed by your agency for more than 2 months?], "Yes", Table1[Has the therapist completed the 5-day orientation training and obtained certification in MST?], "Yes")/ COUNTIFS(Table1[Was this staff member employed by your agency during the report period? ], "Yes", Table1[Staff Role], "Therapist", Table1[Has the therapist been employed by your agency for more than 2 months?], "Yes"), "NA") -> NA
B5: % of supervisors who complete supervisor orientation training. | C5: 1 | D5: =COUNTIFS(Table1[Was this staff member employed by your agency during the report period? ], "Yes", Table1[Staff Role], "Supervisor") -> 0 | E5: =IFERROR(COUNTIFS(Table1[Was this staff member employed by your agency during the report period? ], "Yes", Table1[Staff Role], "Supervisor", Table1[Has the supervisor completed supervisor orientation training?], "Yes")/ COUNTIFS(Table1[Was this staff member employed by your agency during the report period? ], "Yes", Table1[Staff Role], "Supervisor"), "NA") -> NA
B6: % of therapists who participate in quarterly booster training. | C6: 1 | D6: =COUNTIFS(Table1[Was this staff member employed by your agency during the report period? ], "Yes", Table1[Staff Role], "Therapist") -> 0 | E6: =IFERROR(COUNTIFS(Table1[Was this staff member employed by your agency during the report period? ], "Yes", Table1[Staff Role], "Therapist", Table1[Has the therapist participated in quarterly booster training?], "Yes")/ COUNTIFS(Table1[Was this staff member employed by your agency during the report period? ], "Yes", Table1[Staff Role], "Therapist"), "NA") -> NA
A7: Provider Meets Staffing Qualification Requirements | B7: % of therapists that have a master's degree in social work or counseling. | C7: 0.66 | D7: =COUNTIFS(Table1[Was this staff member employed by your agency during the report period? ], "Yes", Table1[Staff Role], "Therapist") -> 0 | E7: =IFERROR(COUNTIFS(Table1[Was this staff member employed by your agency during the report period? ], "Yes", Table1[Staff Role], "Therapist", Table1[Does the therapist have a master’s degree in social work or counseling?], "Yes")/ COUNTIFS(Table1[Was this staff member employed by your agency during the report period? ], "Yes", Table1[Staff Role], "Therapist"), "NA") -> NA
B8: % of clinicians who are part of a licensed MST program. | C8: 1 | D8: =COUNTIFS(Table1[Was this staff member employed by your agency during the report period? ], "Yes", Table1[Staff Role], "Therapist") -> 0 | E8: =IFERROR(COUNTIFS(Table1[Was this staff member employed by your agency during the report period? ], "Yes", Table1[Staff Role], "Therapist", Table1[Is the clinician part of a licensed MST program?], "Yes")/ COUNTIFS(Table1[Was this staff member employed by your agency during the report period? ], "Yes", Table1[Staff Role], "Therapist"), "NA") -> NA
A9: Completion of the Therapist Adherence Measure Revised (TAM-R) | B9: % of TAM-R due that are completed. | C9: 0.7 | D9: =Cover_Sheet2!$K$3 -> 0 | E9: =IFERROR(Cover_Sheet2!$L$3/Cover_Sheet2!$K$3,"NA") -> NA
B10: % of youth with at least one TAM-R interview. | C10: 1 | D10: =COUNTIFS(Table2[Was this youth engaged in services during the report period?], "Yes", Table2[Months Open at End of Report Period], ">.5") -> 0 | E10: =IFERROR(COUNTIFS(Table2[Was this youth engaged in services during the report period?], "Yes", Table2[Months Open at End of Report Period], ">.5", Table2[Did the youth have at least one TAM-R interview?], "Yes")/ COUNTIFS(Table2[Was this youth engaged in services during the report period?], "Yes", Table2[Months Open at End of Report Period], ">.5"), "NA") -> NA
B11: Overall average TAM-R adherence score. | C11: 0.61 | D11: =Cover_Sheet2!$M$3 -> 0 | E11: NA
B12: % of youth reporting adherence above the threshold of 0.61. | C12: 0.8 | D12: =COUNTIFS(Table2[Was this youth engaged in services during the report period?], "Yes", Table2[Months Open at End of Report Period], ">.5") -> 0 | E12: =IFERROR(COUNTIFS(Table2[Was this youth engaged in services during the report period?], "Yes", Table2[Months Open at End of Report Period], ">.5", Table2[Did the youth report adherence above the threshold of 0.61?], "Yes")/ COUNTIFS(Table2[Was this youth engaged in services during the report period?], "Yes", Table2[Months Open at End of Report Period], ">.5"), "NA") -> NA

Sheet Outcomes Aggregate
A1: This sheet will populate automatically based on the data entered in the "Outcomes" spreadsheet. Be sure to choose the correct reporting period on the Cover Sheet tab. Please review the notes in the "N" columns which describe who the N refers to. If you encounter any issues with formatting or dropdown selections, reach out to the CDSS FFPS team for assistance: FFPSApreventionservices@dss.ca.gov. To keep a copy of your aggregate data for each reporting period, save a copy of this sheet and "Fidelity Aggregate". These sheets will overwrite whenever you add new data. Reminder: The Required CWS-CARES Fidelity & Outcomes Reports are completed every six months. Providers are responsible for uploading their own model fidelity and outcomes documentation via the Provider Portal in CWS-CARES. To prepare the Required CWS-CARES Fidelity & Outcomes Report: 1. For data due in March: Set the reporting period to begin September 01 of the prior year and end February 28th, (29th on leap years) of the current year. 2. For data due in October: Set the reporting period to begin March 01 of the current year and end August 31st, of the current year. 3. Use the numbers in the "Total" columns on this spreadsheet for the outcomes on the biannual template.
A2: Outcome Measures
A3: Measure | B3: Indicator | C3: Target | D3: Total | F3: Hispanic | H3: White | J3: Black or African American | L3: Asian | N3: Native Hawaiian or Other Pacific Islander | P3: American Indian or Alaska Native
D4: N | E4: % | F4: N | G4: % | H4: N | I4: % | J4: N | K4: % | L4: N | M4: % | N4: N | O4: % | P4: N | Q4: %
A5: Maintain Family Stability | B5: At discharge, % of youth still at home. | C5: 0.9 | D5: =COUNTIF(Table2[Did this case close during the report period?], "Yes") -> 0 | E5: =IFERROR(COUNTIFS(Table2[Did this case close during the report period?], "Yes", Table2[At discharge, was the youth still at home?], "Yes")/ COUNTIF(Table2[Did this case close during the report period?], "Yes"), "NA") -> NA | F5: =COUNTIFS(Table2[Did this case close during the report period?], "Yes", Table2[Child Hispanic or Latino Ethnicity], "Yes") -> 0 | G5: =IFERROR(COUNTIFS(Table2[Did this case close during the report period?], "Yes", Table2[Child Hispanic or Latino Ethnicity], "Yes", Table2[At discharge, was the youth still at home?], "Yes")/ COUNTIFS(Table2[Did this case close during the report period?], "Yes", Table2[Child Hispanic or Latino Ethnicity], "Yes"), "NA") -> NA | H5: =COUNTIFS(Table2[Did this case close during the report period?], "Yes", Table2[Child Race: White], "Yes") -> 0 | I5: =IFERROR(COUNTIFS(Table2[Did this case close during the report period?], "Yes", Table2[Child Race: White], "Yes", Table2[At discharge, was the youth still at home?], "Yes")/ COUNTIFS(Table2[Did this case close during the report period?], "Yes", Table2[Child Race: White], "Yes"), "NA") -> NA | J5: =COUNTIFS(Table2[Did this case close during the report period?], "Yes", Table2[Child Race: Black or African American], "Yes") -> 0 | K5: =IFERROR(COUNTIFS(Table2[Did this case close during the report period?], "Yes", Table2[Child Race: Black or African American], "Yes", Table2[At discharge, was the youth still at home?], "Yes")/ COUNTIFS(Table2[Did this case close during the report period?], "Yes", Table2[Child Race: Black or African American], "Yes"), "NA") -> NA | L5: =COUNTIFS(Table2[Did this case close during the report period?], "Yes", Table2[Child Race: Asian], "Yes") -> 0 | M5: =IFERROR(COUNTIFS(Table2[Did this case close during the report period?], "Yes", Table2[Child Race: Asian], "Yes", Table2[At discharge, was the youth still at home?], "Yes")/ COUNTIFS(Table2[Did this case close during the report period?], "Yes", Table2[Child Race: Asian], "Yes"), "NA") -> NA | N5: =COUNTIFS(Table2[Did this case close during the report period?], "Yes", Table2[Child Race: Native Hawaiian or Other Pacific Islander], "Yes") -> 0 | O5: =IFERROR(COUNTIFS(Table2[Did this case close during the report period?], "Yes", Table2[Child Race: Native Hawaiian or Other Pacific Islander], "Yes", Table2[At discharge, was the youth still at home?], "Yes")/ COUNTIFS(Table2[Did this case close during the report period?], "Yes", Table2[Child Race: Native Hawaiian or Other Pacific Islander], "Yes"), "NA") -> NA | P5: =COUNTIFS(Table2[Did this case close during the report period?], "Yes", Table2[Child Race: American Indian or Alaska Native], "Yes") -> 0 | Q5: =IFERROR(COUNTIFS(Table2[Did this case close during the report period?], "Yes", Table2[Child Race: American Indian or Alaska Native], "Yes", Table2[At discharge, was the youth still at home?], "Yes")/ COUNTIFS(Table2[Did this case close during the report period?], "Yes", Table2[Child Race: American Indian or Alaska Native], "Yes"), "NA") -> NA
A6: Maintain Educational & Vocational Involvement | B6: At discharge, % of youth in school or working. | C6: 0.9 | D6: =COUNTIF(Table2[Did this case close during the report period?], "Yes") -> 0 | E6: =IFERROR(COUNTIFS(Table2[Did this case close during the report period?], "Yes", Table2[At discharge, was the youth in school or working?], "Yes")/ COUNTIF(Table2[Did this case close during the report period?], "Yes"), "NA") -> NA | F6: =COUNTIFS(Table2[Did this case close during the report period?], "Yes", Table2[Child Hispanic or Latino Ethnicity], "Yes") -> 0 | G6: =IFERROR(COUNTIFS(Table2[Did this case close during the report period?], "Yes", Table2[Child Hispanic or Latino Ethnicity], "Yes", Table2[At discharge, was the youth in school or working?], "Yes")/ COUNTIFS(Table2[Did this case close during the report period?], "Yes", Table2[Child Hispanic or Latino Ethnicity], "Yes"), "NA") -> NA | H6: =COUNTIFS(Table2[Did this case close during the report period?], "Yes", Table2[Child Race: White], "Yes") -> 0 | I6: =IFERROR(COUNTIFS(Table2[Did this case close during the report period?], "Yes", Table2[Child Race: White], "Yes", Table2[At discharge, was the youth in school or working?], "Yes")/ COUNTIFS(Table2[Did this case close during the report period?], "Yes", Table2[Child Race: White], "Yes"), "NA") -> NA | J6: =COUNTIFS(Table2[Did this case close during the report period?], "Yes", Table2[Child Race: Black or African American], "Yes") -> 0 | K6: =IFERROR(COUNTIFS(Table2[Did this case close during the report period?], "Yes", Table2[Child Race: Black or African American], "Yes", Table2[At discharge, was the youth in school or working?], "Yes")/ COUNTIFS(Table2[Did this case close during the report period?], "Yes", Table2[Child Race: Black or African American], "Yes"), "NA") -> NA | L6: =COUNTIFS(Table2[Did this case close during the report period?], "Yes", Table2[Child Race: Asian], "Yes") -> 0 | M6: =IFERROR(COUNTIFS(Table2[Did this case close during the report period?], "Yes", Table2[Child Race: Asian], "Yes", Table2[At discharge, was the youth in school or working?], "Yes")/ COUNTIFS(Table2[Did this case close during the report period?], "Yes", Table2[Child Race: Asian], "Yes"), "NA") -> NA | N6: =COUNTIFS(Table2[Did this case close during the report period?], "Yes", Table2[Child Race: Native Hawaiian or Other Pacific Islander], "Yes") -> 0 | O6: =IFERROR(COUNTIFS(Table2[Did this case close during the report period?], "Yes", Table2[Child Race: Native Hawaiian or Other Pacific Islander], "Yes", Table2[At discharge, was the youth in school or working?], "Yes")/ COUNTIFS(Table2[Did this case close during the report period?], "Yes", Table2[Child Race: Native Hawaiian or Other Pacific Islander], "Yes"), "NA") -> NA | P6: =COUNTIFS(Table2[Did this case close during the report period?], "Yes", Table2[Child Race: American Indian or Alaska Native], "Yes") -> 0 | Q6: =IFERROR(COUNTIFS(Table2[Did this case close during the report period?], "Yes", Table2[Child Race: American Indian or Alaska Native], "Yes", Table2[At discharge, was the youth in school or working?], "Yes")/ COUNTIFS(Table2[Did this case close during the report period?], "Yes", Table2[Child Race: Native Hawaiian or Other Pacific Islander], "Yes"), "NA") -> NA
A7: Reduce Arrests | B7: At discharge, % of youth not arrested during treatment. | C7: 0.9 | D7: =COUNTIF(Table2[Did this case close during the report period?], "Yes") -> 0 | E7: =IFERROR(COUNTIFS(Table2[Did this case close during the report period?], "Yes", Table2[At discharge, was the youth not arrested during treatment?], "Yes")/ COUNTIF(Table2[Did this case close during the report period?], "Yes"), "NA") -> NA | F7: =COUNTIFS(Table2[Did this case close during the report period?], "Yes", Table2[Child Hispanic or Latino Ethnicity], "Yes") -> 0 | G7: =IFERROR(COUNTIFS(Table2[Did this case close during the report period?], "Yes", Table2[Child Hispanic or Latino Ethnicity], "Yes", Table2[At discharge, was the youth not arrested during treatment?], "Yes")/ COUNTIFS(Table2[Did this case close during the report period?], "Yes", Table2[Child Hispanic or Latino Ethnicity], "Yes"), "NA") -> NA | H7: =COUNTIFS(Table2[Did this case close during the report period?], "Yes", Table2[Child Race: White], "Yes") -> 0 | I7: =IFERROR(COUNTIFS(Table2[Did this case close during the report period?], "Yes", Table2[Child Race: White], "Yes", Table2[At discharge, was the youth not arrested during treatment?], "Yes")/ COUNTIFS(Table2[Did this case close during the report period?], "Yes", Table2[Child Race: White], "Yes"), "NA") -> NA | J7: =COUNTIFS(Table2[Did this case close during the report period?], "Yes", Table2[Child Race: Black or African American], "Yes") -> 0 | K7: =IFERROR(COUNTIFS(Table2[Did this case close during the report period?], "Yes", Table2[Child Race: Black or African American], "Yes", Table2[At discharge, was the youth not arrested during treatment?], "Yes")/ COUNTIFS(Table2[Did this case close during the report period?], "Yes", Table2[Child Race: Black or African American], "Yes"), "NA") -> NA | L7: =COUNTIFS(Table2[Did this case close during the report period?], "Yes", Table2[Child Race: Asian], "Yes") -> 0 | M7: =IFERROR(COUNTIFS(Table2[Did this case close during the report period?], "Yes", Table2[Child Race: Asian], "Yes", Table2[At discharge, was the youth not arrested during treatment?], "Yes")/ COUNTIFS(Table2[Did this case close during the report period?], "Yes", Table2[Child Race: Asian], "Yes"), "NA") -> NA | N7: =COUNTIFS(Table2[Did this case close during the report period?], "Yes", Table2[Child Race: Native Hawaiian or Other Pacific Islander], "Yes") -> 0 | O7: =IFERROR(COUNTIFS(Table2[Did this case close during the report period?], "Yes", Table2[Child Race: Native Hawaiian or Other Pacific Islander], "Yes", Table2[At discharge, was the youth not arrested during treatment?], "Yes")/ COUNTIFS(Table2[Did this case close during the report period?], "Yes", Table2[Child Race: Native Hawaiian or Other Pacific Islander], "Yes"), "NA") -> NA | P7: =COUNTIFS(Table2[Did this case close during the report period?], "Yes", Table2[Child Race: American Indian or Alaska Native], "Yes") -> 0 | Q7: =IFERROR(COUNTIFS(Table2[Did this case close during the report period?], "Yes", Table2[Child Race: American Indian or Alaska Native], "Yes", Table2[At discharge, was the youth not arrested during treatment?], "Yes")/ COUNTIFS(Table2[Did this case close during the report period?], "Yes", Table2[Child Race: American Indian or Alaska Native], "Yes"), "NA") -> NA

Sheet County Names to hide
A1: Counties | B1: Today's Date | C1: Start of Quarter | D1: End of Quarter
A2: Alameda | B2: =TODAY() -> 46307 | C2: =DATE(Cover_Sheet!$F3, CHOOSE(MATCH(Cover_Sheet!$E3, {"January-March","April-June","July-September","October-December"}, 0), 1, 4, 7, 10), 1) -> 46204 | D2: =EOMONTH(DATE(Cover_Sheet!$F3, CHOOSE(MATCH(Cover_Sheet!$E3, {"January-March","April-June","July-September","October-December"}, 0), 3, 6, 9, 12), 1), 0) -> 46295
A3: Alpine
A4: Amador
A5: Butte
A6: Calaveras
A7: Colusa
A8: Contra Costa
A9: Del Norte
A10: El Dorado
A11: Fresno
A12: Glenn
A13: Humboldt
A14: Imperial
... A59: Yuba
