Workbook
Name HomeVisitorsFilteredList: 'County Names to hide (2)'!$C$2
Name HomeVisitorsFilteredList: #REF!
Name HomeVisitorsFilteredList: 'County Names to hide'!$C$2
Name HV_FilteredList: 'County Names to hide (2)'!$C$2:$C$1001
Name HV_FilteredList: #REF!
Name HV_FilteredList: 'County Names to hide'!$C$2:$C$1000

Sheet Cover_Sheet2
A1: Instructions for Completing the Spreadsheet Each report period, one person from the county or community-based organization should complete row 3 of this cover sheet. Fill in every column. Update the Report Type, month you want the report period to start in, and year you want the report period to start in, each time you report to keep the aggregate outcome and fidelity data accurate. Do not add more rows to this sheet. If you encounter any issues with formatting or dropdown selections, reach out to the CDSS FFPS team for assistance: FFPSApreventionservices@dss.ca.gov. To keep a copy of your aggregate data for each reporting period, save a copy of the "Outcomes Aggregate", and "Fidelity Aggregate" sheets. These sheets will overwrite whenever you add new data. Please use your most recent Performance Measures Report and the Annual Performance Report to complete the Required CWS-CARES Fidelity and Outcomes Report which is due annually in October, beginning October 2027. This PAT Optional Fidelity and Outcomes Template can be used to review aggregate data on a monthly, quarterly, biannual, or annual basis. It is designed to support continuous quality improvement (CQI) work in county-level CQI teams and regional PCC sessions. Updated: October 12, 2026
A2: County Name | B2: Name of EBP Model | C2: Name of agency providing PAT to FFPSA candidates | D2: Name of site providing PAT to FFPSA candidates | E2: Report Type | F2: What month do you want the report period to start in? | G2: What year do you want the report period to start in? | H2: Reporting Period Start Date | I2: Reporting Period End Date | J2: Fiscal Year | K2: Is the APR/PMR overdue? | L2: Did the affiliate receive a score of ≥60% or pass on all 21 items in the most recent Affiliate Performance Report (APR)? | M2: Does this affiliate use one of the PAT approved developmental screening tools? | N2: Report Completed By | O2: Email Address
A3: Alameda | B3: PAT | E3: Quarterly | F3: March | G3: 2026 | H3: =DATE(G3, MONTH(DATEVALUE("1 "&F3)), 1) -> 46082 | I3: {=_xlfn.IFS( E3="Monthly", EOMONTH(H3,0), E3="Quarterly", EOMONTH(H3,2), E3="Biannual", EOMONTH(H3,5), E3="Yearly", EOMONTH(H3,11) )} -> 46173 | J3: 2027

Sheet County Names to hide (2)
A1: Counties | B1: Today's Date | C1: Start of Reporting Period | D1: End of Reporting Period
A2: Alameda | B2: =TODAY() -> 46307 | C2: =Cover_Sheet2!$H3 -> 46082 | D2: =Cover_Sheet2!$I3 -> 46173 | E2: =EDATE('County Names to hide (2)'!$C$2,-6) -> 45901
A3: Alpine
A4: Amador
A5: Butte
A6: Calaveras
A7: Colusa
A8: Contra Costa
A9: Del Norte
A10: El Dorado
A11: Fresno
A12: Glenn
A13: Humboldt
A14: Imperial
... A61: Yurok Tribe

Sheet Fidelity
A1: Instructions for Completing the Spreadsheet Please enter all staff names and employment dates here. Use the dropdown menus where provided to ensure consistent responses and hover over cells to view notes for specific guidance on each field. Follow the flow of the spreadsheet, ensuring that cells dependent on a prior answer are completed appropriately. If a cell does not apply based on the answer to the previous cell, leave it blank and move to the next applicable field. Conditional formatting has been applied to some cells. If you encounter any issues with formatting or dropdown selections, reach out to the CDSS FFPS team for assistance: FFPSApreventionservices@dss.ca.gov
A9: Agency Name: | E9: Site Name:
A10: Fidelity | H10: Parent Educators Received and Maintained Required Training | J10: Supervisors Received and Maintained Required Training
A11: Home Visiting Staff First Name | B11: Home Visiting Staff Last Name | C11: Employment Start Date | D11: Employment End Date | E11: Was the Home Visiting staff employed by your agency during the reporting period? | F11: Role of the Home Visiting staff | G11: Indicate if the Home Visiting staff member is Full-Time (FT) or Part-Time (PT) | H11: Has the Parent Educator attended the required PAT trainings before delivering PAT services? | I11: Does the Parent Educator who is delivering the model services for the affiliate have a current Model Certified subscription? | J11: Has the new supervisor attended the required PAT trainings before delivering PAT services? | K11: Does the supervisor who is delivering services for the affiliate have a current Model Certified subscription?
E12: =IF(OR(A12="", C12=""), "", IF(AND( C12 <= 'County Names to hide (2)'!$D$2, OR(D12="", D12 >= 'County Names to hide (2)'!$C$2) ), "Yes", "No" ) )
E13: =IF(OR(A13="", C13=""), "", IF(AND( C13 <= 'County Names to hide (2)'!$D$2, OR(D13="", D13 >= 'County Names to hide (2)'!$C$2) ), "Yes", "No" ) )
E14: =IF(OR(A14="", C14=""), "", IF(AND( C14 <= 'County Names to hide (2)'!$D$2, OR(D14="", D14 >= 'County Names to hide (2)'!$C$2) ), "Yes", "No" ) )
E15: =IF(OR(A15="", C15=""), "", IF(AND( C15 <= 'County Names to hide (2)'!$D$2, OR(D15="", D15 >= 'County Names to hide (2)'!$C$2) ), "Yes", "No" ) )
E16: =IF(OR(A16="", C16=""), "", IF(AND( C16 <= 'County Names to hide (2)'!$D$2, OR(D16="", D16 >= 'County Names to hide (2)'!$C$2) ), "Yes", "No" ) )
E17: =IF(OR(A17="", C17=""), "", IF(AND( C17 <= 'County Names to hide (2)'!$D$2, OR(D17="", D17 >= 'County Names to hide (2)'!$C$2) ), "Yes", "No" ) )
E18: =IF(OR(A18="", C18=""), "", IF(AND( C18 <= 'County Names to hide (2)'!$D$2, OR(D18="", D18 >= 'County Names to hide (2)'!$C$2) ), "Yes", "No" ) )
E19: =IF(OR(A19="", C19=""), "", IF(AND( C19 <= 'County Names to hide (2)'!$D$2, OR(D19="", D19 >= 'County Names to hide (2)'!$C$2) ), "Yes", "No" ) )
E20: =IF(OR(A20="", C20=""), "", IF(AND( C20 <= 'County Names to hide (2)'!$D$2, OR(D20="", D20 >= 'County Names to hide (2)'!$C$2) ), "Yes", "No" ) )
E21: =IF(OR(A21="", C21=""), "", IF(AND( C21 <= 'County Names to hide (2)'!$D$2, OR(D21="", D21 >= 'County Names to hide (2)'!$C$2) ), "Yes", "No" ) )
E22: =IF(OR(A22="", C22=""), "", IF(AND( C22 <= 'County Names to hide (2)'!$D$2, OR(D22="", D22 >= 'County Names to hide (2)'!$C$2) ), "Yes", "No" ) )
E23: =IF(OR(A23="", C23=""), "", IF(AND( C23 <= 'County Names to hide (2)'!$D$2, OR(D23="", D23 >= 'County Names to hide (2)'!$C$2) ), "Yes", "No" ) )
... E100: =IF(OR(A100="", C100=""), "", IF(AND( C100 <= 'County Names to hide (2)'!$D$2, OR(D100="", D100 >= 'County Names to hide (2)'!$C$2) ), "Yes", "No" ) )

Sheet Outcomes
A1: Instructions for Completing the Spreadsheet (For Family First Title IV-E children/families only and following the child's birth) Use the dropdown menus where provided to ensure consistent responses and hover over cells to view notes for specific guidance on each field. Follow the flow of the spreadsheet, ensuring that cells dependent on a prior answer are completed appropriately. If a cell does not apply based on the answer to the previous cell, leave it blank and move to the next applicable field. Conditional formatting has been applied to some cells. If a cell does not apply based on the answer to the previous cell, leave it blank and move to the next applicable field. If you encounter any issues with formatting or dropdown selections, reach out to the CDSS FFPS team for assistance: FFPSApreventionservices@dss.ca.gov
A2: Instructions for Completing the Spreadsheet (For Family First Title IV-E children/families only and following the child's birth) Use the dropdown menus where provided to ensure consistent responses and hover over cells to view notes for specific guidance on each field. Follow the flow of the spreadsheet, ensuring that cells dependent on a prior answer are completed appropriately. If a cell does not apply based on the answer to the previous cell, leave it blank and move to the next applicable field. Conditional formatting has been applied to some cells. If a cell does not apply based on the answer to the previous cell, leave it blank and move to the next applicable field. If you encounter any issues with formatting or dropdown selections, reach out to the CDSS FFPS team for assistance: FFPSApreventionservices@dss.ca.gov
A3: Agency Name: | D3: Site Name:
A4: Child Identifier | M4: Program Start and End Dates | T4: Number of Visits | Z4: Increased Positive Parenting Practices | AA4: Improved Pregnancy Outcomes | AD4: Improved Child Health & Development | AI4: Improved Caregiver Health
A5: DCFS/Probation Unique Identifier | B5: HVP Model Child ID | C5: Child Date of Birth | D5: Child Sex | E5: Child Hispanic or Latino Ethnicity | F5: Child Race: White | G5: Child Race: Black or African American | H5: Child Race: Asian | I5: Child Race: Native Hawaiian or Other Pacific Islander | J5: Child Race: American Indian or Alaska Native | K5: Child Race: Declined | L5: Child Race: Unknown | M5: Program Start Date | N5: Program End Date | O5: Was this child engaged in services during the report period? | P5: Date Child Specific Prevention Plan Start (Year One) | Q5: Date Child Specific Prevention Plan Ended (Year One) | R5: Date Child Specific Prevention Plan Start (Year Two) | S5: Date Child Specific Prevention Plan Ended (Year Two) | T5: Total Number of Visits (as defined by the PAT model) by the End of the Report Period | U5: Months Open at End of Reporting Period | V5: Child Age at End of Reporting Period in Months | W5: Did the family have one or fewer stressors during the report period? | X5: Did the family have two or more stressors during the report period? | Y5: Did the family receive at least 75% of the required number of visits per month? | Z5: Was the caregiver-child interaction assessed using a validated tool (AAPI-2, HFPI, HOME, KIPS, PICCOLO, PSI-4, PSS, PAPF, or PFS-2)? | AA5: Was the child's mother enrolled in the home visiting program prenatally before 37 weeks? | AB5: If "Yes", was the child born preterm and with very low birth weight following enrollment in the home visiting program? | AC5: Did the child receive a complete, initial child developmental screening within 90 days of enrollment or birth? | AD5: Did the child have a timely screen for developmental delays using a validated parent-completed tool (ASQ-3, ASQ-SE, DECA, Brigance Early Childhood Screens III, DIAL-4, IDA-2, or PEDS) at 4 months? | AE5: Did the child have a timely screen for developmental delays using a validated parent-completed tool (ASQ-3, ASQ-SE, DECA, Brigance Early Childhood Screens III, DIAL-4, IDA-2, or PEDS) at least once annually, after the initial screening? | AF5: Is the child's screening for developmental delays up-to-date based on the child's age (for children ages 5 months and older)? | AG5: Did the child have a positive screen for developmental delays using a validated tool (PAT Forms or the site's Data Management System)? | AH5: If "Yes", did the child receive services in a timely manner following the positive screen? | AI5: Has the child been enrolled in home visiting for at least 3 months? | AJ5: If "Yes," was the child's primary caregiver screened for depression within 3 months of enrollment or 3 months of delivery (for those enrolled prenatally), if their child is 4 months or older? | AK5: If "Yes," did the child's primary caregiver have a positive screen for depression? | AL5: If "Yes," did the primary caregiver receive one or more service contacts?
L6: =IF(COUNTIF(F6:K6, "Yes")>0, "No", "Yes") -> Yes | O6: =IF(OR(A6="", M6=""), "", IF(AND( M6 <= 'County Names to hide (2)'!$D$2, OR(N6="", N6 >= 'County Names to hide (2)'!$C$2) ), "Yes", "No" ) ) | U6: =IF(M6="","", ROUND( (MIN(IF(N6="", 'County Names to hide (2)'!$D$2, N6), 'County Names to hide (2)'!$D$2) - M6) / 365 * 12, 1) ) | V6: =IF(C6="","", ROUND(('County Names to hide (2)'!$D$2 - C6) / 365 * 12, 1) ) | AF6: =IF( Table1[[#This Row],[Child Age at End of Reporting Period in Months]]="", "", IF( Table1[[#This Row],[Child Age at End of Reporting Period in Months]]<5, "NA", IF( AND(Table1[[#This Row],[Child Age at End of Reporting Period in Months]]>=5,Table1[[#This Row],[Child Age at End of Reporting Period in Months]]<=17, Table1[[#This Row],[Did the child have a timely screen for developmental delays using a validated parent-completed tool (ASQ-3, ASQ-SE, DECA, Brigance Early Childhood Screens III, DIAL-4, IDA-2, or PEDS) at 4 months? ]]="Yes"), "Up to date", IF( AND(Table1[[#This Row],[Child Age at End of Reporting Period in Months]]>=18, Table1[[#This Row],[Did the child have a timely screen for developmental delays using a validated parent-completed tool (ASQ-3, ASQ-SE, DECA, Brigance Early Childhood Screens III, DIAL-4, IDA-2, or PEDS) at 4 months? ]]="Yes", Table1[[#This Row],[Did the child have a timely screen for developmental delays using a validated parent-completed tool (ASQ-3, ASQ-SE, DECA, Brigance Early Childhood Screens III, DIAL-4, IDA-2, or PEDS) at least once annually, after the initial screening? ]]="Yes"), "Up to date", "Not up to date" ) ) ) ) | AI6: =IF(U6="", "", IF(U6>=3, "yes", "no"))
L7: =IF(COUNTIF(F7:K7, "Yes")>0, "No", "Yes") -> Yes | O7: =IF(OR(A7="", M7=""), "", IF(AND( M7 <= 'County Names to hide (2)'!$D$2, OR(N7="", N7 >= 'County Names to hide (2)'!$C$2) ), "Yes", "No" ) ) | U7: =IF(M7="","", ROUND( (MIN(IF(N7="", 'County Names to hide (2)'!$D$2, N7), 'County Names to hide (2)'!$D$2) - M7) / 365 * 12, 1) ) | V7: =IF(C7="","", ROUND(('County Names to hide (2)'!$D$2 - C7) / 365 * 12, 1) ) | AF7: =IF( Table1[[#This Row],[Child Age at End of Reporting Period in Months]]="", "", IF( Table1[[#This Row],[Child Age at End of Reporting Period in Months]]<5, "NA", IF( AND(Table1[[#This Row],[Child Age at End of Reporting Period in Months]]>=5,Table1[[#This Row],[Child Age at End of Reporting Period in Months]]<=17, Table1[[#This Row],[Did the child have a timely screen for developmental delays using a validated parent-completed tool (ASQ-3, ASQ-SE, DECA, Brigance Early Childhood Screens III, DIAL-4, IDA-2, or PEDS) at 4 months? ]]="Yes"), "Up to date", IF( AND(Table1[[#This Row],[Child Age at End of Reporting Period in Months]]>=18, Table1[[#This Row],[Did the child have a timely screen for developmental delays using a validated parent-completed tool (ASQ-3, ASQ-SE, DECA, Brigance Early Childhood Screens III, DIAL-4, IDA-2, or PEDS) at 4 months? ]]="Yes", Table1[[#This Row],[Did the child have a timely screen for developmental delays using a validated parent-completed tool (ASQ-3, ASQ-SE, DECA, Brigance Early Childhood Screens III, DIAL-4, IDA-2, or PEDS) at least once annually, after the initial screening? ]]="Yes"), "Up to date", "Not up to date" ) ) ) ) | AI7: =IF(U7="", "", IF(U7>=3, "yes", "no"))
L8: =IF(COUNTIF(F8:K8, "Yes")>0, "No", "Yes") -> Yes | O8: =IF(OR(A8="", M8=""), "", IF(AND( M8 <= 'County Names to hide (2)'!$D$2, OR(N8="", N8 >= 'County Names to hide (2)'!$C$2) ), "Yes", "No" ) ) | U8: =IF(M8="","", ROUND( (MIN(IF(N8="", 'County Names to hide (2)'!$D$2, N8), 'County Names to hide (2)'!$D$2) - M8) / 365 * 12, 1) ) | V8: =IF(C8="","", ROUND(('County Names to hide (2)'!$D$2 - C8) / 365 * 12, 1) ) | AF8: =IF( Table1[[#This Row],[Child Age at End of Reporting Period in Months]]="", "", IF( Table1[[#This Row],[Child Age at End of Reporting Period in Months]]<5, "NA", IF( AND(Table1[[#This Row],[Child Age at End of Reporting Period in Months]]>=5,Table1[[#This Row],[Child Age at End of Reporting Period in Months]]<=17, Table1[[#This Row],[Did the child have a timely screen for developmental delays using a validated parent-completed tool (ASQ-3, ASQ-SE, DECA, Brigance Early Childhood Screens III, DIAL-4, IDA-2, or PEDS) at 4 months? ]]="Yes"), "Up to date", IF( AND(Table1[[#This Row],[Child Age at End of Reporting Period in Months]]>=18, Table1[[#This Row],[Did the child have a timely screen for developmental delays using a validated parent-completed tool (ASQ-3, ASQ-SE, DECA, Brigance Early Childhood Screens III, DIAL-4, IDA-2, or PEDS) at 4 months? ]]="Yes", Table1[[#This Row],[Did the child have a timely screen for developmental delays using a validated parent-completed tool (ASQ-3, ASQ-SE, DECA, Brigance Early Childhood Screens III, DIAL-4, IDA-2, or PEDS) at least once annually, after the initial screening? ]]="Yes"), "Up to date", "Not up to date" ) ) ) ) | AI8: =IF(U8="", "", IF(U8>=3, "yes", "no"))
L9: =IF(COUNTIF(F9:K9, "Yes")>0, "No", "Yes") -> Yes | O9: =IF(OR(A9="", M9=""), "", IF(AND( M9 <= 'County Names to hide (2)'!$D$2, OR(N9="", N9 >= 'County Names to hide (2)'!$C$2) ), "Yes", "No" ) ) | U9: =IF(M9="","", ROUND( (MIN(IF(N9="", 'County Names to hide (2)'!$D$2, N9), 'County Names to hide (2)'!$D$2) - M9) / 365 * 12, 1) ) | V9: =IF(C9="","", ROUND(('County Names to hide (2)'!$D$2 - C9) / 365 * 12, 1) ) | AF9: =IF( Table1[[#This Row],[Child Age at End of Reporting Period in Months]]="", "", IF( Table1[[#This Row],[Child Age at End of Reporting Period in Months]]<5, "NA", IF( AND(Table1[[#This Row],[Child Age at End of Reporting Period in Months]]>=5,Table1[[#This Row],[Child Age at End of Reporting Period in Months]]<=17, Table1[[#This Row],[Did the child have a timely screen for developmental delays using a validated parent-completed tool (ASQ-3, ASQ-SE, DECA, Brigance Early Childhood Screens III, DIAL-4, IDA-2, or PEDS) at 4 months? ]]="Yes"), "Up to date", IF( AND(Table1[[#This Row],[Child Age at End of Reporting Period in Months]]>=18, Table1[[#This Row],[Did the child have a timely screen for developmental delays using a validated parent-completed tool (ASQ-3, ASQ-SE, DECA, Brigance Early Childhood Screens III, DIAL-4, IDA-2, or PEDS) at 4 months? ]]="Yes", Table1[[#This Row],[Did the child have a timely screen for developmental delays using a validated parent-completed tool (ASQ-3, ASQ-SE, DECA, Brigance Early Childhood Screens III, DIAL-4, IDA-2, or PEDS) at least once annually, after the initial screening? ]]="Yes"), "Up to date", "Not up to date" ) ) ) ) | AI9: =IF(U9="", "", IF(U9>=3, "yes", "no"))
L10: =IF(COUNTIF(F10:K10, "Yes")>0, "No", "Yes") -> Yes | O10: =IF(OR(A10="", M10=""), "", IF(AND( M10 <= 'County Names to hide (2)'!$D$2, OR(N10="", N10 >= 'County Names to hide (2)'!$C$2) ), "Yes", "No" ) ) | U10: =IF(M10="","", ROUND( (MIN(IF(N10="", 'County Names to hide (2)'!$D$2, N10), 'County Names to hide (2)'!$D$2) - M10) / 365 * 12, 1) ) | V10: =IF(C10="","", ROUND(('County Names to hide (2)'!$D$2 - C10) / 365 * 12, 1) ) | AF10: =IF( Table1[[#This Row],[Child Age at End of Reporting Period in Months]]="", "", IF( Table1[[#This Row],[Child Age at End of Reporting Period in Months]]<5, "NA", IF( AND(Table1[[#This Row],[Child Age at End of Reporting Period in Months]]>=5,Table1[[#This Row],[Child Age at End of Reporting Period in Months]]<=17, Table1[[#This Row],[Did the child have a timely screen for developmental delays using a validated parent-completed tool (ASQ-3, ASQ-SE, DECA, Brigance Early Childhood Screens III, DIAL-4, IDA-2, or PEDS) at 4 months? ]]="Yes"), "Up to date", IF( AND(Table1[[#This Row],[Child Age at End of Reporting Period in Months]]>=18, Table1[[#This Row],[Did the child have a timely screen for developmental delays using a validated parent-completed tool (ASQ-3, ASQ-SE, DECA, Brigance Early Childhood Screens III, DIAL-4, IDA-2, or PEDS) at 4 months? ]]="Yes", Table1[[#This Row],[Did the child have a timely screen for developmental delays using a validated parent-completed tool (ASQ-3, ASQ-SE, DECA, Brigance Early Childhood Screens III, DIAL-4, IDA-2, or PEDS) at least once annually, after the initial screening? ]]="Yes"), "Up to date", "Not up to date" ) ) ) ) | AI10: =IF(U10="", "", IF(U10>=3, "yes", "no"))
L11: =IF(COUNTIF(F11:K11, "Yes")>0, "No", "Yes") -> Yes | O11: =IF(OR(A11="", M11=""), "", IF(AND( M11 <= 'County Names to hide (2)'!$D$2, OR(N11="", N11 >= 'County Names to hide (2)'!$C$2) ), "Yes", "No" ) ) | U11: =IF(M11="","", ROUND( (MIN(IF(N11="", 'County Names to hide (2)'!$D$2, N11), 'County Names to hide (2)'!$D$2) - M11) / 365 * 12, 1) ) | V11: =IF(C11="","", ROUND(('County Names to hide (2)'!$D$2 - C11) / 365 * 12, 1) ) | AF11: =IF( Table1[[#This Row],[Child Age at End of Reporting Period in Months]]="", "", IF( Table1[[#This Row],[Child Age at End of Reporting Period in Months]]<5, "NA", IF( AND(Table1[[#This Row],[Child Age at End of Reporting Period in Months]]>=5,Table1[[#This Row],[Child Age at End of Reporting Period in Months]]<=17, Table1[[#This Row],[Did the child have a timely screen for developmental delays using a validated parent-completed tool (ASQ-3, ASQ-SE, DECA, Brigance Early Childhood Screens III, DIAL-4, IDA-2, or PEDS) at 4 months? ]]="Yes"), "Up to date", IF( AND(Table1[[#This Row],[Child Age at End of Reporting Period in Months]]>=18, Table1[[#This Row],[Did the child have a timely screen for developmental delays using a validated parent-completed tool (ASQ-3, ASQ-SE, DECA, Brigance Early Childhood Screens III, DIAL-4, IDA-2, or PEDS) at 4 months? ]]="Yes", Table1[[#This Row],[Did the child have a timely screen for developmental delays using a validated parent-completed tool (ASQ-3, ASQ-SE, DECA, Brigance Early Childhood Screens III, DIAL-4, IDA-2, or PEDS) at least once annually, after the initial screening? ]]="Yes"), "Up to date", "Not up to date" ) ) ) ) | AI11: =IF(U11="", "", IF(U11>=3, "yes", "no"))
L12: =IF(COUNTIF(F12:K12, "Yes")>0, "No", "Yes") -> Yes | O12: =IF(OR(A12="", M12=""), "", IF(AND( M12 <= 'County Names to hide (2)'!$D$2, OR(N12="", N12 >= 'County Names to hide (2)'!$C$2) ), "Yes", "No" ) ) | U12: =IF(M12="","", ROUND( (MIN(IF(N12="", 'County Names to hide (2)'!$D$2, N12), 'County Names to hide (2)'!$D$2) - M12) / 365 * 12, 1) ) | V12: =IF(C12="","", ROUND(('County Names to hide (2)'!$D$2 - C12) / 365 * 12, 1) ) | AF12: =IF( Table1[[#This Row],[Child Age at End of Reporting Period in Months]]="", "", IF( Table1[[#This Row],[Child Age at End of Reporting Period in Months]]<5, "NA", IF( AND(Table1[[#This Row],[Child Age at End of Reporting Period in Months]]>=5,Table1[[#This Row],[Child Age at End of Reporting Period in Months]]<=17, Table1[[#This Row],[Did the child have a timely screen for developmental delays using a validated parent-completed tool (ASQ-3, ASQ-SE, DECA, Brigance Early Childhood Screens III, DIAL-4, IDA-2, or PEDS) at 4 months? ]]="Yes"), "Up to date", IF( AND(Table1[[#This Row],[Child Age at End of Reporting Period in Months]]>=18, Table1[[#This Row],[Did the child have a timely screen for developmental delays using a validated parent-completed tool (ASQ-3, ASQ-SE, DECA, Brigance Early Childhood Screens III, DIAL-4, IDA-2, or PEDS) at 4 months? ]]="Yes", Table1[[#This Row],[Did the child have a timely screen for developmental delays using a validated parent-completed tool (ASQ-3, ASQ-SE, DECA, Brigance Early Childhood Screens III, DIAL-4, IDA-2, or PEDS) at least once annually, after the initial screening? ]]="Yes"), "Up to date", "Not up to date" ) ) ) ) | AI12: =IF(U12="", "", IF(U12>=3, "yes", "no"))
L13: =IF(COUNTIF(F13:K13, "Yes")>0, "No", "Yes") -> Yes | O13: =IF(OR(A13="", M13=""), "", IF(AND( M13 <= 'County Names to hide (2)'!$D$2, OR(N13="", N13 >= 'County Names to hide (2)'!$C$2) ), "Yes", "No" ) ) | U13: =IF(M13="","", ROUND( (MIN(IF(N13="", 'County Names to hide (2)'!$D$2, N13), 'County Names to hide (2)'!$D$2) - M13) / 365 * 12, 1) ) | V13: =IF(C13="","", ROUND(('County Names to hide (2)'!$D$2 - C13) / 365 * 12, 1) ) | AF13: =IF( Table1[[#This Row],[Child Age at End of Reporting Period in Months]]="", "", IF( Table1[[#This Row],[Child Age at End of Reporting Period in Months]]<5, "NA", IF( AND(Table1[[#This Row],[Child Age at End of Reporting Period in Months]]>=5,Table1[[#This Row],[Child Age at End of Reporting Period in Months]]<=17, Table1[[#This Row],[Did the child have a timely screen for developmental delays using a validated parent-completed tool (ASQ-3, ASQ-SE, DECA, Brigance Early Childhood Screens III, DIAL-4, IDA-2, or PEDS) at 4 months? ]]="Yes"), "Up to date", IF( AND(Table1[[#This Row],[Child Age at End of Reporting Period in Months]]>=18, Table1[[#This Row],[Did the child have a timely screen for developmental delays using a validated parent-completed tool (ASQ-3, ASQ-SE, DECA, Brigance Early Childhood Screens III, DIAL-4, IDA-2, or PEDS) at 4 months? ]]="Yes", Table1[[#This Row],[Did the child have a timely screen for developmental delays using a validated parent-completed tool (ASQ-3, ASQ-SE, DECA, Brigance Early Childhood Screens III, DIAL-4, IDA-2, or PEDS) at least once annually, after the initial screening? ]]="Yes"), "Up to date", "Not up to date" ) ) ) ) | AI13: =IF(U13="", "", IF(U13>=3, "yes", "no"))
L14: =IF(COUNTIF(F14:K14, "Yes")>0, "No", "Yes") -> Yes | O14: =IF(OR(A14="", M14=""), "", IF(AND( M14 <= 'County Names to hide (2)'!$D$2, OR(N14="", N14 >= 'County Names to hide (2)'!$C$2) ), "Yes", "No" ) ) | U14: =IF(M14="","", ROUND( (MIN(IF(N14="", 'County Names to hide (2)'!$D$2, N14), 'County Names to hide (2)'!$D$2) - M14) / 365 * 12, 1) ) | V14: =IF(C14="","", ROUND(('County Names to hide (2)'!$D$2 - C14) / 365 * 12, 1) ) | AF14: =IF( Table1[[#This Row],[Child Age at End of Reporting Period in Months]]="", "", IF( Table1[[#This Row],[Child Age at End of Reporting Period in Months]]<5, "NA", IF( AND(Table1[[#This Row],[Child Age at End of Reporting Period in Months]]>=5,Table1[[#This Row],[Child Age at End of Reporting Period in Months]]<=17, Table1[[#This Row],[Did the child have a timely screen for developmental delays using a validated parent-completed tool (ASQ-3, ASQ-SE, DECA, Brigance Early Childhood Screens III, DIAL-4, IDA-2, or PEDS) at 4 months? ]]="Yes"), "Up to date", IF( AND(Table1[[#This Row],[Child Age at End of Reporting Period in Months]]>=18, Table1[[#This Row],[Did the child have a timely screen for developmental delays using a validated parent-completed tool (ASQ-3, ASQ-SE, DECA, Brigance Early Childhood Screens III, DIAL-4, IDA-2, or PEDS) at 4 months? ]]="Yes", Table1[[#This Row],[Did the child have a timely screen for developmental delays using a validated parent-completed tool (ASQ-3, ASQ-SE, DECA, Brigance Early Childhood Screens III, DIAL-4, IDA-2, or PEDS) at least once annually, after the initial screening? ]]="Yes"), "Up to date", "Not up to date" ) ) ) ) | AI14: =IF(U14="", "", IF(U14>=3, "yes", "no"))
L15: =IF(COUNTIF(F15:K15, "Yes")>0, "No", "Yes") -> Yes | O15: =IF(OR(A15="", M15=""), "", IF(AND( M15 <= 'County Names to hide (2)'!$D$2, OR(N15="", N15 >= 'County Names to hide (2)'!$C$2) ), "Yes", "No" ) ) | U15: =IF(M15="","", ROUND( (MIN(IF(N15="", 'County Names to hide (2)'!$D$2, N15), 'County Names to hide (2)'!$D$2) - M15) / 365 * 12, 1) ) | V15: =IF(C15="","", ROUND(('County Names to hide (2)'!$D$2 - C15) / 365 * 12, 1) ) | AF15: =IF( Table1[[#This Row],[Child Age at End of Reporting Period in Months]]="", "", IF( Table1[[#This Row],[Child Age at End of Reporting Period in Months]]<5, "NA", IF( AND(Table1[[#This Row],[Child Age at End of Reporting Period in Months]]>=5,Table1[[#This Row],[Child Age at End of Reporting Period in Months]]<=17, Table1[[#This Row],[Did the child have a timely screen for developmental delays using a validated parent-completed tool (ASQ-3, ASQ-SE, DECA, Brigance Early Childhood Screens III, DIAL-4, IDA-2, or PEDS) at 4 months? ]]="Yes"), "Up to date", IF( AND(Table1[[#This Row],[Child Age at End of Reporting Period in Months]]>=18, Table1[[#This Row],[Did the child have a timely screen for developmental delays using a validated parent-completed tool (ASQ-3, ASQ-SE, DECA, Brigance Early Childhood Screens III, DIAL-4, IDA-2, or PEDS) at 4 months? ]]="Yes", Table1[[#This Row],[Did the child have a timely screen for developmental delays using a validated parent-completed tool (ASQ-3, ASQ-SE, DECA, Brigance Early Childhood Screens III, DIAL-4, IDA-2, or PEDS) at least once annually, after the initial screening? ]]="Yes"), "Up to date", "Not up to date" ) ) ) ) | AI15: =IF(U15="", "", IF(U15>=3, "yes", "no"))
L16: =IF(COUNTIF(F16:K16, "Yes")>0, "No", "Yes") -> Yes | O16: =IF(OR(A16="", M16=""), "", IF(AND( M16 <= 'County Names to hide (2)'!$D$2, OR(N16="", N16 >= 'County Names to hide (2)'!$C$2) ), "Yes", "No" ) ) | U16: =IF(M16="","", ROUND( (MIN(IF(N16="", 'County Names to hide (2)'!$D$2, N16), 'County Names to hide (2)'!$D$2) - M16) / 365 * 12, 1) ) | V16: =IF(C16="","", ROUND(('County Names to hide (2)'!$D$2 - C16) / 365 * 12, 1) ) | AF16: =IF( Table1[[#This Row],[Child Age at End of Reporting Period in Months]]="", "", IF( Table1[[#This Row],[Child Age at End of Reporting Period in Months]]<5, "NA", IF( AND(Table1[[#This Row],[Child Age at End of Reporting Period in Months]]>=5,Table1[[#This Row],[Child Age at End of Reporting Period in Months]]<=17, Table1[[#This Row],[Did the child have a timely screen for developmental delays using a validated parent-completed tool (ASQ-3, ASQ-SE, DECA, Brigance Early Childhood Screens III, DIAL-4, IDA-2, or PEDS) at 4 months? ]]="Yes"), "Up to date", IF( AND(Table1[[#This Row],[Child Age at End of Reporting Period in Months]]>=18, Table1[[#This Row],[Did the child have a timely screen for developmental delays using a validated parent-completed tool (ASQ-3, ASQ-SE, DECA, Brigance Early Childhood Screens III, DIAL-4, IDA-2, or PEDS) at 4 months? ]]="Yes", Table1[[#This Row],[Did the child have a timely screen for developmental delays using a validated parent-completed tool (ASQ-3, ASQ-SE, DECA, Brigance Early Childhood Screens III, DIAL-4, IDA-2, or PEDS) at least once annually, after the initial screening? ]]="Yes"), "Up to date", "Not up to date" ) ) ) ) | AI16: =IF(U16="", "", IF(U16>=3, "yes", "no"))
L17: =IF(COUNTIF(F17:K17, "Yes")>0, "No", "Yes") -> Yes | O17: =IF(OR(A17="", M17=""), "", IF(AND( M17 <= 'County Names to hide (2)'!$D$2, OR(N17="", N17 >= 'County Names to hide (2)'!$C$2) ), "Yes", "No" ) ) | U17: =IF(M17="","", ROUND( (MIN(IF(N17="", 'County Names to hide (2)'!$D$2, N17), 'County Names to hide (2)'!$D$2) - M17) / 365 * 12, 1) ) | V17: =IF(C17="","", ROUND(('County Names to hide (2)'!$D$2 - C17) / 365 * 12, 1) ) | AF17: =IF( Table1[[#This Row],[Child Age at End of Reporting Period in Months]]="", "", IF( Table1[[#This Row],[Child Age at End of Reporting Period in Months]]<5, "NA", IF( AND(Table1[[#This Row],[Child Age at End of Reporting Period in Months]]>=5,Table1[[#This Row],[Child Age at End of Reporting Period in Months]]<=17, Table1[[#This Row],[Did the child have a timely screen for developmental delays using a validated parent-completed tool (ASQ-3, ASQ-SE, DECA, Brigance Early Childhood Screens III, DIAL-4, IDA-2, or PEDS) at 4 months? ]]="Yes"), "Up to date", IF( AND(Table1[[#This Row],[Child Age at End of Reporting Period in Months]]>=18, Table1[[#This Row],[Did the child have a timely screen for developmental delays using a validated parent-completed tool (ASQ-3, ASQ-SE, DECA, Brigance Early Childhood Screens III, DIAL-4, IDA-2, or PEDS) at 4 months? ]]="Yes", Table1[[#This Row],[Did the child have a timely screen for developmental delays using a validated parent-completed tool (ASQ-3, ASQ-SE, DECA, Brigance Early Childhood Screens III, DIAL-4, IDA-2, or PEDS) at least once annually, after the initial screening? ]]="Yes"), "Up to date", "Not up to date" ) ) ) ) | AI17: =IF(U17="", "", IF(U17>=3, "yes", "no"))
... L500: =IF(COUNTIF(F500:K500, "Yes")>0, "No", "Yes") -> Yes | O500: =IF(OR(A500="", M500=""), "", IF(AND( M500 <= 'County Names to hide (2)'!$D$2, OR(N500="", N500 >= 'County Names to hide (2)'!$C$2) ), "Yes", "No" ) ) | U500: =IF(M500="","", ROUND( (MIN(IF(N500="", 'County Names to hide (2)'!$D$2, N500), 'County Names to hide (2)'!$D$2) - M500) / 365 * 12, 1) ) | V500: =IF(C500="","", ROUND(('County Names to hide (2)'!$D$2 - C500) / 365 * 12, 1) ) | AF500: =IF( Table1[[#This Row],[Child Age at End of Reporting Period in Months]]="", "", IF( Table1[[#This Row],[Child Age at End of Reporting Period in Months]]<5, "NA", IF( AND(Table1[[#This Row],[Child Age at End of Reporting Period in Months]]>=5,Table1[[#This Row],[Child Age at End of Reporting Period in Months]]<=17, Table1[[#This Row],[Did the child have a timely screen for developmental delays using a validated parent-completed tool (ASQ-3, ASQ-SE, DECA, Brigance Early Childhood Screens III, DIAL-4, IDA-2, or PEDS) at 4 months? ]]="Yes"), "Up to date", IF( AND(Table1[[#This Row],[Child Age at End of Reporting Period in Months]]>=18, Table1[[#This Row],[Did the child have a timely screen for developmental delays using a validated parent-completed tool (ASQ-3, ASQ-SE, DECA, Brigance Early Childhood Screens III, DIAL-4, IDA-2, or PEDS) at 4 months? ]]="Yes", Table1[[#This Row],[Did the child have a timely screen for developmental delays using a validated parent-completed tool (ASQ-3, ASQ-SE, DECA, Brigance Early Childhood Screens III, DIAL-4, IDA-2, or PEDS) at least once annually, after the initial screening? ]]="Yes"), "Up to date", "Not up to date" ) ) ) ) | AI500: =IF(U500="", "", IF(U500>=3, "yes", "no"))

Sheet Fidelity Aggregate
A1: This sheet will populate automatically based on the data entered in the "Fidelity" tab. Be sure to choose the correct reporting period on the Cover Sheet tab. If you encounter any issues with formatting or dropdown selections, reach out to the CDSS FFPS team for assistance: FFPSApreventionservices@dss.ca.gov. To keep a copy of your aggregate fidelity data for each reporting period, save a copy of this sheet and "Outcomes Aggregate". These sheets will overwrite whenever you add new data. Please use your most recent Performance Measures Report and the Annual Performance Report to complete the Required CWS-CARES Fidelity and Outcomes Report which is due annually in October, beginning October 2027. This PAT Optional Fidelity and Outcomes Template can be used to review aggregate data on a monthly, quarterly, biannual, or annual basis. It is designed to support continuous quality improvement (CQI) work in county-level CQI teams and regional PCC sessions.
A2: Fidelity Measures
A3: Measure | B3: Indicator | C3: Target | D3: N | E3: Percent
A4: Provider maintained & received required training | B4: % of parent educators (PE) and new supervisors who will deliver Parents as Teachers services to families have attended the required PAT trainings before delivering PAT services. | C4: 1 | D4: {=SUM(COUNTIFS(Table5[Role of the Home Visiting staff],{"Parent Educator","Supervisor"}, Table5[Was the Home Visiting staff employed by your agency during the reporting period? ],"Yes"))} -> 0 | E4: {=IFERROR( (COUNTIFS(Table5[Role of the Home Visiting staff],"Parent Educator", Table5[Was the Home Visiting staff employed by your agency during the reporting period? ],"Yes", Table5[Has the Parent Educator attended the required PAT trainings before delivering PAT services?],"Yes") +COUNTIFS(Table5[Role of the Home Visiting staff],"Supervisor", Table5[Was the Home Visiting staff employed by your agency during the reporting period? ],"Yes", Table5[Has the new supervisor attended the required PAT trainings before delivering PAT services?],"Yes")) /SUM(COUNTIFS(Table5[Role of the Home Visiting staff],{"Parent Educator","Supervisor"}, Table5[Was the Home Visiting staff employed by your agency during the reporting period? ],"Yes")), "NA")} -> NA
B5: % of PEs delivering model services for the affiliate have a current Model Certified subscription. | C5: 1 | D5: {=SUM(COUNTIFS(Table5[Role of the Home Visiting staff],{"Parent Educator","Supervisor"}, Table5[Was the Home Visiting staff employed by your agency during the reporting period? ],"Yes"))} -> 0 | E5: {=IFERROR( (COUNTIFS(Table5[Role of the Home Visiting staff],"Parent Educator", Table5[Was the Home Visiting staff employed by your agency during the reporting period? ],"Yes", Table5[Does the Parent Educator who is delivering the model services for the affiliate have a current Model Certified subscription?],"Yes") +COUNTIFS(Table5[Role of the Home Visiting staff],"Supervisor", Table5[Was the Home Visiting staff employed by your agency during the reporting period? ],"Yes", Table5[Does the supervisor who is delivering services for the affiliate have a current Model Certified subscription?],"Yes")) /SUM(COUNTIFS(Table5[Role of the Home Visiting staff],{"Parent Educator","Supervisor"}, Table5[Was the Home Visiting staff employed by your agency during the reporting period? ],"Yes")), "NA")} -> NA
A6: Meets supervisor to parent educator ratio | B6: # of PEs per 1.0 FTE supervisor (the number of parent educators assigned to the supervisor decreases proportionately when the supervisor is not full-time). | C6: ≤6 | D6: NA | E6: =IFERROR( COUNTIFS( Table5[Role of the Home Visiting staff], "Parent Educator", Table5[Was the Home Visiting staff employed by your agency during the reporting period? ], "Yes" ) / 'County Names to hide'!$G$2, "NA") -> NA
A7: Meets visit frequency requirements | B7: % of families with 1 or fewer stressors that received at least 75% of the required number of visits per month. | C7: 1 | D7: =COUNTIFS(Table1[Did the family have one or fewer stressors during the report period?],"Yes", Table1[Was this child engaged in services during the report period?],"Yes") -> 0 | E7: =IFERROR(COUNTIFS(Table1[Did the family have one or fewer stressors during the report period?],"Yes", Table1[Did the family receive at least 75% of the required number of visits per month?], "Yes", Table1[Was this child engaged in services during the report period?],"Yes")/COUNTIFS(Table1[Did the family have one or fewer stressors during the report period?],"Yes", Table1[Was this child engaged in services during the report period?],"Yes"),"NA") -> NA
B8: % of families with 2 or more stressors that received at least 75% of the required number of visits per month. | C8: 1 | D8: =COUNTIFS(Table1[Did the family have two or more stressors during the report period?],"Yes", Table1[Was this child engaged in services during the report period?],"Yes") -> 0 | E8: =IFERROR(COUNTIFS(Table1[Did the family have two or more stressors during the report period?],"Yes", Table1[Did the family receive at least 75% of the required number of visits per month?], "Yes", Table1[Was this child engaged in services during the report period?],"Yes")/COUNTIFS(Table1[Did the family have two or more stressors during the report period?],"Yes", Table1[Was this child engaged in services during the report period?],"Yes"),"NA") -> NA
A9: Meets developmental screen requirements | B9: % of newly enrolled children who received a complete initial child developmental screening within 90 days of enrollment or birth. | C9: 1 | D9: =COUNTIFS(Outcomes!M6:M500, ">=" & 'County Names to hide'!$C$2) -> 0 | E9: =IFERROR(COUNTIFS(Outcomes!M6:M500, ">=" & 'County Names to hide'!$C$2, Table1[Did the child receive a complete, initial child developmental screening within 90 days of enrollment or birth? ], "Yes")/COUNTIF(Outcomes!M6:M500, ">=" & 'County Names to hide'!$C$2), "NA") -> NA
B10: % of children who received a complete annual child developmental screening during the program year. For the purposes of the report, please see Outcomes Aggregate metric "% of children enrolled in home visiting with a timely screen for developmental delays using a validated parent-completed tool." | C10: 1 | D10: N/A | E10: N/A
B11: Affiliate used one of the PAT approved developmental screening tools. | C11: Yes | D11: N/A | E11: =Cover_Sheet2!M3 -> 0
A12: Timely submission of the PAT 21 Essential Requirements | B12: What was the date of submission of the Affiliate Performance Report? (MM/DD/YYYY) For the purposes of the report, note that spreadsheet captures whether the APR/PMR is overdue, rather than the date of submission. | C12: No | D12: N/A | E12: =Cover_Sheet2!K3 -> 0
B13: % of affiliates that receive a score of ≥60% or pass on all 21 items in the Affiliate Performance Report (APR). For the purposes of the report, this spreadsheet captures whether this specific PAT affiliate received a passing score on their most recent APR. | C13: Yes | D13: N/A | E13: =Cover_Sheet2!L3 -> 0

Sheet Outcomes Aggregate
A1: This sheet will populate automatically based on the data entered in the "Outcomes" spreadsheet. Be sure to choose the correct reporting period on the Cover Sheet tab. Please review the notes in the "n" columns which describe who the n refers to. If you encounter any issues with formatting or dropdown selections, reach out to the CDSS FFPS team for assistance: FFPSApreventionservices@dss.ca.gov. To keep a copy of your aggregate data for each reporting period, save a copy of this sheet and "Fidelity Aggregate". These sheets will overwrite whenever you add new data. Please use your most recent Performance Measures Report and the Annual Performance Report to complete the Required CWS-CARES Fidelity and Outcomes Report which is due annually in October, beginning October 2027. This PAT Optional Fidelity and Outcomes Template can be used to review aggregate data on a monthly, quarterly, biannual, or annual basis. It is designed to support continuous quality improvement (CQI) work in county-level CQI teams and regional PCC sessions.
A2: Outcome Measures
A3: Measure | B3: Indicator | C3: Target | D3: Total | F3: Hispanic | H3: White | J3: Black or African American | L3: Asian | N3: Native Hawaiian or Other Pacific Islander | P3: American Indian or Alaska Native
D4: N | E4: % | F4: N | G4: % | H4: N | I4: % | J4: N | K4: % | L4: N | M4: % | N4: N | O4: % | P4: N | Q4: %
A5: Increased positive parenting practices | B5: % of primary caregivers with children in the target level age range whose caregiver-child interaction was assessed using a validated tool. | C5: 0.6 | D5: =COUNTIFS( Table1[Was this child engaged in services during the report period?], "Yes") -> 0 | E5: =IFERROR(COUNTIFS( Table1[Was this child engaged in services during the report period?], "Yes", Table1[Was the caregiver-child interaction assessed using a validated tool (AAPI-2, HFPI, HOME, KIPS, PICCOLO, PSI-4, PSS, PAPF, or PFS-2)?], "Yes") /COUNTIF(Table1[Was this child engaged in services during the report period?], "Yes"), "NA") -> NA | F5: =COUNTIFS( Table1[Was this child engaged in services during the report period?], "Yes", Table1[Child Hispanic or Latino Ethnicity], "Yes") -> 0 | G5: =IFERROR(COUNTIFS( Table1[Was this child engaged in services during the report period?], "Yes", Table1[Child Hispanic or Latino Ethnicity], "Yes", Table1[Was the caregiver-child interaction assessed using a validated tool (AAPI-2, HFPI, HOME, KIPS, PICCOLO, PSI-4, PSS, PAPF, or PFS-2)?], "Yes") /COUNTIFS(Table1[Was this child engaged in services during the report period?], "Yes", Table1[Child Hispanic or Latino Ethnicity], "Yes"), "NA") -> NA | H5: =COUNTIFS( Table1[Was this child engaged in services during the report period?], "Yes", Table1[Child Race: White], "Yes") -> 0 | I5: =IFERROR(COUNTIFS( Table1[Was this child engaged in services during the report period?], "Yes", Table1[Child Race: White], "Yes", Table1[Was the caregiver-child interaction assessed using a validated tool (AAPI-2, HFPI, HOME, KIPS, PICCOLO, PSI-4, PSS, PAPF, or PFS-2)?], "Yes") /COUNTIFS(Table1[Was this child engaged in services during the report period?], "Yes", Table1[Child Race: White], "Yes"), "NA") -> NA | J5: =COUNTIFS( Table1[Was this child engaged in services during the report period?], "Yes", Table1[Child Race: Black or African American], "Yes") -> 0 | K5: =IFERROR(COUNTIFS( Table1[Was this child engaged in services during the report period?], "Yes", Table1[Child Race: Black or African American], "Yes", Table1[Was the caregiver-child interaction assessed using a validated tool (AAPI-2, HFPI, HOME, KIPS, PICCOLO, PSI-4, PSS, PAPF, or PFS-2)?], "Yes") /COUNTIFS(Table1[Was this child engaged in services during the report period?], "Yes", Table1[Child Race: Black or African American], "Yes"), "NA") -> NA | L5: =COUNTIFS( Table1[Was this child engaged in services during the report period?], "Yes", Table1[Child Race: Asian], "Yes") -> 0 | M5: =IFERROR(COUNTIFS( Table1[Was this child engaged in services during the report period?], "Yes", Table1[Child Race: Asian], "Yes", Table1[Was the caregiver-child interaction assessed using a validated tool (AAPI-2, HFPI, HOME, KIPS, PICCOLO, PSI-4, PSS, PAPF, or PFS-2)?], "Yes") /COUNTIFS(Table1[Was this child engaged in services during the report period?], "Yes", Table1[Child Race: Asian], "Yes"), "NA") -> NA | N5: =COUNTIFS( Table1[Was this child engaged in services during the report period?], "Yes", Table1[Child Race: Native Hawaiian or Other Pacific Islander], "Yes") -> 0 | O5: =IFERROR(COUNTIFS( Table1[Was this child engaged in services during the report period?], "Yes", Table1[Child Race: Native Hawaiian or Other Pacific Islander], "Yes", Table1[Was the caregiver-child interaction assessed using a validated tool (AAPI-2, HFPI, HOME, KIPS, PICCOLO, PSI-4, PSS, PAPF, or PFS-2)?], "Yes") /COUNTIFS(Table1[Was this child engaged in services during the report period?], "Yes", Table1[Child Race: Native Hawaiian or Other Pacific Islander], "Yes"), "NA") -> NA | P5: =COUNTIFS( Table1[Was this child engaged in services during the report period?], "Yes", Table1[Child Race: American Indian or Alaska Native], "Yes") -> 0 | Q5: =IFERROR(COUNTIFS( Table1[Was this child engaged in services during the report period?], "Yes", Table1[Child Race: American Indian or Alaska Native], "Yes", Table1[Was the caregiver-child interaction assessed using a validated tool (AAPI-2, HFPI, HOME, KIPS, PICCOLO, PSI-4, PSS, PAPF, or PFS-2)?], "Yes") /COUNTIFS(Table1[Was this child engaged in services during the report period?], "Yes", Table1[Child Race: American Indian or Alaska Native], "Yes"), "NA") -> NA
A6: Improved pregnancy outcomes | B6: % of infants (among mothers who enrolled in home visiting prenatally before 37 weeks) who are born preterm and with very low birth weight following program enrollment. | C6: <15% | D6: =COUNTIFS( Table1[Was this child engaged in services during the report period?], "Yes", Table1[Was the child''s mother enrolled in the home visiting program prenatally before 37 weeks?], "Yes") -> 0 | E6: =IFERROR(COUNTIFS( Table1[Was this child engaged in services during the report period?], "Yes", Table1[Was the child''s mother enrolled in the home visiting program prenatally before 37 weeks?], "Yes", Table1[If "Yes", was the child born preterm and with very low birth weight following enrollment in the home visiting program?], "Yes") / COUNTIFS( Table1[Was this child engaged in services during the report period?],"Yes", Table1[Was the child''s mother enrolled in the home visiting program prenatally before 37 weeks?], "Yes"), "NA") -> NA | F6: =COUNTIFS( Table1[Was this child engaged in services during the report period?], "Yes", Table1[Child Hispanic or Latino Ethnicity], "Yes", Table1[Was the child''s mother enrolled in the home visiting program prenatally before 37 weeks?], "Yes") -> 0 | G6: =IFERROR(COUNTIFS( Table1[Was this child engaged in services during the report period?], "Yes", Table1[Child Hispanic or Latino Ethnicity], "Yes", Table1[Was the child''s mother enrolled in the home visiting program prenatally before 37 weeks?], "Yes", Table1[If "Yes", was the child born preterm and with very low birth weight following enrollment in the home visiting program?], "Yes") / COUNTIFS( Table1[Was this child engaged in services during the report period?],"Yes", Table1[Child Hispanic or Latino Ethnicity], "Yes", Table1[Was the child''s mother enrolled in the home visiting program prenatally before 37 weeks?], "Yes"), "NA") -> NA | H6: =COUNTIFS( Table1[Was this child engaged in services during the report period?], "Yes", Table1[Child Race: White], "Yes", Table1[Was the child''s mother enrolled in the home visiting program prenatally before 37 weeks?], "Yes") -> 0 | I6: =IFERROR(COUNTIFS( Table1[Was this child engaged in services during the report period?], "Yes", Table1[Child Race: White], "Yes", Table1[Was the child''s mother enrolled in the home visiting program prenatally before 37 weeks?], "Yes", Table1[If "Yes", was the child born preterm and with very low birth weight following enrollment in the home visiting program?], "Yes") / COUNTIFS( Table1[Was this child engaged in services during the report period?],"Yes", Table1[Child Race: White], "Yes", Table1[Was the child''s mother enrolled in the home visiting program prenatally before 37 weeks?], "Yes"), "NA") -> NA | J6: =COUNTIFS( Table1[Was this child engaged in services during the report period?], "Yes", Table1[Child Race: Black or African American], "Yes", Table1[Was the child''s mother enrolled in the home visiting program prenatally before 37 weeks?], "Yes") -> 0 | K6: =IFERROR(COUNTIFS( Table1[Was this child engaged in services during the report period?], "Yes", Table1[Child Race: Black or African American], "Yes", Table1[Was the child''s mother enrolled in the home visiting program prenatally before 37 weeks?], "Yes", Table1[If "Yes", was the child born preterm and with very low birth weight following enrollment in the home visiting program?], "Yes") / COUNTIFS( Table1[Was this child engaged in services during the report period?],"Yes", Table1[Child Race: Black or African American], "Yes", Table1[Was the child''s mother enrolled in the home visiting program prenatally before 37 weeks?], "Yes"), "NA") -> NA | L6: =COUNTIFS( Table1[Was this child engaged in services during the report period?], "Yes", Table1[Child Race: Asian], "Yes", Table1[Was the child''s mother enrolled in the home visiting program prenatally before 37 weeks?], "Yes") -> 0 | M6: =IFERROR(COUNTIFS( Table1[Was this child engaged in services during the report period?], "Yes", Table1[Child Race: Asian], "Yes", Table1[Was the child''s mother enrolled in the home visiting program prenatally before 37 weeks?], "Yes", Table1[If "Yes", was the child born preterm and with very low birth weight following enrollment in the home visiting program?], "Yes") / COUNTIFS( Table1[Was this child engaged in services during the report period?],"Yes", Table1[Child Race: Asian], "Yes", Table1[Was the child''s mother enrolled in the home visiting program prenatally before 37 weeks?], "Yes"), "NA") -> NA | N6: =COUNTIFS( Table1[Was this child engaged in services during the report period?], "Yes", Table1[Child Race: Native Hawaiian or Other Pacific Islander], "Yes", Table1[Was the child''s mother enrolled in the home visiting program prenatally before 37 weeks?], "Yes") -> 0 | O6: =IFERROR(COUNTIFS( Table1[Was this child engaged in services during the report period?], "Yes", Table1[Child Race: Native Hawaiian or Other Pacific Islander], "Yes", Table1[Was the child''s mother enrolled in the home visiting program prenatally before 37 weeks?], "Yes", Table1[If "Yes", was the child born preterm and with very low birth weight following enrollment in the home visiting program?], "Yes") / COUNTIFS( Table1[Was this child engaged in services during the report period?],"Yes", Table1[Child Race: Native Hawaiian or Other Pacific Islander], "Yes", Table1[Was the child''s mother enrolled in the home visiting program prenatally before 37 weeks?], "Yes"), "NA") -> NA | P6: =COUNTIFS( Table1[Was this child engaged in services during the report period?], "Yes", Table1[Child Race: American Indian or Alaska Native], "Yes", Table1[Was the child''s mother enrolled in the home visiting program prenatally before 37 weeks?], "Yes") -> 0 | Q6: =IFERROR(COUNTIFS( Table1[Was this child engaged in services during the report period?], "Yes", Table1[Child Race: American Indian or Alaska Native], "Yes", Table1[Was the child''s mother enrolled in the home visiting program prenatally before 37 weeks?], "Yes", Table1[If "Yes", was the child born preterm and with very low birth weight following enrollment in the home visiting program?], "Yes") / COUNTIFS( Table1[Was this child engaged in services during the report period?],"Yes", Table1[Child Race: American Indian or Alaska Native], "Yes", Table1[Was the child''s mother enrolled in the home visiting program prenatally before 37 weeks?], "Yes"), "NA") -> NA
A7: Improved child health & development | B7: % of children enrolled in home visiting with a timely screen for developmental delays using a validated parent-completed tool. | C7: 0.6 | D7: =COUNTIFS(Table1[Was this child engaged in services during the report period?], "Yes", Table1[Child Age at End of Reporting Period in Months], ">=5") -> 0 | E7: =IFERROR(COUNTIFS(Table1[Was this child engaged in services during the report period?], "Yes", Table1[Child Age at End of Reporting Period in Months], ">=5", Table1[Is the child''s screening for developmental delays up-to-date based on the child''s age (for children ages 5 months and older)?], "Up to date")/COUNTIFS(Table1[Was this child engaged in services during the report period?], "Yes", Table1[Child Age at End of Reporting Period in Months], ">=5"),"NA") -> NA | F7: =COUNTIFS(Table1[Child Hispanic or Latino Ethnicity], "Yes", Table1[Was this child engaged in services during the report period?], "Yes", Table1[Child Age at End of Reporting Period in Months], ">=5") -> 0 | G7: =IFERROR(COUNTIFS(Table1[Child Hispanic or Latino Ethnicity], "Yes", Table1[Was this child engaged in services during the report period?], "Yes", Table1[Child Age at End of Reporting Period in Months], ">=5", Table1[Is the child''s screening for developmental delays up-to-date based on the child''s age (for children ages 5 months and older)?], "Up to date")/COUNTIFS(Table1[Child Hispanic or Latino Ethnicity], "Yes", Table1[Was this child engaged in services during the report period?], "Yes", Table1[Child Age at End of Reporting Period in Months], ">=5"),"NA") -> NA | H7: =COUNTIFS(Table1[Child Race: White], "Yes", Table1[Was this child engaged in services during the report period?], "Yes", Table1[Child Age at End of Reporting Period in Months], ">=5") -> 0 | I7: =IFERROR(COUNTIFS(Table1[Child Race: White], "Yes", Table1[Was this child engaged in services during the report period?], "Yes", Table1[Child Age at End of Reporting Period in Months], ">=5", Table1[Is the child''s screening for developmental delays up-to-date based on the child''s age (for children ages 5 months and older)?], "Up to date")/COUNTIFS(Table1[Child Race: White], "Yes", Table1[Was this child engaged in services during the report period?], "Yes", Table1[Child Age at End of Reporting Period in Months], ">=5"),"NA") -> NA | J7: =COUNTIFS(Table1[Child Race: Black or African American], "Yes", Table1[Was this child engaged in services during the report period?], "Yes", Table1[Child Age at End of Reporting Period in Months], ">=5") -> 0 | K7: =IFERROR(COUNTIFS(Table1[Child Race: Black or African American], "Yes", Table1[Was this child engaged in services during the report period?], "Yes", Table1[Child Age at End of Reporting Period in Months], ">=5", Table1[Is the child''s screening for developmental delays up-to-date based on the child''s age (for children ages 5 months and older)?], "Up to date")/COUNTIFS(Table1[Child Race: Black or African American], "Yes", Table1[Was this child engaged in services during the report period?], "Yes", Table1[Child Age at End of Reporting Period in Months], ">=5"),"NA") -> NA | L7: =COUNTIFS(Table1[Child Race: Asian], "Yes", Table1[Was this child engaged in services during the report period?], "Yes", Table1[Child Age at End of Reporting Period in Months], ">=5") -> 0 | M7: =IFERROR(COUNTIFS(Table1[Child Race: Asian], "Yes", Table1[Was this child engaged in services during the report period?], "Yes", Table1[Child Age at End of Reporting Period in Months], ">=5", Table1[Is the child''s screening for developmental delays up-to-date based on the child''s age (for children ages 5 months and older)?], "Up to date")/COUNTIFS(Table1[Child Race: Asian], "Yes", Table1[Was this child engaged in services during the report period?], "Yes", Table1[Child Age at End of Reporting Period in Months], ">=5"),"NA") -> NA | N7: =COUNTIFS(Table1[Child Race: Native Hawaiian or Other Pacific Islander], "Yes", Table1[Was this child engaged in services during the report period?], "Yes", Table1[Child Age at End of Reporting Period in Months], ">=5") -> 0 | O7: =IFERROR(COUNTIFS(Table1[Child Race: Native Hawaiian or Other Pacific Islander], "Yes", Table1[Was this child engaged in services during the report period?], "Yes", Table1[Child Age at End of Reporting Period in Months], ">=5", Table1[Is the child''s screening for developmental delays up-to-date based on the child''s age (for children ages 5 months and older)?], "Up to date")/COUNTIFS(Table1[Child Race: Native Hawaiian or Other Pacific Islander], "Yes", Table1[Was this child engaged in services during the report period?], "Yes", Table1[Child Age at End of Reporting Period in Months], ">=5"),"NA") -> NA | P7: =COUNTIFS(Table1[Child Race: American Indian or Alaska Native], "Yes", Table1[Was this child engaged in services during the report period?], "Yes", Table1[Child Age at End of Reporting Period in Months], ">=5") -> 0 | Q7: =IFERROR(COUNTIFS(Table1[Child Race: American Indian or Alaska Native], "Yes", Table1[Was this child engaged in services during the report period?], "Yes", Table1[Child Age at End of Reporting Period in Months], ">=5", Table1[Is the child''s screening for developmental delays up-to-date based on the child''s age (for children ages 5 months and older)?], "Up to date")/COUNTIFS(Table1[Child Race: American Indian or Alaska Native], "Yes", Table1[Was this child engaged in services during the report period?], "Yes", Table1[Child Age at End of Reporting Period in Months], ">=5"),"NA") -> NA
