Workbook
Name HomeVisitorsFilteredList: 'County Names to hide (2)'!$C$2
Name HomeVisitorsFilteredList: #REF!
Name HomeVisitorsFilteredList: 'County Names to hide'!$C$2
Name HV_FilteredList: 'County Names to hide (2)'!$C$2:$C$1001
Name HV_FilteredList: #REF!
Name HV_FilteredList: 'County Names to hide'!$C$2:$C$1000

Sheet County Names to hide (2)
A1: Counties | B1: Today's Date | C1: Start of Reporting Period | D1: End of Reporting Period
A2: Alameda | B2: =TODAY() -> 46307 | C2: =Cover_Sheet2!$H3 -> 46113 | D2: =Cover_Sheet2!$I3 -> 46295 | E2: =EDATE('County Names to hide (2)'!$C$2,-6) -> 45931
A3: Alpine
A4: Amador
A5: Butte
A6: Calaveras
A7: Colusa
A8: Contra Costa
A9: Del Norte
A10: El Dorado
A11: Fresno
A12: Glenn
A13: Humboldt
A14: Imperial
... A61: Yurok Tribe

Sheet Cover_Sheet2
A1: Instructions for Completing the Spreadsheet Each report period, one person from the county or community-based organization should complete row 3 of this cover sheet. Fill in every column. Update the Report Type, month you want the report period to start in, and year you want the report period to start in, each time you report to keep the aggregate outcome and fidelity data accurate. Do not add more rows to this sheet. If you encounter any issues with formatting or dropdown selections, reach out to the CDSS FFPS team for assistance: FFPSApreventionservices@dss.ca.gov. To keep a copy of your aggregate data for each reporting period, save a copy of the "Outcomes Aggregate" and "Fidelity Aggregate" sheets. These sheets will overwrite whenever you add new data. County CQI Teams may review aggregate fidelity and outcome data on a quarterly basis. Use columns E,F,and G below to select the appropriate quarter in advance of the team meetings. Reminder: The Required CWS-CARES Fidelity & Outcomes Reports are completed every six months. Providers are responsible for uploading their own model fidelity and outcomes documentation via the FFPSA portal in CARES. To prepare the Required CWS-CARES Fidelity & Outcomes Report: 1. For data due in March: Set the reporting period to begin September 01 of the prior year and end February 28th, (29th on leap years) of the current year. 2. For data in October: Set the reporting period to begin March 01 of the current year and end August 31st, of the current year. Updated October 12, 2026
A2: County Name | B2: Name of EBP Model | C2: Name of Agency providing PCIT to FFPSA candidates | D2: Name of Site providing PCIT to FFPSA candidates | E2: Report Type | F2: What month do you want the report period to start in? | G2: What year do you want the report period to start in? | H2: Reporting Period Start Date | I2: Reporting Period End Date | J2: Fiscal Year | K2: Report Completed By | L2: Email Address
A3: Alpine | B3: PCIT | E3: Biannual | F3: April | G3: 2026 | H3: =DATE(G3, MONTH(DATEVALUE("1 "&F3)), 1) -> 46113 | I3: {=_xlfn.IFS( E3="Monthly", EOMONTH(H3,0), E3="Quarterly", EOMONTH(H3,2), E3="Biannual", EOMONTH(H3,5), E3="Yearly", EOMONTH(H3,11) )} -> 46295 | J3: 2027

Sheet Fidelity
A1: Instructions for Completing the Spreadsheet Please enter all staff names and employment dates here. Use the dropdown menus where provided to ensure consistent responses and hover over cells to view notes for specific guidance on each field. Follow the flow of the spreadsheet, ensuring that cells dependent on a prior answer are completed appropriately. If a cell does not apply based on the answer to the previous cell, leave it blank and move to the next applicable field. Conditional formatting has been applied to some cells. If you encounter any issues with formatting or dropdown selections, reach out to the CDSS FFPS team for assistance: FFPSApreventionservices@dss.ca.gov
A2: Agency Name: | D2: Site Name:
A3: Therapist First and Last Name | B3: Employment Start Date | C3: Employment End Date | D3: Was this therapist employed by your agency during the report period? | E3: Has this therapist completed basic and consultation training? | F3: Has this therapist completed at least 3 hours of PCIT continuing education credit? | G3: Does this therapist have a master's degree or higher? | H3: Is this therapist licensed?
D4: =IF(OR(A4="", B4=""), "", IF(AND( B4 <= 'County Names to hide (2)'!$D$2, OR(C4="", C4 >= 'County Names to hide (2)'!$C$2) ), "Yes", "No" ) )
D5: =IF(OR(A5="", B5=""), "", IF(AND( B5 <= 'County Names to hide (2)'!$D$2, OR(C5="", C5 >= 'County Names to hide (2)'!$C$2) ), "Yes", "No" ) )
D6: =IF(OR(A6="", B6=""), "", IF(AND( B6 <= 'County Names to hide (2)'!$D$2, OR(C6="", C6 >= 'County Names to hide (2)'!$C$2) ), "Yes", "No" ) )
D7: =IF(OR(A7="", B7=""), "", IF(AND( B7 <= 'County Names to hide (2)'!$D$2, OR(C7="", C7 >= 'County Names to hide (2)'!$C$2) ), "Yes", "No" ) )
D8: =IF(OR(A8="", B8=""), "", IF(AND( B8 <= 'County Names to hide (2)'!$D$2, OR(C8="", C8 >= 'County Names to hide (2)'!$C$2) ), "Yes", "No" ) )
D9: =IF(OR(A9="", B9=""), "", IF(AND( B9 <= 'County Names to hide (2)'!$D$2, OR(C9="", C9 >= 'County Names to hide (2)'!$C$2) ), "Yes", "No" ) )
D10: =IF(OR(A10="", B10=""), "", IF(AND( B10 <= 'County Names to hide (2)'!$D$2, OR(C10="", C10 >= 'County Names to hide (2)'!$C$2) ), "Yes", "No" ) )
D11: =IF(OR(A11="", B11=""), "", IF(AND( B11 <= 'County Names to hide (2)'!$D$2, OR(C11="", C11 >= 'County Names to hide (2)'!$C$2) ), "Yes", "No" ) )
D12: =IF(OR(A12="", B12=""), "", IF(AND( B12 <= 'County Names to hide (2)'!$D$2, OR(C12="", C12 >= 'County Names to hide (2)'!$C$2) ), "Yes", "No" ) )
D13: =IF(OR(A13="", B13=""), "", IF(AND( B13 <= 'County Names to hide (2)'!$D$2, OR(C13="", C13 >= 'County Names to hide (2)'!$C$2) ), "Yes", "No" ) )
D14: =IF(OR(A14="", B14=""), "", IF(AND( B14 <= 'County Names to hide (2)'!$D$2, OR(C14="", C14 >= 'County Names to hide (2)'!$C$2) ), "Yes", "No" ) )
D15: =IF(OR(A15="", B15=""), "", IF(AND( B15 <= 'County Names to hide (2)'!$D$2, OR(C15="", C15 >= 'County Names to hide (2)'!$C$2) ), "Yes", "No" ) )
... D100: =IF(OR(A100="", B100=""), "", IF(AND( B100 <= 'County Names to hide (2)'!$D$2, OR(C100="", C100 >= 'County Names to hide (2)'!$C$2) ), "Yes", "No" ) )

Sheet Outcomes
A1: Instructions for Completing the Spreadsheet Use the dropdown menus where provided to ensure consistent responses and hover over cells to view notes for specific guidance on each field. Follow the flow of the spreadsheet, ensuring that cells dependent on a prior answer are completed appropriately. If a cell does not apply based on the answer to the previous cell, leave it blank and move to the next applicable field. Conditional formatting has been applied to some cells. If you encounter any issues with formatting or dropdown selections, reach out to the CDSS FFPS team for assistance: FFPSApreventionservices@dss.ca.gov
A2: Agency Name: | D2: Site Name:
A3: Child Identifier | M3: Program Start and End Dates
A4: DCFS/Probation Unique Identifier | B4: PCIT Child ID | C4: Child Date of Birth | D4: Child Sex | E4: Child Hispanic or Latino Ethnicity | F4: Child Race: White | G4: Child Race: Black or African American | H4: Child Race: Asian | I4: Child Race: Native Hawaiian or Other Pacific Islander | J4: Child Race: American Indian or Alaska Native | K4: Child Race: Declined | L4: Child Race: Unknown | M4: Program Start Date | N4: Program End Date | O4: Was this child engaged in services during the report period? | P4: Date Child Specific Prevention Plan Start (Year One) | Q4: Date Child Specific Prevention Plan Ended (Year One) | R4: Date Child Specific Prevention Plan Start (Year Two) | S4: Date Child Specific Prevention Plan Ended (Year Two) | T4: Months Open at End of Report Period | U4: Child Age at End of Report Period in months | V4: Did the case close during the report period? | W4: Has an ECBI or WACB been completed for every session so far? | X4: Was a DPICS-IV completed for every session so far except when the child was not present? | Y4: Did the caregiver demonstrate improvement on the PRIDE skills? | Z4: Did the caregiver demonstrate goal criteria in Phase 2, Parent-Directed Interaction (PDI)? | AA4: If the case closed, what was the total number of visits (as defined by the PCIT model) that the family received? | AB4: Did the caregiver have a decrease in ECBI score at service completion/discharge? | AC4: Has more than one ECBI been completed for this child? | AD4: If yes, was the child's behavior rated in the normal range (≤114) on their most recent ECBI Intensity Scale?
L5: =IF(COUNTIF(F6:K6, "Yes")>0, "No", "Yes") -> Yes | O5: =IF(OR(A5="", M5=""), "", IF(AND( M5 <= 'County Names to hide (2)'!$D$2, OR(N5="", N5 >= 'County Names to hide (2)'!$C$2) ), "Yes", "No" ) ) | T5: =IF(Outcomes!M5="","", IF(AND(Outcomes!N5<>"",Outcomes!N5<'County Names to hide (2)'!$C$2),0, ROUND((MIN(IF(Outcomes!N5="", 'County Names to hide (2)'!$D$2, Outcomes!N5),'County Names to hide (2)'!$D$2)-Outcomes!M5)/30,1))) | U5: =IF(Outcomes!C5="", "", DATEDIF(Outcomes!C5, 'County Names to hide (2)'!$D$2, "m")) | V5: =IF(OR(A5="", M5="", N5=""), "", IF(AND( N5 >= 'County Names to hide (2)'!$C$2, N5 <= 'County Names to hide (2)'!$D$2 ), "Yes", "No" ) )
L6: =IF(COUNTIF(F7:K7, "Yes")>0, "No", "Yes") -> Yes | O6: =IF(OR(A6="", M6=""), "", IF(AND( M6 <= 'County Names to hide (2)'!$D$2, OR(N6="", N6 >= 'County Names to hide (2)'!$C$2) ), "Yes", "No" ) ) | T6: =IF(Outcomes!M6="","", IF(AND(Outcomes!N6<>"",Outcomes!N6<'County Names to hide (2)'!$C$2),0, ROUND((MIN(IF(Outcomes!N6="", 'County Names to hide (2)'!$D$2, Outcomes!N6),'County Names to hide (2)'!$D$2)-Outcomes!M6)/30,1))) | U6: =IF(Outcomes!C6="", "", DATEDIF(Outcomes!C6, 'County Names to hide (2)'!$D$2, "m")) | V6: =IF(OR(A6="", M6="", N6=""), "", IF(AND( N6 >= 'County Names to hide (2)'!$C$2, N6 <= 'County Names to hide (2)'!$D$2 ), "Yes", "No" ) )
L7: =IF(COUNTIF(F8:K8, "Yes")>0, "No", "Yes") -> Yes | O7: =IF(OR(A7="", M7=""), "", IF(AND( M7 <= 'County Names to hide (2)'!$D$2, OR(N7="", N7 >= 'County Names to hide (2)'!$C$2) ), "Yes", "No" ) ) | T7: =IF(Outcomes!M7="","", IF(AND(Outcomes!N7<>"",Outcomes!N7<'County Names to hide (2)'!$C$2),0, ROUND((MIN(IF(Outcomes!N7="", 'County Names to hide (2)'!$D$2, Outcomes!N7),'County Names to hide (2)'!$D$2)-Outcomes!M7)/30,1))) | U7: =IF(Outcomes!C7="", "", DATEDIF(Outcomes!C7, 'County Names to hide (2)'!$D$2, "m")) | V7: =IF(OR(A7="", M7="", N7=""), "", IF(AND( N7 >= 'County Names to hide (2)'!$C$2, N7 <= 'County Names to hide (2)'!$D$2 ), "Yes", "No" ) )
L8: =IF(COUNTIF(F9:K9, "Yes")>0, "No", "Yes") -> Yes | O8: =IF(OR(A8="", M8=""), "", IF(AND( M8 <= 'County Names to hide (2)'!$D$2, OR(N8="", N8 >= 'County Names to hide (2)'!$C$2) ), "Yes", "No" ) ) | T8: =IF(Outcomes!M8="","", IF(AND(Outcomes!N8<>"",Outcomes!N8<'County Names to hide (2)'!$C$2),0, ROUND((MIN(IF(Outcomes!N8="", 'County Names to hide (2)'!$D$2, Outcomes!N8),'County Names to hide (2)'!$D$2)-Outcomes!M8)/30,1))) | U8: =IF(Outcomes!C8="", "", DATEDIF(Outcomes!C8, 'County Names to hide (2)'!$D$2, "m")) | V8: =IF(OR(A8="", M8="", N8=""), "", IF(AND( N8 >= 'County Names to hide (2)'!$C$2, N8 <= 'County Names to hide (2)'!$D$2 ), "Yes", "No" ) )
L9: =IF(COUNTIF(F10:K10, "Yes")>0, "No", "Yes") -> Yes | O9: =IF(OR(A9="", M9=""), "", IF(AND( M9 <= 'County Names to hide (2)'!$D$2, OR(N9="", N9 >= 'County Names to hide (2)'!$C$2) ), "Yes", "No" ) ) | T9: =IF(Outcomes!M9="","", IF(AND(Outcomes!N9<>"",Outcomes!N9<'County Names to hide (2)'!$C$2),0, ROUND((MIN(IF(Outcomes!N9="", 'County Names to hide (2)'!$D$2, Outcomes!N9),'County Names to hide (2)'!$D$2)-Outcomes!M9)/30,1))) | U9: =IF(Outcomes!C9="", "", DATEDIF(Outcomes!C9, 'County Names to hide (2)'!$D$2, "m")) | V9: =IF(OR(A9="", M9="", N9=""), "", IF(AND( N9 >= 'County Names to hide (2)'!$C$2, N9 <= 'County Names to hide (2)'!$D$2 ), "Yes", "No" ) )
L10: =IF(COUNTIF(F11:K11, "Yes")>0, "No", "Yes") -> Yes | O10: =IF(OR(A10="", M10=""), "", IF(AND( M10 <= 'County Names to hide (2)'!$D$2, OR(N10="", N10 >= 'County Names to hide (2)'!$C$2) ), "Yes", "No" ) ) | T10: =IF(Outcomes!M10="","", IF(AND(Outcomes!N10<>"",Outcomes!N10<'County Names to hide (2)'!$C$2),0, ROUND((MIN(IF(Outcomes!N10="", 'County Names to hide (2)'!$D$2, Outcomes!N10),'County Names to hide (2)'!$D$2)-Outcomes!M10)/30,1))) | U10: =IF(Outcomes!C10="", "", DATEDIF(Outcomes!C10, 'County Names to hide (2)'!$D$2, "m")) | V10: =IF(OR(A10="", M10="", N10=""), "", IF(AND( N10 >= 'County Names to hide (2)'!$C$2, N10 <= 'County Names to hide (2)'!$D$2 ), "Yes", "No" ) )
L11: =IF(COUNTIF(F12:K12, "Yes")>0, "No", "Yes") -> Yes | O11: =IF(OR(A11="", M11=""), "", IF(AND( M11 <= 'County Names to hide (2)'!$D$2, OR(N11="", N11 >= 'County Names to hide (2)'!$C$2) ), "Yes", "No" ) ) | T11: =IF(Outcomes!M11="","", IF(AND(Outcomes!N11<>"",Outcomes!N11<'County Names to hide (2)'!$C$2),0, ROUND((MIN(IF(Outcomes!N11="", 'County Names to hide (2)'!$D$2, Outcomes!N11),'County Names to hide (2)'!$D$2)-Outcomes!M11)/30,1))) | U11: =IF(Outcomes!C11="", "", DATEDIF(Outcomes!C11, 'County Names to hide (2)'!$D$2, "m")) | V11: =IF(OR(A11="", M11="", N11=""), "", IF(AND( N11 >= 'County Names to hide (2)'!$C$2, N11 <= 'County Names to hide (2)'!$D$2 ), "Yes", "No" ) )
L12: =IF(COUNTIF(F13:K13, "Yes")>0, "No", "Yes") -> Yes | O12: =IF(OR(A12="", M12=""), "", IF(AND( M12 <= 'County Names to hide (2)'!$D$2, OR(N12="", N12 >= 'County Names to hide (2)'!$C$2) ), "Yes", "No" ) ) | T12: =IF(Outcomes!M12="","", IF(AND(Outcomes!N12<>"",Outcomes!N12<'County Names to hide (2)'!$C$2),0, ROUND((MIN(IF(Outcomes!N12="", 'County Names to hide (2)'!$D$2, Outcomes!N12),'County Names to hide (2)'!$D$2)-Outcomes!M12)/30,1))) | U12: =IF(Outcomes!C12="", "", DATEDIF(Outcomes!C12, 'County Names to hide (2)'!$D$2, "m")) | V12: =IF(OR(A12="", M12="", N12=""), "", IF(AND( N12 >= 'County Names to hide (2)'!$C$2, N12 <= 'County Names to hide (2)'!$D$2 ), "Yes", "No" ) )
L13: =IF(COUNTIF(F14:K14, "Yes")>0, "No", "Yes") -> Yes | O13: =IF(OR(A13="", M13=""), "", IF(AND( M13 <= 'County Names to hide (2)'!$D$2, OR(N13="", N13 >= 'County Names to hide (2)'!$C$2) ), "Yes", "No" ) ) | T13: =IF(Outcomes!M13="","", IF(AND(Outcomes!N13<>"",Outcomes!N13<'County Names to hide (2)'!$C$2),0, ROUND((MIN(IF(Outcomes!N13="", 'County Names to hide (2)'!$D$2, Outcomes!N13),'County Names to hide (2)'!$D$2)-Outcomes!M13)/30,1))) | U13: =IF(Outcomes!C13="", "", DATEDIF(Outcomes!C13, 'County Names to hide (2)'!$D$2, "m")) | V13: =IF(OR(A13="", M13="", N13=""), "", IF(AND( N13 >= 'County Names to hide (2)'!$C$2, N13 <= 'County Names to hide (2)'!$D$2 ), "Yes", "No" ) )
L14: =IF(COUNTIF(F15:K15, "Yes")>0, "No", "Yes") -> Yes | O14: =IF(OR(A14="", M14=""), "", IF(AND( M14 <= 'County Names to hide (2)'!$D$2, OR(N14="", N14 >= 'County Names to hide (2)'!$C$2) ), "Yes", "No" ) ) | T14: =IF(Outcomes!M14="","", IF(AND(Outcomes!N14<>"",Outcomes!N14<'County Names to hide (2)'!$C$2),0, ROUND((MIN(IF(Outcomes!N14="", 'County Names to hide (2)'!$D$2, Outcomes!N14),'County Names to hide (2)'!$D$2)-Outcomes!M14)/30,1))) | U14: =IF(Outcomes!C14="", "", DATEDIF(Outcomes!C14, 'County Names to hide (2)'!$D$2, "m")) | V14: =IF(OR(A14="", M14="", N14=""), "", IF(AND( N14 >= 'County Names to hide (2)'!$C$2, N14 <= 'County Names to hide (2)'!$D$2 ), "Yes", "No" ) )
L15: =IF(COUNTIF(F16:K16, "Yes")>0, "No", "Yes") -> Yes | O15: =IF(OR(A15="", M15=""), "", IF(AND( M15 <= 'County Names to hide (2)'!$D$2, OR(N15="", N15 >= 'County Names to hide (2)'!$C$2) ), "Yes", "No" ) ) | T15: =IF(Outcomes!M15="","", IF(AND(Outcomes!N15<>"",Outcomes!N15<'County Names to hide (2)'!$C$2),0, ROUND((MIN(IF(Outcomes!N15="", 'County Names to hide (2)'!$D$2, Outcomes!N15),'County Names to hide (2)'!$D$2)-Outcomes!M15)/30,1))) | U15: =IF(Outcomes!C15="", "", DATEDIF(Outcomes!C15, 'County Names to hide (2)'!$D$2, "m")) | V15: =IF(OR(A15="", M15="", N15=""), "", IF(AND( N15 >= 'County Names to hide (2)'!$C$2, N15 <= 'County Names to hide (2)'!$D$2 ), "Yes", "No" ) )
L16: =IF(COUNTIF(F17:K17, "Yes")>0, "No", "Yes") -> Yes | O16: =IF(OR(A16="", M16=""), "", IF(AND( M16 <= 'County Names to hide (2)'!$D$2, OR(N16="", N16 >= 'County Names to hide (2)'!$C$2) ), "Yes", "No" ) ) | T16: =IF(Outcomes!M16="","", IF(AND(Outcomes!N16<>"",Outcomes!N16<'County Names to hide (2)'!$C$2),0, ROUND((MIN(IF(Outcomes!N16="", 'County Names to hide (2)'!$D$2, Outcomes!N16),'County Names to hide (2)'!$D$2)-Outcomes!M16)/30,1))) | U16: =IF(Outcomes!C16="", "", DATEDIF(Outcomes!C16, 'County Names to hide (2)'!$D$2, "m")) | V16: =IF(OR(A16="", M16="", N16=""), "", IF(AND( N16 >= 'County Names to hide (2)'!$C$2, N16 <= 'County Names to hide (2)'!$D$2 ), "Yes", "No" ) )
... L500: =IF(COUNTIF(F501:K501, "Yes")>0, "No", "Yes") -> Yes | O500: =IF(OR(A500="", M500=""), "", IF(AND( M500 <= 'County Names to hide (2)'!$D$2, OR(N500="", N500 >= 'County Names to hide (2)'!$C$2) ), "Yes", "No" ) ) | T500: =IF(Outcomes!M500="","", IF(AND(Outcomes!N500<>"",Outcomes!N500<'County Names to hide (2)'!$C$2),0, ROUND((MIN(IF(Outcomes!N500="", 'County Names to hide (2)'!$D$2, Outcomes!N500),'County Names to hide (2)'!$D$2)-Outcomes!M500)/30,1))) | U500: =IF(Outcomes!C500="", "", DATEDIF(Outcomes!C500, 'County Names to hide (2)'!$D$2, "m")) | V500: =IF(OR(A500="", M500="", N500=""), "", IF(AND( N500 >= 'County Names to hide (2)'!$C$2, N500 <= 'County Names to hide (2)'!$D$2 ), "Yes", "No" ) )

Sheet Outcomes Aggregate 
A1: This sheet will populate automatically based on the data entered in the "Outcomes" spreadsheet. Be sure to choose the correct reporting period on the Cover Sheet tab. Please review the notes in the "n" columns which describe who the n refers to. If you encounter any issues with formatting or dropdown selections, reach out to the CDSS FFPS team for assistance: FFPSApreventionservices@dss.ca.gov. To keep a copy of your aggregate data for each reporting period, save a copy of this sheet and "Fidelity Aggregate". These sheets will overwrite whenever you add new data. Reminder: The Required CWS-CARES Fidelity & Outcomes Reports are completed every six months. Providers are responsible for uploading their own model fidelity and outcomes documentation via the FFPSA portal in CARES. To prepare the Required CWS-CARES Fidelity & Outcomes Report: 1. For data due in March: Set the reporting period to begin September 01 of the prior year and end February 28th, (29th on leap years) of the current year. 2. For data due in October: Set the reporting period to begin March 01 of the current year and end August 31st, of the current year. 3. Use the numbers in the "Total %" column on this spreadsheet for the outcomes on the Required CWS-CARES Fidelity & Outcomes Report.
A2: Outcome Measures
A3: Measure | B3: Indicator | C3: Target | D3: Total | F3: Hispanic | H3: White | J3: Black or African American | L3: Asian | N3: Native Hawaiian or Other Pacific Islander | P3: American Indian or Alaska Native
D4: N | E4: % | F4: N | G4: % | H4: N | I4: % | J4: N | K4: % | L4: N | M4: % | N4: N | O4: % | P4: N | Q4: %
A5: Increased Positive Parenting Practices | B5: % of caregivers who demonstrate improvement on the PRIDE skills. | C5: 0.5 | D5: =COUNTIF(Table2[Was this child engaged in services during the report period?], "Yes") -> 0 | E5: =IFERROR( COUNTIFS(Table2[Was this child engaged in services during the report period?],"Yes", Table2[Did the caregiver demonstrate improvement on the PRIDE skills?],"Yes") /COUNTIF(Table2[Was this child engaged in services during the report period?],"Yes"), "NA" ) -> NA | F5: =COUNTIFS(Table2[Child Hispanic or Latino Ethnicity],"Yes", Table2[Was this child engaged in services during the report period?],"Yes") -> 0 | G5: =IFERROR(COUNTIFS(Table2[Was this child engaged in services during the report period?],"Yes",Table2[Did the caregiver demonstrate improvement on the PRIDE skills?],"Yes",Table2[Child Hispanic or Latino Ethnicity],"Yes")/COUNTIFS(Table2[Was this child engaged in services during the report period?],"Yes",Table2[Child Hispanic or Latino Ethnicity],"Yes"),"NA") -> NA | H5: =COUNTIFS(Table2[Was this child engaged in services during the report period?],"Yes",Table2[Child Race: White],"Yes") -> 0 | I5: =IFERROR(COUNTIFS(Table2[Was this child engaged in services during the report period?],"Yes",Table2[Did the caregiver demonstrate improvement on the PRIDE skills?],"Yes",Table2[Child Race: White],"Yes")/COUNTIFS(Table2[Was this child engaged in services during the report period?],"Yes",Table2[Child Race: White],"Yes"),"NA") -> NA | J5: =COUNTIFS(Table2[Was this child engaged in services during the report period?],"Yes",Table2[Child Race: Black or African American],"Yes") -> 0 | K5: =IFERROR(COUNTIFS(Table2[Was this child engaged in services during the report period?],"Yes",Table2[Did the caregiver demonstrate improvement on the PRIDE skills?],"Yes",Table2[Child Race: Black or African American],"Yes")/COUNTIFS(Table2[Was this child engaged in services during the report period?],"Yes",Table2[Child Race: Black or African American],"Yes"),"NA") -> NA | L5: =COUNTIFS(Table2[Was this child engaged in services during the report period?],"Yes",Table2[Child Race: Asian],"Yes") -> 0 | M5: =IFERROR(COUNTIFS(Table2[Was this child engaged in services during the report period?],"Yes",Table2[Did the caregiver demonstrate improvement on the PRIDE skills?],"Yes",Table2[Child Race: Asian],"Yes")/COUNTIFS(Table2[Was this child engaged in services during the report period?],"Yes",Table2[Child Race: Asian],"Yes"),"NA") -> NA | N5: =COUNTIFS(Table2[Was this child engaged in services during the report period?],"Yes",Table2[Child Race: Native Hawaiian or Other Pacific Islander],"Yes") -> 0 | O5: =IFERROR(COUNTIFS(Table2[Was this child engaged in services during the report period?],"Yes",Table2[Did the caregiver demonstrate improvement on the PRIDE skills?],"Yes",Table2[Child Race: Native Hawaiian or Other Pacific Islander],"Yes")/COUNTIFS(Table2[Was this child engaged in services during the report period?],"Yes",Table2[Child Race: Native Hawaiian or Other Pacific Islander],"Yes"),"NA") -> NA | P5: =COUNTIFS(Table2[Was this child engaged in services during the report period?],"Yes",Table2[Child Race: American Indian or Alaska Native],"Yes") -> 0 | Q5: =IFERROR(COUNTIFS(Table2[Was this child engaged in services during the report period?],"Yes",Table2[Did the caregiver demonstrate improvement on the PRIDE skills?],"Yes",Table2[Child Race: American Indian or Alaska Native],"Yes")/COUNTIFS(Table2[Was this child engaged in services during the report period?],"Yes",Table2[Child Race: American Indian or Alaska Native],"Yes"),"NA") -> NA
B6: % of caregivers who demonstrate goal criteria in Phase 2, Parent-Directed Interaction (PDI). Note: “Goal criteria” means at least 75% of caregivers’ commands meet criteria for being “effective”. | C6: 0.75 | D6: =COUNTIF(Table2[Was this child engaged in services during the report period?], "Yes") -> 0 | E6: =IFERROR(COUNTIFS(Table2[Was this child engaged in services during the report period?],"Yes",Table2[Did the caregiver demonstrate goal criteria in Phase 2, Parent-Directed Interaction (PDI)?],"Yes")/COUNTIF(Table2[Was this child engaged in services during the report period?],"Yes"),"NA") -> NA | F6: =COUNTIFS(Table2[Was this child engaged in services during the report period?],"Yes",Table2[Child Hispanic or Latino Ethnicity],"Yes") -> 0 | G6: =IFERROR(COUNTIFS(Table2[Was this child engaged in services during the report period?],"Yes",Table2[Did the caregiver demonstrate goal criteria in Phase 2, Parent-Directed Interaction (PDI)?],"Yes",Table2[Child Hispanic or Latino Ethnicity],"Yes")/COUNTIFS(Table2[Was this child engaged in services during the report period?],"Yes",Table2[Child Hispanic or Latino Ethnicity],"Yes"),"NA") -> NA | H6: =COUNTIFS(Table2[Was this child engaged in services during the report period?],"Yes",Table2[Child Race: White],"Yes") -> 0 | I6: =IFERROR(COUNTIFS(Table2[Was this child engaged in services during the report period?],"Yes",Table2[Did the caregiver demonstrate goal criteria in Phase 2, Parent-Directed Interaction (PDI)?],"Yes",Table2[Child Race: White],"Yes")/COUNTIFS(Table2[Was this child engaged in services during the report period?],"Yes",Table2[Child Race: White],"Yes"),"NA") -> NA | J6: =COUNTIFS(Table2[Was this child engaged in services during the report period?],"Yes",Table2[Child Race: Black or African American],"Yes") -> 0 | K6: =IFERROR(COUNTIFS(Table2[Was this child engaged in services during the report period?],"Yes",Table2[Did the caregiver demonstrate goal criteria in Phase 2, Parent-Directed Interaction (PDI)?],"Yes",Table2[Child Race: Black or African American],"Yes")/COUNTIFS(Table2[Was this child engaged in services during the report period?],"Yes",Table2[Child Race: Black or African American],"Yes"),"NA") -> NA | L6: =COUNTIFS(Table2[Was this child engaged in services during the report period?],"Yes",Table2[Child Race: Asian],"Yes") -> 0 | M6: =IFERROR(COUNTIFS(Table2[Was this child engaged in services during the report period?],"Yes",Table2[Did the caregiver demonstrate goal criteria in Phase 2, Parent-Directed Interaction (PDI)?],"Yes",Table2[Child Race: Asian],"Yes")/COUNTIFS(Table2[Was this child engaged in services during the report period?],"Yes",Table2[Child Race: Asian],"Yes"),"NA") -> NA | N6: =COUNTIFS(Table2[Was this child engaged in services during the report period?],"Yes",Table2[Child Race: Native Hawaiian or Other Pacific Islander],"Yes") -> 0 | O6: =IFERROR(COUNTIFS(Table2[Was this child engaged in services during the report period?],"Yes",Table2[Did the caregiver demonstrate goal criteria in Phase 2, Parent-Directed Interaction (PDI)?],"Yes",Table2[Child Race: Native Hawaiian or Other Pacific Islander],"Yes")/COUNTIFS(Table2[Was this child engaged in services during the report period?],"Yes",Table2[Child Race: Native Hawaiian or Other Pacific Islander],"Yes"),"NA") -> NA | P6: =COUNTIFS(Table2[Was this child engaged in services during the report period?],"Yes",Table2[Child Race: American Indian or Alaska Native],"Yes") -> 0 | Q6: =IFERROR(COUNTIFS(Table2[Was this child engaged in services during the report period?],"Yes",Table2[Did the caregiver demonstrate goal criteria in Phase 2, Parent-Directed Interaction (PDI)?],"Yes",Table2[Child Race: American Indian or Alaska Native],"Yes")/COUNTIFS(Table2[Was this child engaged in services during the report period?],"Yes",Table2[Child Race: American Indian or Alaska Native],"Yes"),"NA") -> NA
B7: % of caregivers who have a decrease in ECBI score at service completion/discharge. | C7: 0.75 | D7: =COUNTIF(Table2[Did the case close during the report period?], "Yes") -> 0 | E7: =IFERROR(COUNTIFS(Table2[Did the case close during the report period?],"Yes",Table2[Did the caregiver have a decrease in ECBI score at service completion/discharge?],"Yes")/COUNTIF(Table2[Did the case close during the report period?],"Yes"),"NA") -> NA | F7: =COUNTIFS(Table2[Did the case close during the report period?],"Yes",Table2[Child Hispanic or Latino Ethnicity],"Yes") -> 0 | G7: =IFERROR(COUNTIFS(Table2[Did the case close during the report period?],"Yes",Table2[Did the caregiver have a decrease in ECBI score at service completion/discharge?],"Yes",Table2[Child Hispanic or Latino Ethnicity],"Yes")/COUNTIFS(Table2[Did the case close during the report period?],"Yes",Table2[Child Hispanic or Latino Ethnicity],"Yes"),"NA") -> NA | H7: =COUNTIFS(Table2[Did the case close during the report period?],"Yes",Table2[Child Race: White],"Yes") -> 0 | I7: =IFERROR(COUNTIFS(Table2[Did the case close during the report period?],"Yes",Table2[Did the caregiver have a decrease in ECBI score at service completion/discharge?],"Yes",Table2[Child Race: White],"Yes")/COUNTIFS(Table2[Did the case close during the report period?],"Yes",Table2[Child Race: White],"Yes"),"NA") -> NA | J7: =COUNTIFS(Table2[Did the case close during the report period?],"Yes",Table2[Child Race: Black or African American],"Yes") -> 0 | K7: =IFERROR(COUNTIFS(Table2[Did the case close during the report period?],"Yes",Table2[Did the caregiver have a decrease in ECBI score at service completion/discharge?],"Yes",Table2[Child Race: Black or African American],"Yes")/COUNTIFS(Table2[Did the case close during the report period?],"Yes",Table2[Child Race: Black or African American],"Yes"),"NA") -> NA | L7: =COUNTIFS(Table2[Did the case close during the report period?],"Yes",Table2[Child Race: Asian],"Yes") -> 0 | M7: =IFERROR(COUNTIFS(Table2[Did the case close during the report period?],"Yes",Table2[Did the caregiver have a decrease in ECBI score at service completion/discharge?],"Yes",Table2[Child Race: Asian],"Yes")/COUNTIFS(Table2[Did the case close during the report period?],"Yes",Table2[Child Race: Asian],"Yes"),"NA") -> NA | N7: =COUNTIFS(Table2[Did the case close during the report period?],"Yes",Table2[Child Race: Native Hawaiian or Other Pacific Islander],"Yes") -> 0 | O7: =IFERROR(COUNTIFS(Table2[Did the case close during the report period?],"Yes",Table2[Did the caregiver have a decrease in ECBI score at service completion/discharge?],"Yes",Table2[Child Race: Native Hawaiian or Other Pacific Islander],"Yes")/COUNTIFS(Table2[Did the case close during the report period?],"Yes",Table2[Child Race: Native Hawaiian or Other Pacific Islander],"Yes"),"NA") -> NA | P7: =COUNTIFS(Table2[Did the case close during the report period?],"Yes",Table2[Child Race: American Indian or Alaska Native],"Yes") -> 0 | Q7: =IFERROR(COUNTIFS(Table2[Did the case close during the report period?],"Yes",Table2[Did the caregiver have a decrease in ECBI score at service completion/discharge?],"Yes",Table2[Child Race: American Indian or Alaska Native],"Yes")/COUNTIFS(Table2[Did the case close during the report period?],"Yes",Table2[Child Race: American Indian or Alaska Native],"Yes"),"NA") -> NA
A8: Reduction in Negative Child Behaviors | B8: At case closure, % of children whose behavior is rated in the normal range (≤114) per the ECBI Intensity Scale. | C8: 0.75 | D8: =COUNTIF(Table2[Did the case close during the report period?], "Yes") -> 0 | E8: =IFERROR(COUNTIFS(Table2[Did the case close during the report period?],"Yes",Table2[If yes, was the child''s behavior rated in the normal range (≤114) on their most recent ECBI Intensity Scale?],"Yes")/COUNTIF(Table2[Did the case close during the report period?],"Yes"),"NA") -> NA | F8: =COUNTIFS(Table2[Did the case close during the report period?],"Yes",Table2[Child Hispanic or Latino Ethnicity],"Yes") -> 0 | G8: =IFERROR(COUNTIFS(Table2[Did the case close during the report period?],"Yes",Table2[If yes, was the child''s behavior rated in the normal range (≤114) on their most recent ECBI Intensity Scale?],"Yes",Table2[Child Hispanic or Latino Ethnicity],"Yes")/COUNTIFS(Table2[Did the case close during the report period?],"Yes",Table2[Child Hispanic or Latino Ethnicity],"Yes"),"NA") -> NA | H8: =COUNTIFS(Table2[Did the case close during the report period?],"Yes",Table2[Child Race: White],"Yes") -> 0 | I8: =IFERROR(COUNTIFS(Table2[Did the case close during the report period?],"Yes",Table2[If yes, was the child''s behavior rated in the normal range (≤114) on their most recent ECBI Intensity Scale?],"Yes",Table2[Child Race: White],"Yes")/COUNTIFS(Table2[Did the case close during the report period?],"Yes",Table2[Child Race: White],"Yes"),"NA") -> NA | J8: =COUNTIFS(Table2[Did the case close during the report period?],"Yes",Table2[Child Race: Black or African American],"Yes") -> 0 | K8: =IFERROR(COUNTIFS(Table2[Did the case close during the report period?],"Yes",Table2[If yes, was the child''s behavior rated in the normal range (≤114) on their most recent ECBI Intensity Scale?],"Yes",Table2[Child Race: Black or African American],"Yes")/COUNTIFS(Table2[Did the case close during the report period?],"Yes",Table2[Child Race: Black or African American],"Yes"),"NA") -> NA | L8: =COUNTIFS(Table2[Did the case close during the report period?],"Yes",Table2[Child Race: Asian],"Yes") -> 0 | M8: =IFERROR(COUNTIFS(Table2[Did the case close during the report period?],"Yes",Table2[If yes, was the child''s behavior rated in the normal range (≤114) on their most recent ECBI Intensity Scale?],"Yes",Table2[Child Race: Asian],"Yes")/COUNTIFS(Table2[Did the case close during the report period?],"Yes",Table2[Child Race: Asian],"Yes"),"NA") -> NA | N8: =COUNTIFS(Table2[Did the case close during the report period?],"Yes",Table2[Child Race: Native Hawaiian or Other Pacific Islander],"Yes") -> 0 | O8: =IFERROR(COUNTIFS(Table2[Did the case close during the report period?],"Yes",Table2[If yes, was the child''s behavior rated in the normal range (≤114) on their most recent ECBI Intensity Scale?],"Yes",Table2[Child Race: Native Hawaiian or Other Pacific Islander],"Yes")/COUNTIFS(Table2[Did the case close during the report period?],"Yes",Table2[Child Race: Native Hawaiian or Other Pacific Islander],"Yes"),"NA") -> NA | P8: =COUNTIFS(Table2[Did the case close during the report period?],"Yes",Table2[Child Race: American Indian or Alaska Native],"Yes") -> 0 | Q8: =IFERROR(COUNTIFS(Table2[Did the case close during the report period?],"Yes",Table2[If yes, was the child''s behavior rated in the normal range (≤114) on their most recent ECBI Intensity Scale?],"Yes",Table2[Child Race: American Indian or Alaska Native],"Yes")/COUNTIFS(Table2[Did the case close during the report period?],"Yes",Table2[Child Race: American Indian or Alaska Native],"Yes"),"NA") -> NA

Sheet Fidelity Aggregate
A1: This sheet will populate automatically based on the data entered in the Fidelity tab. Be sure to choose the correct reporting period on the Cover Sheet tab. If you encounter any issues with formatting or dropdown selections, reach out to the CDSS FFPS team for assistance: FFPSApreventionservices@dss.ca.gov. To keep a copy of your aggregate fidelity data for each reporting period, save a copy of this sheet and "Outcomes_Aggregate". These sheets will overwrite whenever you add new data. Reminder: The Required CWS-CARES Fidelity & Outcomes Reports are completed every six months. Providers are responsible for uploading their own model fidelity and outcomes documentation via the FFPSA portal in CARES. To prepare the Required CWS-CARES Fidelity & Outcomes Report: 1. For data due in March: Set the reporting period to begin September 01 of the prior year and end February 28th, (29th on leap years) of the current year. 2. For data due October: Set the reporting period to begin March 01 of the current year and end August 31st, of the current year. 3. Use the numbers in the "Percent" columns on this spreadsheet for the Required CWS-CARES Fidelity & Outcomes Report.
A2: Measure | B2: Indicator | C2: Target Level | D2: N | E2: Percent
A3: Provider Received & Maintained Required Training | B3: % of therapists who complete basic and consultation training. | C3: 100% | D3: =COUNTIF(Table5[Was this therapist employed by your agency during the report period?],"Yes") -> 0 | E3: =IFERROR(COUNTIFS(Table5[Was this therapist employed by your agency during the report period?],"Yes", Table5[Has this therapist completed basic and consultation training?], "Yes")/COUNTIF(Table5[Was this therapist employed by your agency during the report period?],"Yes"),"NA") -> NA
B4: % of therapists who complete at least 3 hours of PCIT Continuing Education credit. | C4: 100% | D4: =COUNTIF(Table5[Was this therapist employed by your agency during the report period?],"Yes") -> 0 | E4: =IFERROR(COUNTIFS(Table5[Was this therapist employed by your agency during the report period?],"Yes", Table5[Has this therapist completed at least 3 hours of PCIT continuing education credit?], "Yes")/COUNTIF(Table5[Was this therapist employed by your agency during the report period?],"Yes"),"NA") -> NA
A5: Meets Staffing Qualification Requirements | B5: % of therapists that have at least a master’s degree and are licensed as mental health practitioners. | C5: 100% | D5: =COUNTIF(Table5[Was this therapist employed by your agency during the report period?],"Yes") -> 0 | E5: =IFERROR(COUNTIFS(Table5[Was this therapist employed by your agency during the report period?],"Yes", Table5[Does this therapist have a master''s degree or higher?], "Yes", Table5[Is this therapist licensed?],"Yes")/COUNTIF(Table5[Was this therapist employed by your agency during the report period?],"Yes"),"NA") -> NA
A6: Use of Eyberg Child Behavior Inventory (ECBI) or Use of the Weekly Assessment of Child Behavior (WACB) | B6: % of cases where ECBI was completed for every session. OR % of cases where the WACB was completed for every session. | C6: 90% | D6: =COUNTIF(Table2[Was this child engaged in services during the report period?], "Yes") -> 0 | E6: =IFERROR(COUNTIFS(Table2[Was this child engaged in services during the report period?],"Yes", Table2[Has an ECBI or WACB been completed for every session so far?], "Yes")/COUNTIF(Table2[Was this child engaged in services during the report period?],"Yes"),"NA") -> NA
A7: Use of Dyadic Parent-Child Coding System (DPICS-IV) | B7: % of cases were DPICS-IV was completed for every session, except session when the child is not present. | C7: 90% | D7: =COUNTIF(Table2[Was this child engaged in services during the report period?], "Yes") -> 0 | E7: =IFERROR(COUNTIFS(Table2[Was this child engaged in services during the report period?],"Yes", Table2[Was a DPICS-IV completed for every session so far except when the child was not present?], "Yes")/COUNTIF(Table2[Was this child engaged in services during the report period?],"Yes"),"NA") -> NA

Sheet County Names to hide
A1: Counties | B1: Today's Date | C1: Start of Quarter | D1: End of Quarter
A2: Alameda | B2: =TODAY() -> 46307 | C2: =DATE(#REF!, CHOOSE(MATCH(#REF!, {"January-March","April-June","July-September","October-December"}, 0), 1, 4, 7, 10), 1) -> #REF! | D2: =EOMONTH(DATE(#REF!, CHOOSE(MATCH(#REF!, {"January-March","April-June","July-September","October-December"}, 0), 3, 6, 9, 12), 1), 0) -> #REF!
A3: Alpine
A4: Amador
A5: Butte
A6: Calaveras
A7: Colusa
A8: Contra Costa
A9: Del Norte
A10: El Dorado
A11: Fresno
A12: Glenn
A13: Humboldt
A14: Imperial
... A59: Yuba
